| Back to Multiple platform build/check report for BioC 3.8 | 
 | 
This page was generated on 2019-04-16 11:56:28 -0400 (Tue, 16 Apr 2019).
| Package 1630/1649 | Hostname | OS / Arch | INSTALL | BUILD | CHECK | BUILD BIN | ||||||
| waveTiling 1.24.0 Kristof De Beuf 
 | malbec1 | Linux (Ubuntu 16.04.6 LTS) / x86_64 | OK | OK | OK |  | ||||||
| merida1 | OS X 10.11.6 El Capitan / x86_64 | OK | [ OK ] | OK | OK |  | 
| Package: waveTiling | 
| Version: 1.24.0 | 
| Command: /Library/Frameworks/R.framework/Versions/Current/Resources/bin/R CMD build --keep-empty-dirs --no-resave-data waveTiling | 
| StartedAt: 2019-04-15 19:38:43 -0400 (Mon, 15 Apr 2019) | 
| EndedAt: 2019-04-15 19:41:42 -0400 (Mon, 15 Apr 2019) | 
| EllapsedTime: 179.6 seconds | 
| RetCode: 0 | 
| Status: OK | 
| PackageFile: waveTiling_1.24.0.tar.gz | 
| PackageFileSize: 416.2 KiB | 
############################################################################## ############################################################################## ### ### Running command: ### ### /Library/Frameworks/R.framework/Versions/Current/Resources/bin/R CMD build --keep-empty-dirs --no-resave-data waveTiling ### ############################################################################## ############################################################################## * checking for file ‘waveTiling/DESCRIPTION’ ... OK * preparing ‘waveTiling’: * checking DESCRIPTION meta-information ... OK * cleaning src * installing the package to build vignettes * creating vignettes ... OK * cleaning src * checking for LF line-endings in source and make files and shell scripts * checking for empty or unneeded directories * building ‘waveTiling_1.24.0.tar.gz’