| Back to Multiple platform build/check report for BioC 3.8 |
|
This page was generated on 2019-04-16 11:49:41 -0400 (Tue, 16 Apr 2019).
| Package 1630/1649 | Hostname | OS / Arch | INSTALL | BUILD | CHECK | BUILD BIN | ||||||
| waveTiling 1.24.0 Kristof De Beuf
| malbec1 | Linux (Ubuntu 16.04.6 LTS) / x86_64 | [ OK ] | OK | OK | |||||||
| merida1 | OS X 10.11.6 El Capitan / x86_64 | OK | OK | OK | OK |
| Package: waveTiling |
| Version: 1.24.0 |
| Command: /home/biocbuild/bbs-3.8-bioc/R/bin/R CMD INSTALL waveTiling |
| StartedAt: 2019-04-15 18:15:32 -0400 (Mon, 15 Apr 2019) |
| EndedAt: 2019-04-15 18:15:58 -0400 (Mon, 15 Apr 2019) |
| EllapsedTime: 26.9 seconds |
| RetCode: 0 |
| Status: OK |
##############################################################################
##############################################################################
###
### Running command:
###
### /home/biocbuild/bbs-3.8-bioc/R/bin/R CMD INSTALL waveTiling
###
##############################################################################
##############################################################################
* installing to library ‘/home/biocbuild/bbs-3.8-bioc/R/library’
* installing *source* package ‘waveTiling’ ...
** libs
gcc -I"/home/biocbuild/bbs-3.8-bioc/R/include" -DNDEBUG -I/usr/local/include -fpic -g -O2 -Wall -c waveTiling.c -o waveTiling.o
waveTiling.c: In function ‘MAPMARG’:
waveTiling.c:10:11: warning: unused variable ‘n’ [-Wunused-variable]
int i,j,m,n,Jcount=0;
^
waveTiling.c: In function ‘MAPMARGEQSMOOTH’:
waveTiling.c:43:11: warning: unused variable ‘n’ [-Wunused-variable]
int i,j,m,n,Jcount=0;
^
waveTiling.c: In function ‘MAPMARGIMP’:
waveTiling.c:81:11: warning: unused variable ‘n’ [-Wunused-variable]
int i,j,m,n,Jcount=0;
^
waveTiling.c: In function ‘MAPMARGIMPEQSMOOTH’:
waveTiling.c:114:11: warning: unused variable ‘n’ [-Wunused-variable]
int i,j,m,n,Jcount=0;
^
gcc -shared -L/home/biocbuild/bbs-3.8-bioc/R/lib -L/usr/local/lib -o waveTiling.so waveTiling.o -L/home/biocbuild/bbs-3.8-bioc/R/lib -lR
installing to /home/biocbuild/bbs-3.8-bioc/R/library/waveTiling/libs
** R
** inst
** byte-compile and prepare package for lazy loading
** help
*** installing help indices
** building package indices
** installing vignettes
** testing if installed package can be loaded
* DONE (waveTiling)