| Back to Multiple platform build/check report for BioC 3.8 |
|
This page was generated on 2019-04-13 11:20:58 -0400 (Sat, 13 Apr 2019).
| Package 944/1649 | Hostname | OS / Arch | INSTALL | BUILD | CHECK | BUILD BIN | ||||||
| methylumi 2.28.0 Sean Davis
| malbec1 | Linux (Ubuntu 16.04.6 LTS) / x86_64 | OK | OK | WARNINGS | |||||||
| tokay1 | Windows Server 2012 R2 Standard / x64 | OK | [ OK ] | WARNINGS | OK | |||||||
| merida1 | OS X 10.11.6 El Capitan / x86_64 | OK | OK | WARNINGS | OK |
| Package: methylumi |
| Version: 2.28.0 |
| Command: chmod a+r methylumi -R && C:\Users\biocbuild\bbs-3.8-bioc\R\bin\R.exe CMD build --keep-empty-dirs --no-resave-data methylumi |
| StartedAt: 2019-04-12 21:05:30 -0400 (Fri, 12 Apr 2019) |
| EndedAt: 2019-04-12 21:13:07 -0400 (Fri, 12 Apr 2019) |
| EllapsedTime: 456.6 seconds |
| RetCode: 0 |
| Status: OK |
| PackageFile: methylumi_2.28.0.tar.gz |
| PackageFileSize: 5.895 MiB |
##############################################################################
##############################################################################
###
### Running command:
###
### chmod a+r methylumi -R && C:\Users\biocbuild\bbs-3.8-bioc\R\bin\R.exe CMD build --keep-empty-dirs --no-resave-data methylumi
###
##############################################################################
##############################################################################
* checking for file 'methylumi/DESCRIPTION' ... OK
* preparing 'methylumi':
* checking DESCRIPTION meta-information ... OK
* installing the package to build vignettes
* creating vignettes ... OK
Warning: 'inst/doc' file
'methylumi450k.R'
ignored as vignettes have been rebuilt.
Run R CMD build with --no-build-vignettes to prevent rebuilding.
* checking for LF line-endings in source and make files and shell scripts
* checking for empty or unneeded directories
* looking to see if a 'data/datalist' file should be added
* building 'methylumi_2.28.0.tar.gz'