| Back to Multiple platform build/check report for BioC 3.8 |
|
This page was generated on 2019-04-13 11:20:58 -0400 (Sat, 13 Apr 2019).
| Package 944/1649 | Hostname | OS / Arch | INSTALL | BUILD | CHECK | BUILD BIN | ||||||
| methylumi 2.28.0 Sean Davis
| malbec1 | Linux (Ubuntu 16.04.6 LTS) / x86_64 | OK | OK | WARNINGS | |||||||
| tokay1 | Windows Server 2012 R2 Standard / x64 | OK | OK | WARNINGS | [ OK ] | |||||||
| merida1 | OS X 10.11.6 El Capitan / x86_64 | OK | OK | WARNINGS | OK |
| Package: methylumi |
| Version: 2.28.0 |
| Command: rm -rf methylumi.buildbin-libdir && mkdir methylumi.buildbin-libdir && C:\Users\biocbuild\bbs-3.8-bioc\R\bin\R.exe CMD INSTALL --merge-multiarch --build --library=methylumi.buildbin-libdir methylumi_2.28.0.tar.gz |
| StartedAt: 2019-04-13 07:38:34 -0400 (Sat, 13 Apr 2019) |
| EndedAt: 2019-04-13 07:39:38 -0400 (Sat, 13 Apr 2019) |
| EllapsedTime: 63.8 seconds |
| RetCode: 0 |
| Status: OK |
| PackageFile: methylumi_2.28.0.zip |
| PackageFileSize: 6.996 MiB |
##############################################################################
##############################################################################
###
### Running command:
###
### rm -rf methylumi.buildbin-libdir && mkdir methylumi.buildbin-libdir && C:\Users\biocbuild\bbs-3.8-bioc\R\bin\R.exe CMD INSTALL --merge-multiarch --build --library=methylumi.buildbin-libdir methylumi_2.28.0.tar.gz
###
##############################################################################
##############################################################################
install for i386
* installing *source* package 'methylumi' ...
** R
** data
** inst
** byte-compile and prepare package for lazy loading
** help
*** installing help indices
converting help for package 'methylumi'
finding HTML links ... done
CpGs html
MethyLumi-class html
finding level-2 HTML links ... done
MethyLumiM-class html
Rd warning: C:/Users/biocbuild/bbs-3.8-bioc/tmpdir/RtmpOeGynJ/R.INSTALL379050fd7a35/methylumi/man/MethyLumiM-class.Rd:41: file link 'ExpressionSet-class' in package 'Biobase' does not exist and so has been treated as a topic
Rd warning: C:/Users/biocbuild/bbs-3.8-bioc/tmpdir/RtmpOeGynJ/R.INSTALL379050fd7a35/methylumi/man/MethyLumiM-class.Rd:41: file link 'eSet-class' in package 'Biobase' does not exist and so has been treated as a topic
Rd warning: C:/Users/biocbuild/bbs-3.8-bioc/tmpdir/RtmpOeGynJ/R.INSTALL379050fd7a35/methylumi/man/MethyLumiM-class.Rd:53: file link 'eSet-class' in package 'Biobase' does not exist and so has been treated as a topic
Rd warning: C:/Users/biocbuild/bbs-3.8-bioc/tmpdir/RtmpOeGynJ/R.INSTALL379050fd7a35/methylumi/man/MethyLumiM-class.Rd:54: file link 'eSet-class' in package 'Biobase' does not exist and so has been treated as a topic
Rd warning: C:/Users/biocbuild/bbs-3.8-bioc/tmpdir/RtmpOeGynJ/R.INSTALL379050fd7a35/methylumi/man/MethyLumiM-class.Rd:55: file link 'eSet-class' in package 'Biobase' does not exist and so has been treated as a topic
Rd warning: C:/Users/biocbuild/bbs-3.8-bioc/tmpdir/RtmpOeGynJ/R.INSTALL379050fd7a35/methylumi/man/MethyLumiM-class.Rd:56: file link 'eSet-class' in package 'Biobase' does not exist and so has been treated as a topic
Rd warning: C:/Users/biocbuild/bbs-3.8-bioc/tmpdir/RtmpOeGynJ/R.INSTALL379050fd7a35/methylumi/man/MethyLumiM-class.Rd:57: file link 'eSet-class' in package 'Biobase' does not exist and so has been treated as a topic
Rd warning: C:/Users/biocbuild/bbs-3.8-bioc/tmpdir/RtmpOeGynJ/R.INSTALL379050fd7a35/methylumi/man/MethyLumiM-class.Rd:58: file link 'eSet-class' in package 'Biobase' does not exist and so has been treated as a topic
Rd warning: C:/Users/biocbuild/bbs-3.8-bioc/tmpdir/RtmpOeGynJ/R.INSTALL379050fd7a35/methylumi/man/MethyLumiM-class.Rd:70: file link 'eSet-class' in package 'Biobase' does not exist and so has been treated as a topic
MethyLumiQC-class html
MethyLumiSet-class html
estimateM html
extractBarcodeAndPosition html
featureFilter html
generics html
getAssayDataNameSubstitutions html
methylData-class html
methylumIDAT html
methylumi-package html
methylumiGenerics html
methylumiR html
mldat html
normalizeMethyLumiSet html
plotSampleIntensities html
qcplot html
stripBeadExtras html
varFilter html
** building package indices
** installing vignettes
** testing if installed package can be loaded
In R CMD INSTALL
install for x64
* installing *source* package 'methylumi' ...
** testing if installed package can be loaded
* MD5 sums
packaged installation of 'methylumi' as methylumi_2.28.0.zip
* DONE (methylumi)
In R CMD INSTALL
In R CMD INSTALL