| Back to Multiple platform build/check report for BioC 3.8 |
|
This page was generated on 2019-04-16 11:48:44 -0400 (Tue, 16 Apr 2019).
| Package 944/1649 | Hostname | OS / Arch | INSTALL | BUILD | CHECK | BUILD BIN | ||||||
| methylumi 2.28.0 Sean Davis
| malbec1 | Linux (Ubuntu 16.04.6 LTS) / x86_64 | OK | [ OK ] | WARNINGS | |||||||
| merida1 | OS X 10.11.6 El Capitan / x86_64 | OK | OK | WARNINGS | OK |
| Package: methylumi |
| Version: 2.28.0 |
| Command: /home/biocbuild/bbs-3.8-bioc/R/bin/R CMD build --keep-empty-dirs --no-resave-data methylumi |
| StartedAt: 2019-04-15 18:51:23 -0400 (Mon, 15 Apr 2019) |
| EndedAt: 2019-04-15 18:56:42 -0400 (Mon, 15 Apr 2019) |
| EllapsedTime: 319.6 seconds |
| RetCode: 0 |
| Status: OK |
| PackageFile: methylumi_2.28.0.tar.gz |
| PackageFileSize: 5.893 MiB |
##############################################################################
##############################################################################
###
### Running command:
###
### /home/biocbuild/bbs-3.8-bioc/R/bin/R CMD build --keep-empty-dirs --no-resave-data methylumi
###
##############################################################################
##############################################################################
* checking for file ‘methylumi/DESCRIPTION’ ... OK
* preparing ‘methylumi’:
* checking DESCRIPTION meta-information ... OK
* installing the package to build vignettes
* creating vignettes ... OK
Warning: ‘inst/doc’ file
‘methylumi450k.R’
ignored as vignettes have been rebuilt.
Run R CMD build with --no-build-vignettes to prevent rebuilding.
* checking for LF line-endings in source and make files and shell scripts
* checking for empty or unneeded directories
* looking to see if a ‘data/datalist’ file should be added
* building ‘methylumi_2.28.0.tar.gz’