| Back to Multiple platform build/check report for BioC 3.8 | 
 | 
This page was generated on 2019-04-16 11:59:00 -0400 (Tue, 16 Apr 2019).
| Package 751/1649 | Hostname | OS / Arch | INSTALL | BUILD | CHECK | BUILD BIN | ||||||
| iCheck 1.12.0 Weiliang Qiu 
 | malbec1 | Linux (Ubuntu 16.04.6 LTS) / x86_64 | OK | OK | OK |  | ||||||
| merida1 | OS X 10.11.6 El Capitan / x86_64 | OK | [ OK ] | WARNINGS | OK |  | 
| Package: iCheck | 
| Version: 1.12.0 | 
| Command: /Library/Frameworks/R.framework/Versions/Current/Resources/bin/R CMD build --keep-empty-dirs --no-resave-data iCheck | 
| StartedAt: 2019-04-15 20:32:52 -0400 (Mon, 15 Apr 2019) | 
| EndedAt: 2019-04-15 20:34:07 -0400 (Mon, 15 Apr 2019) | 
| EllapsedTime: 74.5 seconds | 
| RetCode: 0 | 
| Status: OK | 
| PackageFile: iCheck_1.12.0.tar.gz | 
| PackageFileSize: 479.6 KiB | 
############################################################################## ############################################################################## ### ### Running command: ### ### /Library/Frameworks/R.framework/Versions/Current/Resources/bin/R CMD build --keep-empty-dirs --no-resave-data iCheck ### ############################################################################## ############################################################################## * checking for file ‘iCheck/DESCRIPTION’ ... OK * preparing ‘iCheck’: * checking DESCRIPTION meta-information ... OK * checking whether ‘INDEX’ is up-to-date ... NO * use ‘--force’ to remove the existing ‘INDEX’ * installing the package to build vignettes * creating vignettes ... OK * checking for LF line-endings in source and make files and shell scripts * checking for empty or unneeded directories * building ‘iCheck_1.12.0.tar.gz’