| Back to Multiple platform build/check report for BioC 3.8 | 
 | 
This page was generated on 2019-04-16 11:59:00 -0400 (Tue, 16 Apr 2019).
| Package 751/1649 | Hostname | OS / Arch | INSTALL | BUILD | CHECK | BUILD BIN | ||||||
| iCheck 1.12.0 Weiliang Qiu 
 | malbec1 | Linux (Ubuntu 16.04.6 LTS) / x86_64 | OK | OK | OK |  | ||||||
| merida1 | OS X 10.11.6 El Capitan / x86_64 | OK | OK | WARNINGS | [ OK ] |  | 
| Package: iCheck | 
| Version: 1.12.0 | 
| Command: rm -rf iCheck.buildbin-libdir && mkdir iCheck.buildbin-libdir && /Users/biocbuild/BBS/utils/build-universal.sh iCheck_1.12.0.tar.gz /Library/Frameworks/R.framework/Versions/Current/Resources/bin/R iCheck.buildbin-libdir | 
| StartedAt: 2019-04-16 04:13:30 -0400 (Tue, 16 Apr 2019) | 
| EndedAt: 2019-04-16 04:14:13 -0400 (Tue, 16 Apr 2019) | 
| EllapsedTime: 43.2 seconds | 
| RetCode: 0 | 
| Status: OK | 
| PackageFile: iCheck_1.12.0.tgz | 
| PackageFileSize: 690 KiB | 
############################################################################## ############################################################################## ### ### Running command: ### ### rm -rf iCheck.buildbin-libdir && mkdir iCheck.buildbin-libdir && /Users/biocbuild/BBS/utils/build-universal.sh iCheck_1.12.0.tar.gz /Library/Frameworks/R.framework/Versions/Current/Resources/bin/R iCheck.buildbin-libdir ### ############################################################################## ############################################################################## >>>>>>> >>>>>>> INSTALLATION WITH 'R CMD INSTALL --preclean --no-multiarch --library=iCheck.buildbin-libdir iCheck_1.12.0.tar.gz' >>>>>>> * installing *source* package ‘iCheck’ ... ** R ** inst ** byte-compile and prepare package for lazy loading Warning in rgl.init(initValue, onlyNULL) : RGL: GLX extension missing on server Warning: 'rgl_init' failed, running with rgl.useNULL = TRUE ** help *** installing help indices ** building package indices ** installing vignettes ** testing if installed package can be loaded Warning in rgl.init(initValue, onlyNULL) : RGL: GLX extension missing on server Warning: 'rgl_init' failed, running with rgl.useNULL = TRUE * DONE (iCheck)