| Back to Multiple platform build/check report for BioC 3.8 |
|
This page was generated on 2019-04-16 11:59:45 -0400 (Tue, 16 Apr 2019).
| Package 277/1649 | Hostname | OS / Arch | INSTALL | BUILD | CHECK | BUILD BIN | ||||||
| clusterExperiment 2.2.0 Elizabeth Purdom
| malbec1 | Linux (Ubuntu 16.04.6 LTS) / x86_64 | OK | OK | WARNINGS | |||||||
| merida1 | OS X 10.11.6 El Capitan / x86_64 | [ ERROR ] | ERROR | skipped | skipped |
| Package: clusterExperiment |
| Version: 2.2.0 |
| Command: /Library/Frameworks/R.framework/Versions/Current/Resources/bin/R CMD INSTALL clusterExperiment |
| StartedAt: 2019-04-15 18:48:58 -0400 (Mon, 15 Apr 2019) |
| EndedAt: 2019-04-15 18:49:00 -0400 (Mon, 15 Apr 2019) |
| EllapsedTime: 2.2 seconds |
| RetCode: 1 |
| Status: ERROR |
############################################################################## ############################################################################## ### ### Running command: ### ### /Library/Frameworks/R.framework/Versions/Current/Resources/bin/R CMD INSTALL clusterExperiment ### ############################################################################## ############################################################################## * installing to library ‘/Library/Frameworks/R.framework/Versions/3.5/Resources/library’ ERROR: dependency ‘zinbwave’ is not available for package ‘clusterExperiment’ * removing ‘/Library/Frameworks/R.framework/Versions/3.5/Resources/library/clusterExperiment’