| Back to Multiple platform build/check report for BioC 3.8 |
|
This page was generated on 2019-04-16 11:59:45 -0400 (Tue, 16 Apr 2019).
| Package 277/1649 | Hostname | OS / Arch | INSTALL | BUILD | CHECK | BUILD BIN | ||||||
| clusterExperiment 2.2.0 Elizabeth Purdom
| malbec1 | Linux (Ubuntu 16.04.6 LTS) / x86_64 | OK | OK | WARNINGS | |||||||
| merida1 | OS X 10.11.6 El Capitan / x86_64 | ERROR | [ ERROR ] | skipped | skipped |
| Package: clusterExperiment |
| Version: 2.2.0 |
| Command: /Library/Frameworks/R.framework/Versions/Current/Resources/bin/R CMD build --keep-empty-dirs --no-resave-data clusterExperiment |
| StartedAt: 2019-04-15 20:59:27 -0400 (Mon, 15 Apr 2019) |
| EndedAt: 2019-04-15 20:59:40 -0400 (Mon, 15 Apr 2019) |
| EllapsedTime: 12.2 seconds |
| RetCode: 1 |
| Status: ERROR |
| PackageFile: None |
| PackageFileSize: NA |
##############################################################################
##############################################################################
###
### Running command:
###
### /Library/Frameworks/R.framework/Versions/Current/Resources/bin/R CMD build --keep-empty-dirs --no-resave-data clusterExperiment
###
##############################################################################
##############################################################################
* checking for file ‘clusterExperiment/DESCRIPTION’ ... OK
* preparing ‘clusterExperiment’:
* checking DESCRIPTION meta-information ... OK
* cleaning src
* installing the package to build vignettes
-----------------------------------
ERROR: dependency ‘zinbwave’ is not available for package ‘clusterExperiment’
* removing ‘/private/tmp/RtmpPAoDcd/Rinst68a5764d1764/clusterExperiment’
-----------------------------------
ERROR: package installation failed