| Back to Multiple platform build/check report for BioC 3.8 |
|
This page was generated on 2019-04-13 11:26:00 -0400 (Sat, 13 Apr 2019).
| Package 1203/1649 | Hostname | OS / Arch | INSTALL | BUILD | CHECK | BUILD BIN | ||||||
| Prostar 1.14.12 Samuel Wieczorek
| malbec1 | Linux (Ubuntu 16.04.6 LTS) / x86_64 | OK | OK | OK | |||||||
| tokay1 | Windows Server 2012 R2 Standard / x64 | OK | OK | OK | [ OK ] | |||||||
| merida1 | OS X 10.11.6 El Capitan / x86_64 | OK | OK | OK | OK |
| Package: Prostar |
| Version: 1.14.12 |
| Command: rm -rf Prostar.buildbin-libdir && mkdir Prostar.buildbin-libdir && C:\Users\biocbuild\bbs-3.8-bioc\R\bin\R.exe CMD INSTALL --merge-multiarch --build --library=Prostar.buildbin-libdir Prostar_1.14.12.tar.gz |
| StartedAt: 2019-04-13 07:47:32 -0400 (Sat, 13 Apr 2019) |
| EndedAt: 2019-04-13 07:48:08 -0400 (Sat, 13 Apr 2019) |
| EllapsedTime: 35.4 seconds |
| RetCode: 0 |
| Status: OK |
| PackageFile: Prostar_1.14.12.zip |
| PackageFileSize: 2.712 MiB |
##############################################################################
##############################################################################
###
### Running command:
###
### rm -rf Prostar.buildbin-libdir && mkdir Prostar.buildbin-libdir && C:\Users\biocbuild\bbs-3.8-bioc\R\bin\R.exe CMD INSTALL --merge-multiarch --build --library=Prostar.buildbin-libdir Prostar_1.14.12.tar.gz
###
##############################################################################
##############################################################################
install for i386
* installing *source* package 'Prostar' ...
** R
** inst
** byte-compile and prepare package for lazy loading
** help
*** installing help indices
converting help for package 'Prostar'
finding HTML links ... done
Prostar html
** building package indices
** installing vignettes
** testing if installed package can be loaded
In R CMD INSTALL
install for x64
* installing *source* package 'Prostar' ...
** testing if installed package can be loaded
* MD5 sums
packaged installation of 'Prostar' as Prostar_1.14.12.zip
* DONE (Prostar)
In R CMD INSTALL
In R CMD INSTALL