| Back to Multiple platform build/check report for BioC 3.8 | 
 | 
This page was generated on 2019-04-16 11:59:01 -0400 (Tue, 16 Apr 2019).
| Package 1203/1649 | Hostname | OS / Arch | INSTALL | BUILD | CHECK | BUILD BIN | ||||||
| Prostar 1.14.12 Samuel Wieczorek 
 | malbec1 | Linux (Ubuntu 16.04.6 LTS) / x86_64 | OK | OK | OK |  | ||||||
| merida1 | OS X 10.11.6 El Capitan / x86_64 | OK | OK | OK | [ OK ] |  | 
| Package: Prostar | 
| Version: 1.14.12 | 
| Command: rm -rf Prostar.buildbin-libdir && mkdir Prostar.buildbin-libdir && /Users/biocbuild/BBS/utils/build-universal.sh Prostar_1.14.12.tar.gz /Library/Frameworks/R.framework/Versions/Current/Resources/bin/R Prostar.buildbin-libdir | 
| StartedAt: 2019-04-16 04:33:59 -0400 (Tue, 16 Apr 2019) | 
| EndedAt: 2019-04-16 04:34:40 -0400 (Tue, 16 Apr 2019) | 
| EllapsedTime: 41.2 seconds | 
| RetCode: 0 | 
| Status: OK | 
| PackageFile: Prostar_1.14.12.tgz | 
| PackageFileSize: 2.671 MiB | 
############################################################################## ############################################################################## ### ### Running command: ### ### rm -rf Prostar.buildbin-libdir && mkdir Prostar.buildbin-libdir && /Users/biocbuild/BBS/utils/build-universal.sh Prostar_1.14.12.tar.gz /Library/Frameworks/R.framework/Versions/Current/Resources/bin/R Prostar.buildbin-libdir ### ############################################################################## ############################################################################## >>>>>>> >>>>>>> INSTALLATION WITH 'R CMD INSTALL --preclean --no-multiarch --library=Prostar.buildbin-libdir Prostar_1.14.12.tar.gz' >>>>>>> * installing *source* package ‘Prostar’ ... ** R ** inst ** byte-compile and prepare package for lazy loading ** help *** installing help indices ** building package indices ** installing vignettes ** testing if installed package can be loaded * DONE (Prostar)