| Back to Multiple platform build/check report for BioC 3.8 | 
 | 
This page was generated on 2019-04-16 11:59:01 -0400 (Tue, 16 Apr 2019).
| Package 1203/1649 | Hostname | OS / Arch | INSTALL | BUILD | CHECK | BUILD BIN | ||||||
| Prostar 1.14.12 Samuel Wieczorek 
 | malbec1 | Linux (Ubuntu 16.04.6 LTS) / x86_64 | OK | OK | OK |  | ||||||
| merida1 | OS X 10.11.6 El Capitan / x86_64 | OK | [ OK ] | OK | OK |  | 
| Package: Prostar | 
| Version: 1.14.12 | 
| Command: /Library/Frameworks/R.framework/Versions/Current/Resources/bin/R CMD build --keep-empty-dirs --no-resave-data Prostar | 
| StartedAt: 2019-04-15 20:33:31 -0400 (Mon, 15 Apr 2019) | 
| EndedAt: 2019-04-15 20:34:24 -0400 (Mon, 15 Apr 2019) | 
| EllapsedTime: 53.0 seconds | 
| RetCode: 0 | 
| Status: OK | 
| PackageFile: Prostar_1.14.12.tar.gz | 
| PackageFileSize: 4.471 MiB | 
############################################################################## ############################################################################## ### ### Running command: ### ### /Library/Frameworks/R.framework/Versions/Current/Resources/bin/R CMD build --keep-empty-dirs --no-resave-data Prostar ### ############################################################################## ############################################################################## * checking for file ‘Prostar/DESCRIPTION’ ... OK * preparing ‘Prostar’: * checking DESCRIPTION meta-information ... OK * installing the package to build vignettes * creating vignettes ... OK * checking for LF line-endings in source and make files and shell scripts * checking for empty or unneeded directories * building ‘Prostar_1.14.12.tar.gz’