| Back to Multiple platform build/check report for BioC 3.8 | 
 | 
This page was generated on 2019-04-16 12:03:58 -0400 (Tue, 16 Apr 2019).
| Package 835/1649 | Hostname | OS / Arch | INSTALL | BUILD | CHECK | BUILD BIN | ||||||
| LineagePulse 1.2.1 David S Fischer 
 | malbec1 | Linux (Ubuntu 16.04.6 LTS) / x86_64 | OK | OK | WARNINGS |  | ||||||
| merida1 | OS X 10.11.6 El Capitan / x86_64 | [ OK ] | OK | WARNINGS | OK |  | 
| Package: LineagePulse | 
| Version: 1.2.1 | 
| Command: /Library/Frameworks/R.framework/Versions/Current/Resources/bin/R CMD INSTALL LineagePulse | 
| StartedAt: 2019-04-15 18:31:22 -0400 (Mon, 15 Apr 2019) | 
| EndedAt: 2019-04-15 18:31:43 -0400 (Mon, 15 Apr 2019) | 
| EllapsedTime: 21.0 seconds | 
| RetCode: 0 | 
| Status: OK | 
############################################################################## ############################################################################## ### ### Running command: ### ### /Library/Frameworks/R.framework/Versions/Current/Resources/bin/R CMD INSTALL LineagePulse ### ############################################################################## ############################################################################## * installing to library ‘/Library/Frameworks/R.framework/Versions/3.5/Resources/library’ * installing *source* package ‘LineagePulse’ ... ** R ** inst ** byte-compile and prepare package for lazy loading Note: possible error in 'evalLogLikGeneMM(vecCounts = vecCounts, ': unused arguments (matDispParam = matDispParam, matDropParam = matDropParam, matWeights = matWeights) Note: possible error in 'evalLogLikGeneMM(vecCounts = vecCounts, ': unused arguments (matDispParam = do.call(cbind, lapply(seq_len(ncol(matWeights)), function(m) vecDispParam)), matDropParam = do.call(cbind, lapply(seq_len(ncol(matWeights)), function(m) vecPiParam)), matWeights = matWeights) ** help *** installing help indices ** building package indices ** installing vignettes ** testing if installed package can be loaded * DONE (LineagePulse)