| Back to Multiple platform build/check report for BioC 3.8 | 
 | 
This page was generated on 2019-04-16 12:04:01 -0400 (Tue, 16 Apr 2019).
| Package 835/1649 | Hostname | OS / Arch | INSTALL | BUILD | CHECK | BUILD BIN | ||||||
| LineagePulse 1.2.1 David S Fischer 
 | malbec1 | Linux (Ubuntu 16.04.6 LTS) / x86_64 | OK | OK | WARNINGS |  | ||||||
| merida1 | OS X 10.11.6 El Capitan / x86_64 | OK | OK | WARNINGS | [ OK ] |  | 
| Package: LineagePulse | 
| Version: 1.2.1 | 
| Command: rm -rf LineagePulse.buildbin-libdir && mkdir LineagePulse.buildbin-libdir && /Users/biocbuild/BBS/utils/build-universal.sh LineagePulse_1.2.1.tar.gz /Library/Frameworks/R.framework/Versions/Current/Resources/bin/R LineagePulse.buildbin-libdir | 
| StartedAt: 2019-04-16 04:17:19 -0400 (Tue, 16 Apr 2019) | 
| EndedAt: 2019-04-16 04:18:05 -0400 (Tue, 16 Apr 2019) | 
| EllapsedTime: 45.5 seconds | 
| RetCode: 0 | 
| Status: OK | 
| PackageFile: LineagePulse_1.2.1.tgz | 
| PackageFileSize: 726.1 KiB | 
############################################################################## ############################################################################## ### ### Running command: ### ### rm -rf LineagePulse.buildbin-libdir && mkdir LineagePulse.buildbin-libdir && /Users/biocbuild/BBS/utils/build-universal.sh LineagePulse_1.2.1.tar.gz /Library/Frameworks/R.framework/Versions/Current/Resources/bin/R LineagePulse.buildbin-libdir ### ############################################################################## ############################################################################## >>>>>>> >>>>>>> INSTALLATION WITH 'R CMD INSTALL --preclean --no-multiarch --library=LineagePulse.buildbin-libdir LineagePulse_1.2.1.tar.gz' >>>>>>> * installing *source* package ‘LineagePulse’ ... ** R ** inst ** byte-compile and prepare package for lazy loading Note: possible error in 'evalLogLikGeneMM(vecCounts = vecCounts, ': unused arguments (matDispParam = matDispParam, matDropParam = matDropParam, matWeights = matWeights) Note: possible error in 'evalLogLikGeneMM(vecCounts = vecCounts, ': unused arguments (matDispParam = do.call(cbind, lapply(seq_len(ncol(matWeights)), function(m) vecDispParam)), matDropParam = do.call(cbind, lapply(seq_len(ncol(matWeights)), function(m) vecPiParam)), matWeights = matWeights) ** help *** installing help indices ** building package indices ** installing vignettes ** testing if installed package can be loaded * DONE (LineagePulse)