This page was generated on 2018-10-15 12:45:19 -0400 (Mon, 15 Oct 2018).
| malbec2 | 
Linux (Ubuntu 16.04.1 LTS) / x86_64  |  |  |  | 
| tokay2 | 
Windows Server 2012 R2 Standard / x64  |  |  |  | 
annotation 1.2.0 Bioconductor Package Maintainer
 
| Last Commit: 74b0e70 |  
| Last Changed Date: 2018-04-30 10:07:09 -0400 |  
 
 | malbec2  | Linux (Ubuntu 16.04.1 LTS) / x86_64  |  OK  |  OK  |   | 
| tokay2  | Windows Server 2012 R2 Standard / x64  |  OK  |  ERROR  |  | 
arrays 1.4.0 Bioconductor Package Maintainer
 
| Last Commit: 0b23cf3 |  
| Last Changed Date: 2018-04-30 10:07:09 -0400 |  
 
 | malbec2  | Linux (Ubuntu 16.04.1 LTS) / x86_64  |  OK  |  OK  |   | 
| tokay2  | Windows Server 2012 R2 Standard / x64  |  OK  |  OK  |  | 
BiocMetaWorkflow 1.0.0 Mike Smith
 
| Last Commit: a2556bc |  
| Last Changed Date: 2018-04-30 10:07:09 -0400 |  
 
 | malbec2  | Linux (Ubuntu 16.04.1 LTS) / x86_64  |  OK  |  OK  |   | 
| tokay2  | Windows Server 2012 R2 Standard / x64  |  OK  |  OK  |  | 
chipseqDB 1.2.0 Aaron Lun
 
| Last Commit: 0732991 |  
| Last Changed Date: 2018-04-30 10:07:09 -0400 |  
 
 | malbec2  | Linux (Ubuntu 16.04.1 LTS) / x86_64  |  OK  |  OK  |   | 
| tokay2  | Windows Server 2012 R2 Standard / x64  | ...NOT SUPPORTED... | 
cytofWorkflow 1.2.0 Malgorzata Nowicka
 
| Last Commit: e4bd529 |  
| Last Changed Date: 2018-04-30 10:07:09 -0400 |  
 
 | malbec2  | Linux (Ubuntu 16.04.1 LTS) / x86_64  |  OK  |  OK  |   | 
| tokay2  | Windows Server 2012 R2 Standard / x64  |  OK  |  OK  |  | 
EGSEA123 1.2.0 Matthew Ritchie
 
| Last Commit: 824254d |  
| Last Changed Date: 2018-04-30 10:07:09 -0400 |  
 
 | malbec2  | Linux (Ubuntu 16.04.1 LTS) / x86_64  |  OK  |  OK  |   | 
| tokay2  | Windows Server 2012 R2 Standard / x64  |  OK  |  OK  |  | 
eQTL 1.2.0 Vincent Carey
 
| Last Commit: 76b453a |  
| Last Changed Date: 2018-04-30 10:07:09 -0400 |  
 
 | malbec2  | Linux (Ubuntu 16.04.1 LTS) / x86_64  |  OK  |  OK  |   | 
| tokay2  | Windows Server 2012 R2 Standard / x64  |  OK  |  OK  |  | 
ExpressionNormalizationWorkflow 1.4.0 Karthikeyan Murugesan
 
| Last Commit: d4865f5 |  
| Last Changed Date: 2018-04-30 10:07:09 -0400 |  
 
 | malbec2  | Linux (Ubuntu 16.04.1 LTS) / x86_64  |  OK  |  OK  |   | 
| tokay2  | Windows Server 2012 R2 Standard / x64  |  OK  |  OK  |  | 
generegulation 1.2.0 Bioconductor Package Maintainer
 
| Last Commit: 9caf044 |  
| Last Changed Date: 2018-04-30 10:07:09 -0400 |  
 
 | malbec2  | Linux (Ubuntu 16.04.1 LTS) / x86_64  |  OK  |  OK  |   | 
| tokay2  | Windows Server 2012 R2 Standard / x64  |  OK  |  OK  |  | 
highthroughputassays 1.2.0 Bioconductor Package Maintainer
 
| Last Commit: d547658 |  
| Last Changed Date: 2018-04-30 10:07:09 -0400 |  
 
 | malbec2  | Linux (Ubuntu 16.04.1 LTS) / x86_64  |  OK  |  OK  |   | 
| tokay2  | Windows Server 2012 R2 Standard / x64  | ...NOT SUPPORTED... | 
liftOver 1.2.0 Bioconductor Package Maintainer
 
| Last Commit: 05ae6d7 |  
| Last Changed Date: 2018-04-30 10:07:09 -0400 |  
 
 | malbec2  | Linux (Ubuntu 16.04.1 LTS) / x86_64  |  OK  |  OK  |   | 
| tokay2  | Windows Server 2012 R2 Standard / x64  |  OK  |  OK  |  | 
methylationArrayAnalysis 1.2.0 Jovana Maksimovic
 
| Last Commit: 801bd08 |  
| Last Changed Date: 2018-04-30 10:07:09 -0400 |  
 
 | malbec2  | Linux (Ubuntu 16.04.1 LTS) / x86_64  |  OK  |  OK  |   | 
| tokay2  | Windows Server 2012 R2 Standard / x64  |  OK  |  OK  |  | 
proteomics 1.2.0 Bioconductor Package Maintainer
 
| Last Commit: 7254af0 |  
| Last Changed Date: 2018-04-30 10:07:09 -0400 |  
 
 | malbec2  | Linux (Ubuntu 16.04.1 LTS) / x86_64  |  OK  |  OK  |   | 
| tokay2  | Windows Server 2012 R2 Standard / x64  |  OK  |  OK  |  | 
recountWorkflow 1.2.0 Leonardo Collado-Torres
 
| Last Commit: 8623ed5 |  
| Last Changed Date: 2018-04-30 10:07:09 -0400 |  
 
 | malbec2  | Linux (Ubuntu 16.04.1 LTS) / x86_64  |  OK  |  OK  |   | 
| tokay2  | Windows Server 2012 R2 Standard / x64  |  OK  |  OK  |  | 
RNAseq123 1.2.0 Matthew Ritchie
 
| Last Commit: 662df8f |  
| Last Changed Date: 2018-04-30 10:07:09 -0400 |  
 
 | malbec2  | Linux (Ubuntu 16.04.1 LTS) / x86_64  |  OK  |  OK  |   | 
| tokay2  | Windows Server 2012 R2 Standard / x64  |  OK  |  OK  |  | 
rnaseqGene 1.2.0 Michael Love
 
| Last Commit: d1689af |  
| Last Changed Date: 2018-04-30 10:07:09 -0400 |  
 
 | malbec2  | Linux (Ubuntu 16.04.1 LTS) / x86_64  |  OK  |  OK  |   | 
| tokay2  | Windows Server 2012 R2 Standard / x64  |  OK  |  OK  |  | 
RnaSeqGeneEdgeRQL 1.2.3 Yunshun Chen , Gordon Smyth
 
| Last Commit: 6295dd7 |  
| Last Changed Date: 2018-05-13 20:19:40 -0400 |  
 
 | malbec2  | Linux (Ubuntu 16.04.1 LTS) / x86_64  |  OK  |  OK  |   | 
| tokay2  | Windows Server 2012 R2 Standard / x64  |  OK  |  ERROR  |  | 
sequencing 1.2.0 Martin Morgan
 
| Last Commit: 6320be7 |  
| Last Changed Date: 2018-04-30 10:07:09 -0400 |  
 
 | malbec2  | Linux (Ubuntu 16.04.1 LTS) / x86_64  |  OK  |  OK  |   | 
| tokay2  | Windows Server 2012 R2 Standard / x64  |  OK  |  OK  |  | 
simpleSingleCell 1.2.1 Aaron Lun
 
| Last Commit: f46256b |  
| Last Changed Date: 2018-05-23 11:30:21 -0400 |  
 
 | malbec2  | Linux (Ubuntu 16.04.1 LTS) / x86_64  |  OK  |  OK  |   | 
| tokay2  | Windows Server 2012 R2 Standard / x64  | ...NOT SUPPORTED... | 
TCGAWorkflow 1.2.5 Tiago Chedraoui Silva
 
| Last Commit: 8c13579 |  
| Last Changed Date: 2018-10-12 10:05:39 -0400 |  
 
 | malbec2  | Linux (Ubuntu 16.04.1 LTS) / x86_64  |  OK  |  ERROR  |  | 
| tokay2  | Windows Server 2012 R2 Standard / x64  |  OK  |  ERROR  |  | 
variants 1.2.0 Bioconductor Package Maintainer
 
| Last Commit: f99aa58 |  
| Last Changed Date: 2018-04-30 10:07:09 -0400 |  
 
 | malbec2  | Linux (Ubuntu 16.04.1 LTS) / x86_64  |  OK  |  OK  |   | 
| tokay2  | Windows Server 2012 R2 Standard / x64  |  OK  |  OK  |  |