| Back to Workflows build report for BioC 3.7 |
This page was generated on 2018-10-15 12:45:18 -0400 (Mon, 15 Oct 2018).
| Package 13/21 | Hostname | OS / Arch | INSTALL | BUILD | ||||||
| proteomics 1.2.0 Bioconductor Package Maintainer
| malbec2 | Linux (Ubuntu 16.04.1 LTS) / x86_64 | OK | OK | ||||||
| tokay2 | Windows Server 2012 R2 Standard / x64 | [ OK ] | OK |
| Package: proteomics |
| Version: 1.2.0 |
| Command: C:\cygwin\bin\curl.exe -O https://malbec2.bioconductor.org/BBS/3.7/workflows/src/contrib/proteomics_1.2.0.tar.gz && rm -rf proteomics.buildbin-libdir && mkdir proteomics.buildbin-libdir && C:\Users\biocbuild\bbs-3.7-bioc\R\bin\R.exe CMD INSTALL --merge-multiarch --build --library=proteomics.buildbin-libdir proteomics_1.2.0.tar.gz && C:\Users\biocbuild\bbs-3.7-bioc\R\bin\R.exe CMD INSTALL proteomics_1.2.0.zip && rm proteomics_1.2.0.tar.gz proteomics_1.2.0.zip |
| StartedAt: 2018-10-15 07:55:41 -0400 (Mon, 15 Oct 2018) |
| EndedAt: 2018-10-15 07:56:42 -0400 (Mon, 15 Oct 2018) |
| EllapsedTime: 60.6 seconds |
| RetCode: 0 |
| Status: OK |
##############################################################################
##############################################################################
###
### Running command:
###
### C:\cygwin\bin\curl.exe -O https://malbec2.bioconductor.org/BBS/3.7/workflows/src/contrib/proteomics_1.2.0.tar.gz && rm -rf proteomics.buildbin-libdir && mkdir proteomics.buildbin-libdir && C:\Users\biocbuild\bbs-3.7-bioc\R\bin\R.exe CMD INSTALL --merge-multiarch --build --library=proteomics.buildbin-libdir proteomics_1.2.0.tar.gz && C:\Users\biocbuild\bbs-3.7-bioc\R\bin\R.exe CMD INSTALL proteomics_1.2.0.zip && rm proteomics_1.2.0.tar.gz proteomics_1.2.0.zip
###
##############################################################################
##############################################################################
% Total % Received % Xferd Average Speed Time Time Time Current
Dload Upload Total Spent Left Speed
0 0 0 0 0 0 0 0 --:--:-- --:--:-- --:--:-- 0
100 10957 100 10957 0 0 220k 0 --:--:-- --:--:-- --:--:-- 254k
install for i386
* installing *source* package 'proteomics' ...
** help
No man pages found in package 'proteomics'
*** installing help indices
** building package indices
** installing vignettes
** testing if installed package can be loaded
Warning: replacing previous import 'BiocGenerics::var' by 'stats::var' when loading 'MLInterfaces'
In R CMD INSTALL
install for x64
* installing *source* package 'proteomics' ...
** testing if installed package can be loaded
Warning: replacing previous import 'BiocGenerics::var' by 'stats::var' when loading 'MLInterfaces'
* MD5 sums
packaged installation of 'proteomics' as proteomics_1.2.0.zip
* DONE (proteomics)
In R CMD INSTALL
In R CMD INSTALL
* installing to library 'C:/Users/biocbuild/bbs-3.7-bioc/R/library'
package 'proteomics' successfully unpacked and MD5 sums checked
In R CMD INSTALL