| Back to Workflows build report for BioC 3.7 |
This page was generated on 2018-10-15 12:45:16 -0400 (Mon, 15 Oct 2018).
| Package 9/21 | Hostname | OS / Arch | INSTALL | BUILD | ||||||
| generegulation 1.2.0 Bioconductor Package Maintainer
| malbec2 | Linux (Ubuntu 16.04.1 LTS) / x86_64 | OK | [ OK ] | ||||||
| tokay2 | Windows Server 2012 R2 Standard / x64 | OK | OK |
| Package: generegulation |
| Version: 1.2.0 |
| Command: /home/biocbuild/bbs-3.7-bioc/R/bin/R CMD build --keep-empty-dirs --no-resave-data generegulation |
| StartedAt: 2018-10-15 07:58:30 -0400 (Mon, 15 Oct 2018) |
| EndedAt: 2018-10-15 07:59:16 -0400 (Mon, 15 Oct 2018) |
| EllapsedTime: 45.6 seconds |
| RetCode: 0 |
| Status: OK |
| PackageFile: generegulation_1.2.0.tar.gz |
| PackageFileSize: 1.264 MiB |
############################################################################## ############################################################################## ### ### Running command: ### ### /home/biocbuild/bbs-3.7-bioc/R/bin/R CMD build --keep-empty-dirs --no-resave-data generegulation ### ############################################################################## ############################################################################## * checking for file ‘generegulation/DESCRIPTION’ ... OK * preparing ‘generegulation’: * checking DESCRIPTION meta-information ... OK * installing the package to build vignettes * creating vignettes ... OK * checking for LF line-endings in source and make files and shell scripts * checking for empty or unneeded directories * creating default NAMESPACE file * building ‘generegulation_1.2.0.tar.gz’