Back to Multiple platform build/check report for BioC 3.7 |
|
This page was generated on 2018-10-17 08:34:23 -0400 (Wed, 17 Oct 2018).
Package 1101/1561 | Hostname | OS / Arch | INSTALL | BUILD | CHECK | BUILD BIN | ||||||
plateCore 1.38.0 Errol Strain
| malbec2 | Linux (Ubuntu 16.04.1 LTS) / x86_64 | OK | OK | WARNINGS | |||||||
tokay2 | Windows Server 2012 R2 Standard / x64 | [ OK ] | OK | WARNINGS | OK | |||||||
merida2 | OS X 10.11.6 El Capitan / x86_64 | OK | OK | WARNINGS | OK |
Package: plateCore |
Version: 1.38.0 |
Command: C:\cygwin\bin\curl.exe -O https://malbec2.bioconductor.org/BBS/3.7/bioc/src/contrib/plateCore_1.38.0.tar.gz && rm -rf plateCore.buildbin-libdir && mkdir plateCore.buildbin-libdir && C:\Users\biocbuild\bbs-3.7-bioc\R\bin\R.exe CMD INSTALL --merge-multiarch --build --library=plateCore.buildbin-libdir plateCore_1.38.0.tar.gz && C:\Users\biocbuild\bbs-3.7-bioc\R\bin\R.exe CMD INSTALL plateCore_1.38.0.zip && rm plateCore_1.38.0.tar.gz plateCore_1.38.0.zip |
StartedAt: 2018-10-16 19:47:45 -0400 (Tue, 16 Oct 2018) |
EndedAt: 2018-10-16 19:48:36 -0400 (Tue, 16 Oct 2018) |
EllapsedTime: 50.3 seconds |
RetCode: 0 |
Status: OK |
############################################################################## ############################################################################## ### ### Running command: ### ### C:\cygwin\bin\curl.exe -O https://malbec2.bioconductor.org/BBS/3.7/bioc/src/contrib/plateCore_1.38.0.tar.gz && rm -rf plateCore.buildbin-libdir && mkdir plateCore.buildbin-libdir && C:\Users\biocbuild\bbs-3.7-bioc\R\bin\R.exe CMD INSTALL --merge-multiarch --build --library=plateCore.buildbin-libdir plateCore_1.38.0.tar.gz && C:\Users\biocbuild\bbs-3.7-bioc\R\bin\R.exe CMD INSTALL plateCore_1.38.0.zip && rm plateCore_1.38.0.tar.gz plateCore_1.38.0.zip ### ############################################################################## ############################################################################## % Total % Received % Xferd Average Speed Time Time Time Current Dload Upload Total Spent Left Speed 0 0 0 0 0 0 0 0 --:--:-- --:--:-- --:--:-- 0 100 2300k 100 2300k 0 0 20.4M 0 --:--:-- --:--:-- --:--:-- 21.6M install for i386 * installing *source* package 'plateCore' ... ** R ** data ** byte-compile and prepare package for lazy loading No methods found in package 'flowStats' for request: '%on%' when loading 'plateCore' ** help *** installing help indices converting help for package 'plateCore' finding HTML links ... done Subset-methods html applyControlGates-methods html compensate-methods html compensationSet html densityplot-methods html fixAutoFl-methods html flowPlate-class html finding level-2 HTML links ... done flowPlate-method html fpbind-methods html getGroups-methods html gutterPlot-methods html mfiPlot-methods html on-methods html panel.densityplot.flowPlate html panel.xyplot.flowPlate html pbmcPlate html plateCore-package html plateSet-methods html plotPlate-methods html prepanel.densityplot.flowPlate html prepanel.xyplot.flowPlate html setControlGates-methods html summaryStats-methods html wellAnnotation-methods html xyplot-methods html ** building package indices ** installing vignettes ** testing if installed package can be loaded No methods found in package 'flowStats' for request: '%on%' when loading 'plateCore' In R CMD INSTALL install for x64 * installing *source* package 'plateCore' ... ** testing if installed package can be loaded No methods found in package 'flowStats' for request: '%on%' when loading 'plateCore' * MD5 sums packaged installation of 'plateCore' as plateCore_1.38.0.zip * DONE (plateCore) In R CMD INSTALL In R CMD INSTALL * installing to library 'C:/Users/biocbuild/bbs-3.7-bioc/R/library' package 'plateCore' successfully unpacked and MD5 sums checked In R CMD INSTALL