| Back to Multiple platform build/check report for BioC 3.7 |
|
This page was generated on 2018-10-17 08:22:49 -0400 (Wed, 17 Oct 2018).
| Package 1101/1561 | Hostname | OS / Arch | INSTALL | BUILD | CHECK | BUILD BIN | ||||||
| plateCore 1.38.0 Errol Strain
| malbec2 | Linux (Ubuntu 16.04.1 LTS) / x86_64 | [ OK ] | OK | WARNINGS | |||||||
| tokay2 | Windows Server 2012 R2 Standard / x64 | OK | OK | WARNINGS | OK | |||||||
| merida2 | OS X 10.11.6 El Capitan / x86_64 | OK | OK | WARNINGS | OK |
| Package: plateCore |
| Version: 1.38.0 |
| Command: /home/biocbuild/bbs-3.7-bioc/R/bin/R CMD INSTALL plateCore |
| StartedAt: 2018-10-15 18:17:44 -0400 (Mon, 15 Oct 2018) |
| EndedAt: 2018-10-15 18:17:56 -0400 (Mon, 15 Oct 2018) |
| EllapsedTime: 11.6 seconds |
| RetCode: 0 |
| Status: OK |
############################################################################## ############################################################################## ### ### Running command: ### ### /home/biocbuild/bbs-3.7-bioc/R/bin/R CMD INSTALL plateCore ### ############################################################################## ############################################################################## * installing to library ‘/home/biocbuild/bbs-3.7-bioc/R/library’ * installing *source* package ‘plateCore’ ... ** R ** data ** byte-compile and prepare package for lazy loading No methods found in package ‘flowStats’ for request: ‘%on%’ when loading ‘plateCore’ ** help *** installing help indices ** building package indices ** installing vignettes ** testing if installed package can be loaded No methods found in package ‘flowStats’ for request: ‘%on%’ when loading ‘plateCore’ * DONE (plateCore)