| Back to Multiple platform build/check report for BioC 3.7 |
|
This page was generated on 2018-10-17 08:39:29 -0400 (Wed, 17 Oct 2018).
| Package 1365/1561 | Hostname | OS / Arch | INSTALL | BUILD | CHECK | BUILD BIN | ||||||
| SigCheck 2.12.0 Rory Stark
| malbec2 | Linux (Ubuntu 16.04.1 LTS) / x86_64 | OK | OK | OK | |||||||
| tokay2 | Windows Server 2012 R2 Standard / x64 | OK | OK | OK | [ OK ] | |||||||
| merida2 | OS X 10.11.6 El Capitan / x86_64 | OK | OK | OK | OK |
| Package: SigCheck |
| Version: 2.12.0 |
| Command: rm -rf SigCheck.buildbin-libdir && mkdir SigCheck.buildbin-libdir && C:\Users\biocbuild\bbs-3.7-bioc\R\bin\R.exe CMD INSTALL --merge-multiarch --build --library=SigCheck.buildbin-libdir SigCheck_2.12.0.tar.gz |
| StartedAt: 2018-10-17 06:59:44 -0400 (Wed, 17 Oct 2018) |
| EndedAt: 2018-10-17 07:00:12 -0400 (Wed, 17 Oct 2018) |
| EllapsedTime: 28.1 seconds |
| RetCode: 0 |
| Status: OK |
| PackageFile: SigCheck_2.12.0.zip |
| PackageFileSize: 660.7 KiB |
##############################################################################
##############################################################################
###
### Running command:
###
### rm -rf SigCheck.buildbin-libdir && mkdir SigCheck.buildbin-libdir && C:\Users\biocbuild\bbs-3.7-bioc\R\bin\R.exe CMD INSTALL --merge-multiarch --build --library=SigCheck.buildbin-libdir SigCheck_2.12.0.tar.gz
###
##############################################################################
##############################################################################
install for i386
* installing *source* package 'SigCheck' ...
** R
** data
** inst
** byte-compile and prepare package for lazy loading
Warning: replacing previous import 'BiocGenerics::var' by 'stats::var' when loading 'MLInterfaces'
Creating a new generic function for 'signature' in package 'SigCheck'
** help
*** installing help indices
converting help for package 'SigCheck'
finding HTML links ... done
SigCheck-package html
finding level-2 HTML links ... done
SigCheckObject-class html
classifyResults html
knownSignatures html
nkiResults html
sigCheck html
sigCheckAll html
sigCheckKnown html
sigCheckPermuted html
sigCheckPlot html
sigCheckRandom html
** building package indices
** installing vignettes
** testing if installed package can be loaded
Warning: replacing previous import 'BiocGenerics::var' by 'stats::var' when loading 'MLInterfaces'
In R CMD INSTALL
install for x64
* installing *source* package 'SigCheck' ...
** testing if installed package can be loaded
Warning: replacing previous import 'BiocGenerics::var' by 'stats::var' when loading 'MLInterfaces'
* MD5 sums
packaged installation of 'SigCheck' as SigCheck_2.12.0.zip
* DONE (SigCheck)
In R CMD INSTALL
In R CMD INSTALL