| Back to Multiple platform build/check report for BioC 3.7 |
|
This page was generated on 2018-10-17 08:53:48 -0400 (Wed, 17 Oct 2018).
| Package 1365/1561 | Hostname | OS / Arch | INSTALL | BUILD | CHECK | BUILD BIN | ||||||
| SigCheck 2.12.0 Rory Stark
| malbec2 | Linux (Ubuntu 16.04.1 LTS) / x86_64 | OK | OK | OK | |||||||
| tokay2 | Windows Server 2012 R2 Standard / x64 | OK | OK | OK | OK | |||||||
| merida2 | OS X 10.11.6 El Capitan / x86_64 | OK | OK | OK | [ OK ] |
| Package: SigCheck |
| Version: 2.12.0 |
| Command: rm -rf SigCheck.buildbin-libdir && mkdir SigCheck.buildbin-libdir && /Users/biocbuild/BBS/utils/build-universal.sh SigCheck_2.12.0.tar.gz /Library/Frameworks/R.framework/Versions/Current/Resources/bin/R SigCheck.buildbin-libdir |
| StartedAt: 2018-10-17 02:08:39 -0400 (Wed, 17 Oct 2018) |
| EndedAt: 2018-10-17 02:09:31 -0400 (Wed, 17 Oct 2018) |
| EllapsedTime: 52.1 seconds |
| RetCode: 0 |
| Status: OK |
| PackageFile: SigCheck_2.12.0.tgz |
| PackageFileSize: 634.6 KiB |
############################################################################## ############################################################################## ### ### Running command: ### ### rm -rf SigCheck.buildbin-libdir && mkdir SigCheck.buildbin-libdir && /Users/biocbuild/BBS/utils/build-universal.sh SigCheck_2.12.0.tar.gz /Library/Frameworks/R.framework/Versions/Current/Resources/bin/R SigCheck.buildbin-libdir ### ############################################################################## ############################################################################## >>>>>>> >>>>>>> INSTALLATION WITH 'R CMD INSTALL --preclean --no-multiarch --library=SigCheck.buildbin-libdir SigCheck_2.12.0.tar.gz' >>>>>>> * installing *source* package ‘SigCheck’ ... ** R ** data ** inst ** byte-compile and prepare package for lazy loading Warning: replacing previous import ‘BiocGenerics::var’ by ‘stats::var’ when loading ‘MLInterfaces’ Creating a new generic function for ‘signature’ in package ‘SigCheck’ ** help *** installing help indices ** building package indices ** installing vignettes ** testing if installed package can be loaded Warning: replacing previous import ‘BiocGenerics::var’ by ‘stats::var’ when loading ‘MLInterfaces’ * DONE (SigCheck)