| Back to Multiple platform build/check report for BioC 3.7 |
|
This page was generated on 2018-10-17 08:31:15 -0400 (Wed, 17 Oct 2018).
| Package 207/1561 | Hostname | OS / Arch | INSTALL | BUILD | CHECK | BUILD BIN | ||||||
| CellScore 1.0.0 Nancy Mah
| malbec2 | Linux (Ubuntu 16.04.1 LTS) / x86_64 | OK | [ OK ] | OK | |||||||
| tokay2 | Windows Server 2012 R2 Standard / x64 | OK | OK | OK | OK | |||||||
| merida2 | OS X 10.11.6 El Capitan / x86_64 | OK | OK | OK | OK |
| Package: CellScore |
| Version: 1.0.0 |
| Command: /home/biocbuild/bbs-3.7-bioc/R/bin/R CMD build --keep-empty-dirs --no-resave-data CellScore |
| StartedAt: 2018-10-15 21:56:50 -0400 (Mon, 15 Oct 2018) |
| EndedAt: 2018-10-15 21:59:25 -0400 (Mon, 15 Oct 2018) |
| EllapsedTime: 155.2 seconds |
| RetCode: 0 |
| Status: OK |
| PackageFile: CellScore_1.0.0.tar.gz |
| PackageFileSize: 4.109 MiB |
##############################################################################
##############################################################################
###
### Running command:
###
### /home/biocbuild/bbs-3.7-bioc/R/bin/R CMD build --keep-empty-dirs --no-resave-data CellScore
###
##############################################################################
##############################################################################
* checking for file ‘CellScore/DESCRIPTION’ ... OK
* preparing ‘CellScore’:
* checking DESCRIPTION meta-information ... OK
* installing the package to build vignettes
* creating vignettes ... OK
Warning: ‘inst/doc’ files
‘CellScoreVignette.Rnw’, ‘CellScoreVignette.pdf’, ‘CellScoreVignette.R’
ignored as vignettes have been rebuilt.
Run R CMD build with --no-build-vignettes to prevent rebuilding.
* checking for LF line-endings in source and make files and shell scripts
* checking for empty or unneeded directories
* building ‘CellScore_1.0.0.tar.gz’