| Back to Multiple platform build/check report for BioC 3.7 | 
 | 
This page was generated on 2018-10-17 08:56:55 -0400 (Wed, 17 Oct 2018).
| Package 77/1561 | Hostname | OS / Arch | INSTALL | BUILD | CHECK | BUILD BIN | ||||||
| ASpli 1.6.0 Estefania Mancini 
 | malbec2 | Linux (Ubuntu 16.04.1 LTS) / x86_64 | OK | OK | OK |  | ||||||
| tokay2 | Windows Server 2012 R2 Standard / x64 | OK | OK | OK | OK |  | ||||||
| merida2 | OS X 10.11.6 El Capitan / x86_64 | OK | [ OK ] | OK | OK |  | 
| Package: ASpli | 
| Version: 1.6.0 | 
| Command: /Library/Frameworks/R.framework/Versions/Current/Resources/bin/R CMD build --keep-empty-dirs --no-resave-data ASpli | 
| StartedAt: 2018-10-16 18:26:36 -0400 (Tue, 16 Oct 2018) | 
| EndedAt: 2018-10-16 18:27:43 -0400 (Tue, 16 Oct 2018) | 
| EllapsedTime: 67.0 seconds | 
| RetCode: 0 | 
| Status: OK | 
| PackageFile: ASpli_1.6.0.tar.gz | 
| PackageFileSize: 2.261 MiB | 
############################################################################## ############################################################################## ### ### Running command: ### ### /Library/Frameworks/R.framework/Versions/Current/Resources/bin/R CMD build --keep-empty-dirs --no-resave-data ASpli ### ############################################################################## ############################################################################## * checking for file ‘ASpli/DESCRIPTION’ ... OK * preparing ‘ASpli’: * checking DESCRIPTION meta-information ... OK * installing the package to build vignettes * creating vignettes ... OK * checking for LF line-endings in source and make files and shell scripts * checking for empty or unneeded directories * building ‘ASpli_1.6.0.tar.gz’