| Back to Multiple platform build/check report for BioC 3.7 |
|
This page was generated on 2018-10-17 08:56:55 -0400 (Wed, 17 Oct 2018).
| Package 77/1561 | Hostname | OS / Arch | INSTALL | BUILD | CHECK | BUILD BIN | ||||||
| ASpli 1.6.0 Estefania Mancini
| malbec2 | Linux (Ubuntu 16.04.1 LTS) / x86_64 | OK | OK | OK | |||||||
| tokay2 | Windows Server 2012 R2 Standard / x64 | OK | OK | OK | OK | |||||||
| merida2 | OS X 10.11.6 El Capitan / x86_64 | OK | OK | OK | [ OK ] |
| Package: ASpli |
| Version: 1.6.0 |
| Command: rm -rf ASpli.buildbin-libdir && mkdir ASpli.buildbin-libdir && /Users/biocbuild/BBS/utils/build-universal.sh ASpli_1.6.0.tar.gz /Library/Frameworks/R.framework/Versions/Current/Resources/bin/R ASpli.buildbin-libdir |
| StartedAt: 2018-10-17 00:55:48 -0400 (Wed, 17 Oct 2018) |
| EndedAt: 2018-10-17 00:56:37 -0400 (Wed, 17 Oct 2018) |
| EllapsedTime: 49.3 seconds |
| RetCode: 0 |
| Status: OK |
| PackageFile: ASpli_1.6.0.tgz |
| PackageFileSize: 1.969 MiB |
############################################################################## ############################################################################## ### ### Running command: ### ### rm -rf ASpli.buildbin-libdir && mkdir ASpli.buildbin-libdir && /Users/biocbuild/BBS/utils/build-universal.sh ASpli_1.6.0.tar.gz /Library/Frameworks/R.framework/Versions/Current/Resources/bin/R ASpli.buildbin-libdir ### ############################################################################## ############################################################################## >>>>>>> >>>>>>> INSTALLATION WITH 'R CMD INSTALL --preclean --no-multiarch --library=ASpli.buildbin-libdir ASpli_1.6.0.tar.gz' >>>>>>> * installing *source* package ‘ASpli’ ... ** R ** inst ** byte-compile and prepare package for lazy loading ** help *** installing help indices ** building package indices ** installing vignettes ** testing if installed package can be loaded * DONE (ASpli)