Back to the "Multiple platform build/check report" A  B  C  D  E  F [G] H  I  J  K  L  M  N  O  P  Q  R  S  T  U  V  W  X  Y  Z 

BioC 3.3: CHECK report for genomation on morelia

This page was generated on 2015-10-20 14:22:16 -0400 (Tue, 20 Oct 2015).

Package 416/1104HostnameOS / ArchINSTALLBUILDCHECKBUILD BIN
genomation 1.3.0
Altuna Akalin , Vedran Franke
Snapshot Date: 2015-10-19 20:20:06 -0400 (Mon, 19 Oct 2015)
URL: https://hedgehog.fhcrc.org/bioconductor/trunk/madman/Rpacks/genomation
Last Changed Rev: 109592 / Revision: 109765
Last Changed Date: 2015-10-13 15:59:53 -0400 (Tue, 13 Oct 2015)
linux2.bioconductor.org Linux (Ubuntu 14.04.2 LTS) / x86_64  OK  OK  OK UNNEEDED, same version exists in internal repository
windows2.bioconductor.org Windows Server 2012 R2 Enterprise SP1 (64-bit) / x64  OK  OK  OK  OK UNNEEDED, same version exists in internal repository
morelia Mac OS X Mavericks (10.9.5) / x86_64  OK  OK [ OK ] OK UNNEEDED, same version exists in internal repository

Summary

Package: genomation
Version: 1.3.0
Command: /Library/Frameworks/R.framework/Versions/Current/Resources/bin/R CMD check --no-vignettes --timings genomation_1.3.0.tar.gz
StartedAt: 2015-10-20 06:21:04 -0400 (Tue, 20 Oct 2015)
EndedAt: 2015-10-20 06:24:09 -0400 (Tue, 20 Oct 2015)
EllapsedTime: 185.2 seconds
RetCode: 0
Status:  OK 
CheckDir: genomation.Rcheck
Warnings: 0

Command output

##############################################################################
##############################################################################
###
### Running command:
###
###   /Library/Frameworks/R.framework/Versions/Current/Resources/bin/R CMD check --no-vignettes --timings genomation_1.3.0.tar.gz
###
##############################################################################
##############################################################################


* using log directory ‘/Users/biocbuild/bbs-3.3-bioc/meat/genomation.Rcheck’
* using R Under development (unstable) (2015-10-08 r69496)
* using platform: x86_64-apple-darwin13.4.0 (64-bit)
* using session charset: UTF-8
* using option ‘--no-vignettes’
* checking for file ‘genomation/DESCRIPTION’ ... OK
* checking extension type ... Package
* this is package ‘genomation’ version ‘1.3.0’
* package encoding: latin1
* checking package namespace information ... OK
* checking package dependencies ... OK
* checking if this is a source package ... OK
* checking if there is a namespace ... OK
* checking for hidden files and directories ... OK
* checking for portable file names ... OK
* checking for sufficient/correct file permissions ... OK
* checking whether package ‘genomation’ can be installed ... [13s/13s] OK
* checking installed package size ... OK
* checking package directory ... OK
* checking ‘build’ directory ... OK
* checking DESCRIPTION meta-information ... OK
* checking top-level files ... OK
* checking for left-over files ... OK
* checking index information ... OK
* checking package subdirectories ... OK
* checking R files for non-ASCII characters ... OK
* checking R files for syntax errors ... OK
* checking whether the package can be loaded ... OK
* checking whether the package can be loaded with stated dependencies ... OK
* checking whether the package can be unloaded cleanly ... OK
* checking whether the namespace can be loaded with stated dependencies ... OK
* checking whether the namespace can be unloaded cleanly ... OK
* checking dependencies in R code ... NOTE
Unexported objects imported by ':::' calls:
  ‘BiocGenerics:::testPackage’ ‘GenomicAlignments:::invertRleStrand’
  See the note in ?`:::` about the use of this operator.
* checking S3 generic/method consistency ... OK
* checking replacement functions ... OK
* checking foreign function calls ... OK
* checking R code for possible problems ... NOTE
heatMeta: no visible binding for global variable ‘a’
ScoreMatrixBin,GRanges-GRanges: no visible global function definition
  for ‘runValue’
plotGeneAnnotation,list: no visible binding for global variable
  ‘SampleName’
plotGeneAnnotation,list: no visible binding for global variable ‘value’
randomizeFeature,GRanges : <anonymous>: no visible global function
  definition for ‘Rle’
randomizeFeature,GRanges: no visible global function definition for
  ‘runValue’
Undefined global functions or variables:
  Rle SampleName a runValue value
* checking Rd files ... OK
* checking Rd metadata ... OK
* checking Rd cross-references ... OK
* checking for missing documentation entries ... OK
* checking for code/documentation mismatches ... OK
* checking Rd \usage sections ... OK
* checking Rd contents ... OK
* checking for unstated dependencies in examples ... OK
* checking contents of ‘data’ directory ... OK
* checking data for non-ASCII characters ... OK
* checking data for ASCII and uncompressed saves ... OK
* checking line endings in Makefiles ... OK
* checking for GNU extensions in Makefiles ... OK
* checking installed files from ‘inst/doc’ ... OK
* checking files in ‘vignettes’ ... NOTE
The following directory looks like a leftover from 'knitr':
  ‘cache’
Please remove from your package.
* checking examples ... [20s/20s] OK
* checking for unstated dependencies in ‘tests’ ... OK
* checking tests ...
  Running ‘genomation_unit_tests.R’ [22s/22s]
 [23s/23s] OK
* checking for unstated dependencies in vignettes ... OK
* checking package vignettes in ‘inst/doc’ ... OK
* checking running R code from vignettes ... SKIPPED
* checking re-building of vignette outputs ... SKIPPED
* checking PDF version of manual ... OK
* DONE

Status: 3 NOTEs
See
  ‘/Users/biocbuild/bbs-3.3-bioc/meat/genomation.Rcheck/00check.log’
for details.


genomation.Rcheck/00install.out:

* installing *source* package ‘genomation’ ...
** R
** data
** inst
** preparing package for lazy loading
** help
*** installing help indices
** building package indices
** installing vignettes
** testing if installed package can be loaded
* DONE (genomation)

genomation.Rcheck/genomation-Ex.timings:

nameusersystemelapsed
AnnotationByGeneParts-methods0.6590.0220.708
ScoreMatrix-methods2.6250.1182.751
ScoreMatrixBin-methods0.5350.0190.554
ScoreMatrixList-methods0.6830.0060.689
annotateWithFeature-methods0.0530.0010.053
annotateWithFeatureFlank-methods0.2710.0010.272
annotateWithGeneParts-methods0.4560.0040.461
binMatrix-methods0.1940.0040.198
convertBed2Exons-methods0.0750.0000.076
convertBed2Introns-methods0.0910.0010.092
findFeatureComb-methods0.3210.0050.325
getFeatsWithTargetsStats-methods0.3860.0010.388
getFlanks-methods0.1400.0010.141
getRandomEnrichment-methods0.0020.0010.002
getTargetAnnotationStats-methods0.3300.0010.332
gffToGRanges0.0690.0010.070
heatMatrix0.7470.0550.802
heatMeta0.7980.0490.847
intersectScoreMatrixList-methods0.3860.0050.390
multiHeatMatrix0.6060.0480.655
orderBy-methods0.8440.0300.873
patternMatrix-methods0.0940.0020.097
plotGeneAnnotation-methods0.9080.0090.921
plotMeta0.4860.0300.516
plotTargetAnnotation-methods0.4060.0020.415
readBed0.0360.0010.037
readBroadPeak0.0320.0010.034
readFeatureFlank-methods0.1360.0010.137
readGeneric0.0280.0010.029
readNarrowPeak0.0250.0010.025
readTranscriptFeatures-methods0.3880.0140.402
scaleScoreMatrix-methods0.2620.0040.265
scaleScoreMatrixList0.7120.0040.717