Back to the "Multiple platform build/check report" A  B  C  D  E  F [G] H  I  J  K  L  M  N  O  P  Q  R  S  T  U  V  W  X  Y  Z 

BioC 3.3: INSTALL report for genomation on morelia

This page was generated on 2015-10-22 17:54:38 -0400 (Thu, 22 Oct 2015).

Package 416/1104HostnameOS / ArchINSTALLBUILDCHECKBUILD BIN
genomation 1.3.0
Altuna Akalin , Vedran Franke
Snapshot Date: 2015-10-21 20:20:05 -0400 (Wed, 21 Oct 2015)
URL: https://hedgehog.fhcrc.org/bioconductor/trunk/madman/Rpacks/genomation
Last Changed Rev: 109592 / Revision: 109826
Last Changed Date: 2015-10-13 15:59:53 -0400 (Tue, 13 Oct 2015)
linux2.bioconductor.org Linux (Ubuntu 14.04.2 LTS) / x86_64  OK  ERROR  skipped 
windows2.bioconductor.org Windows Server 2012 R2 Enterprise SP1 (64-bit) / x64  OK  ERROR  skipped  skipped 
morelia Mac OS X Mavericks (10.9.5) / x86_64 [ OK ] ERROR  skipped  skipped 

Summary

Package: genomation
Version: 1.3.0
Command: /Library/Frameworks/R.framework/Versions/Current/Resources/bin/R CMD INSTALL genomation
StartedAt: 2015-10-21 21:29:41 -0400 (Wed, 21 Oct 2015)
EndedAt: 2015-10-21 21:29:55 -0400 (Wed, 21 Oct 2015)
EllapsedTime: 14.1 seconds
RetCode: 0
Status:  OK 

Command output

##############################################################################
##############################################################################
###
### Running command:
###
###   /Library/Frameworks/R.framework/Versions/Current/Resources/bin/R CMD INSTALL genomation
###
##############################################################################
##############################################################################


* installing to library ‘/Library/Frameworks/R.framework/Versions/3.3/Resources/library’
* installing *source* package ‘genomation’ ...
** R
** data
** inst
** preparing package for lazy loading
** help
*** installing help indices
** building package indices
** installing vignettes
   ‘GenomationManual-knitr.Rmd’ using ‘latin1’ 
** testing if installed package can be loaded
* DONE (genomation)