Back to the "Multiple platform build/check report" A  B  C  D  E  F [G] H  I  J  K  L  M  N  O  P  Q  R  S  T  U  V  W  X  Y  Z 

BioC 3.3: BUILD BIN report for genomation on morelia

This page was generated on 2015-10-20 14:22:16 -0400 (Tue, 20 Oct 2015).

Package 416/1104HostnameOS / ArchINSTALLBUILDCHECKBUILD BIN
genomation 1.3.0
Altuna Akalin , Vedran Franke
Snapshot Date: 2015-10-19 20:20:06 -0400 (Mon, 19 Oct 2015)
URL: https://hedgehog.fhcrc.org/bioconductor/trunk/madman/Rpacks/genomation
Last Changed Rev: 109592 / Revision: 109765
Last Changed Date: 2015-10-13 15:59:53 -0400 (Tue, 13 Oct 2015)
linux2.bioconductor.org Linux (Ubuntu 14.04.2 LTS) / x86_64  OK  OK  OK UNNEEDED, same version exists in internal repository
windows2.bioconductor.org Windows Server 2012 R2 Enterprise SP1 (64-bit) / x64  OK  OK  OK  OK UNNEEDED, same version exists in internal repository
morelia Mac OS X Mavericks (10.9.5) / x86_64  OK  OK  OK [ OK ]UNNEEDED, same version exists in internal repository

Summary

Package: genomation
Version: 1.3.0
Command: rm -rf genomation.buildbin-libdir && mkdir genomation.buildbin-libdir && /Users/biocbuild/BBS/utils/build-universal.sh genomation_1.3.0.tar.gz /Library/Frameworks/R.framework/Versions/Current/Resources/bin/R genomation.buildbin-libdir
StartedAt: 2015-10-20 12:56:58 -0400 (Tue, 20 Oct 2015)
EndedAt: 2015-10-20 12:57:13 -0400 (Tue, 20 Oct 2015)
EllapsedTime: 14.9 seconds
RetCode: 0
Status:  OK 
PackageFile: genomation_1.3.0.tgz
PackageFileSize: 462.9 KiB

Command output

##############################################################################
##############################################################################
###
### Running command:
###
###   rm -rf genomation.buildbin-libdir && mkdir genomation.buildbin-libdir && /Users/biocbuild/BBS/utils/build-universal.sh genomation_1.3.0.tar.gz /Library/Frameworks/R.framework/Versions/Current/Resources/bin/R genomation.buildbin-libdir
###
##############################################################################
##############################################################################


>>>>>>> 
>>>>>>> INSTALLATION WITH 'R CMD INSTALL --preclean --no-multiarch --library=genomation.buildbin-libdir genomation_1.3.0.tar.gz'
>>>>>>> 

* installing *source* package ‘genomation’ ...
** R
** data
** inst
** preparing package for lazy loading
** help
*** installing help indices
** building package indices
** installing vignettes
** testing if installed package can be loaded
* DONE (genomation)