Back to the "Multiple platform build/check report" A  B  C  D  E  F  G  H  I  J  K  L [M] N  O  P  Q  R  S  T  U  V  W  X  Y  Z 

BioC 3.3: BUILD report for MSnbase on morelia

This page was generated on 2015-10-22 17:52:56 -0400 (Thu, 22 Oct 2015).

Package 680/1104HostnameOS / ArchINSTALLBUILDCHECKBUILD BIN
MSnbase 1.19.1
Laurent Gatto
Snapshot Date: 2015-10-21 20:20:05 -0400 (Wed, 21 Oct 2015)
URL: https://hedgehog.fhcrc.org/bioconductor/trunk/madman/Rpacks/MSnbase
Last Changed Rev: 109674 / Revision: 109826
Last Changed Date: 2015-10-15 17:40:41 -0400 (Thu, 15 Oct 2015)
linux2.bioconductor.org Linux (Ubuntu 14.04.2 LTS) / x86_64  OK  OK  OK UNNEEDED, same version exists in internal repository
windows2.bioconductor.org Windows Server 2012 R2 Enterprise SP1 (64-bit) / x64  OK  OK  OK  OK UNNEEDED, same version exists in internal repository
morelia Mac OS X Mavericks (10.9.5) / x86_64  OK [ OK ] OK  OK UNNEEDED, same version exists in internal repository

Summary

Package: MSnbase
Version: 1.19.1
Command: /Library/Frameworks/R.framework/Versions/Current/Resources/bin/R CMD build --keep-empty-dirs --no-resave-data MSnbase
StartedAt: 2015-10-21 23:15:59 -0400 (Wed, 21 Oct 2015)
EndedAt: 2015-10-21 23:17:28 -0400 (Wed, 21 Oct 2015)
EllapsedTime: 88.8 seconds
RetCode: 0
Status:  OK 
PackageFile: MSnbase_1.19.1.tar.gz
PackageFileSize: 2.736 MiB

Command output

##############################################################################
##############################################################################
###
### Running command:
###
###   /Library/Frameworks/R.framework/Versions/Current/Resources/bin/R CMD build --keep-empty-dirs --no-resave-data MSnbase
###
##############################################################################
##############################################################################


* checking for file ‘MSnbase/DESCRIPTION’ ... OK
* preparing ‘MSnbase’:
* checking DESCRIPTION meta-information ... OK
* cleaning src
* installing the package to build vignettes
* creating vignettes ... OK
* cleaning src
* checking for LF line-endings in source and make files
* checking for empty or unneeded directories
WARNING: directory ‘MSnbase/inst/doc/MSnbase-demo’ is empty
WARNING: directory ‘MSnbase/inst/doc/MSnbase-development’ is empty
WARNING: directory ‘MSnbase/inst/doc/MSnbase-io’ is empty
WARNING: directory ‘MSnbase/inst/tests’ is empty
* looking to see if a ‘data/datalist’ file should be added
* building ‘MSnbase_1.19.1.tar.gz’