Back to the "Multiple platform build/check report" A  B  C  D  E  F  G  H  I  J  K  L [M] N  O  P  Q  R  S  T  U  V  W  X  Y  Z 

BioC 3.3: BUILD report for MSnbase on windows2.bioconductor.org

This page was generated on 2015-10-27 12:14:46 -0400 (Tue, 27 Oct 2015).

Package 680/1104HostnameOS / ArchINSTALLBUILDCHECKBUILD BIN
MSnbase 1.19.2
Laurent Gatto
Snapshot Date: 2015-10-26 20:20:04 -0400 (Mon, 26 Oct 2015)
URL: https://hedgehog.fhcrc.org/bioconductor/trunk/madman/Rpacks/MSnbase
Last Changed Rev: 109891 / Revision: 109948
Last Changed Date: 2015-10-24 18:09:21 -0400 (Sat, 24 Oct 2015)
linux2.bioconductor.org Linux (Ubuntu 14.04.2 LTS) / x86_64  OK  OK  OK UNNEEDED, same version exists in internal repository
windows2.bioconductor.org Windows Server 2012 R2 Enterprise SP1 (64-bit) / x64  OK [ OK ] OK  OK UNNEEDED, same version exists in internal repository

Summary

Package: MSnbase
Version: 1.19.2
Command: chmod a+r MSnbase -R && c:\biocbld\bbs-3.3-bioc\R\bin\R.exe CMD build --keep-empty-dirs --no-resave-data MSnbase
StartedAt: 2015-10-26 22:01:24 -0400 (Mon, 26 Oct 2015)
EndedAt: 2015-10-26 22:06:54 -0400 (Mon, 26 Oct 2015)
EllapsedTime: 330.7 seconds
RetCode: 0
Status:  OK  
PackageFile: MSnbase_1.19.2.tar.gz
PackageFileSize: 2.744 MiB

Command output

##############################################################################
##############################################################################
###
### Running command:
###
###   chmod a+r MSnbase -R && c:\biocbld\bbs-3.3-bioc\R\bin\R.exe CMD build --keep-empty-dirs --no-resave-data MSnbase
###
##############################################################################
##############################################################################


* checking for file 'MSnbase/DESCRIPTION' ... OK
* preparing 'MSnbase':
* checking DESCRIPTION meta-information ... OK
* cleaning src
* installing the package to build vignettes
* creating vignettes ... OK
* cleaning src
* checking for LF line-endings in source and make files
* checking for empty or unneeded directories
WARNING: directory 'MSnbase/inst/doc/MSnbase-demo' is empty
WARNING: directory 'MSnbase/inst/doc/MSnbase-development' is empty
WARNING: directory 'MSnbase/inst/doc/MSnbase-io' is empty
WARNING: directory 'MSnbase/inst/tests' is empty
* looking to see if a 'data/datalist' file should be added
* building 'MSnbase_1.19.2.tar.gz'