Back to the "Multiple platform build/check report" A  B  C  D  E  F [G] H  I  J  K  L  M  N  O  P  Q  R  S  T  U  V  W  X  Y  Z 

BioC 3.3: CHECK report for Genominator on morelia

This page was generated on 2015-10-22 17:52:40 -0400 (Thu, 22 Oct 2015).

Package 427/1104HostnameOS / ArchINSTALLBUILDCHECKBUILD BIN
Genominator 1.25.0
James Bullard
Snapshot Date: 2015-10-21 20:20:05 -0400 (Wed, 21 Oct 2015)
URL: https://hedgehog.fhcrc.org/bioconductor/trunk/madman/Rpacks/Genominator
Last Changed Rev: 109592 / Revision: 109826
Last Changed Date: 2015-10-13 15:59:53 -0400 (Tue, 13 Oct 2015)
linux2.bioconductor.org Linux (Ubuntu 14.04.2 LTS) / x86_64  OK  OK  OK UNNEEDED, same version exists in internal repository
windows2.bioconductor.org Windows Server 2012 R2 Enterprise SP1 (64-bit) / x64  OK  OK  OK  OK UNNEEDED, same version exists in internal repository
morelia Mac OS X Mavericks (10.9.5) / x86_64  OK  OK [ OK ] OK UNNEEDED, same version exists in internal repository

Summary

Package: Genominator
Version: 1.25.0
Command: /Library/Frameworks/R.framework/Versions/Current/Resources/bin/R CMD check --no-vignettes --timings Genominator_1.25.0.tar.gz
StartedAt: 2015-10-22 06:31:35 -0400 (Thu, 22 Oct 2015)
EndedAt: 2015-10-22 06:33:05 -0400 (Thu, 22 Oct 2015)
EllapsedTime: 89.2 seconds
RetCode: 0
Status:  OK 
CheckDir: Genominator.Rcheck
Warnings: 0

Command output

##############################################################################
##############################################################################
###
### Running command:
###
###   /Library/Frameworks/R.framework/Versions/Current/Resources/bin/R CMD check --no-vignettes --timings Genominator_1.25.0.tar.gz
###
##############################################################################
##############################################################################


* using log directory ‘/Users/biocbuild/bbs-3.3-bioc/meat/Genominator.Rcheck’
* using R Under development (unstable) (2015-10-08 r69496)
* using platform: x86_64-apple-darwin13.4.0 (64-bit)
* using session charset: UTF-8
* using option ‘--no-vignettes’
* checking for file ‘Genominator/DESCRIPTION’ ... OK
* this is package ‘Genominator’ version ‘1.25.0’
* checking package namespace information ... OK
* checking package dependencies ... OK
* checking if this is a source package ... OK
* checking if there is a namespace ... OK
* checking for hidden files and directories ... OK
* checking for portable file names ... OK
* checking for sufficient/correct file permissions ... OK
* checking whether package ‘Genominator’ can be installed ... [7s/7s] OK
* checking installed package size ... OK
* checking package directory ... OK
* checking ‘build’ directory ... OK
* checking DESCRIPTION meta-information ... OK
* checking top-level files ... OK
* checking for left-over files ... OK
* checking index information ... OK
* checking package subdirectories ... OK
* checking R files for non-ASCII characters ... OK
* checking R files for syntax errors ... OK
* checking whether the package can be loaded ... OK
* checking whether the package can be loaded with stated dependencies ... OK
* checking whether the package can be unloaded cleanly ... OK
* checking whether the namespace can be loaded with stated dependencies ... OK
* checking whether the namespace can be unloaded cleanly ... OK
* checking dependencies in R code ... NOTE
'library' or 'require' calls to packages already attached by Depends:
  ‘GenomeGraphs’ ‘IRanges’
  Please remove these calls from your code.
'library' or 'require' call to ‘ShortRead’ in package code.
  Please use :: or requireNamespace() instead.
  See section 'Suggested packages' in the 'Writing R Extensions' manual.
Packages in Depends field not imported from:
  ‘GenomeGraphs’ ‘RSQLite’
  These packages need to be imported from (in the NAMESPACE file)
  for when this namespace is loaded but not attached.
* checking S3 generic/method consistency ... OK
* checking replacement functions ... OK
* checking foreign function calls ... OK
* checking R code for possible problems ... NOTE
addPrimingWeights: no visible global function definition for
  ‘varLabels’
addPrimingWeights: no visible global function definition for
  ‘alignData’
addPrimingWeights: no visible global function definition for ‘subseq’
addPrimingWeights: no visible global function definition for ‘sread’
addPrimingWeights: no visible global function definition for
  ‘AlignedDataFrame’
addPrimingWeights: no visible global function definition for ‘pData’
addPrimingWeights: no visible global function definition for
  ‘varMetadata’
computePrimingWeights: no visible global function definition for
  ‘mkAllStrings’
computePrimingWeights : p.compute: no visible global function
  definition for ‘tables’
computePrimingWeights : p.compute: no visible global function
  definition for ‘subseq’
computePrimingWeights : p.compute: no visible global function
  definition for ‘sread’
importFromAlignedReads : weights.AlignedRead: no visible global
  function definition for ‘varLabels’
importFromAlignedReads : weights.AlignedRead: no visible global
  function definition for ‘alignData’
importFromAlignedReads : importObject: no visible global function
  definition for ‘position’
importFromAlignedReads : importObject: no visible global function
  definition for ‘chromosome’
importFromAlignedReads : importObject: no visible global function
  definition for ‘varLabels’
importFromAlignedReads : importObject: no visible global function
  definition for ‘alignData’
importFromAlignedReads: no visible global function definition for
  ‘readAligned’
makeAnnoFactory: no visible global function definition for
  ‘DisplayPars’
makeAnnoFactory : regionAnno.Biomart: no visible global function
  definition for ‘geneRegionBiomart’
makeAnnoFactory : regionAnno.AnnoData: no visible global function
  definition for ‘makeAnnotationTrack’
makeRegionPlotter : <anonymous>: no visible global function definition
  for ‘DisplayPars’
makeRegionPlotter : <anonymous> : <anonymous>: no visible global
  function definition for ‘makeBaseTrack’
makeRegionPlotter : <anonymous> : <anonymous>: no visible global
  function definition for ‘makeGenericArray’
makeRegionPlotter : <anonymous>: no visible global function definition
  for ‘makeGenomeAxis’
makeRegionPlotter : <anonymous>: no visible global function definition
  for ‘gdPlot’
Undefined global functions or variables:
  AlignedDataFrame DisplayPars alignData chromosome gdPlot
  geneRegionBiomart makeAnnotationTrack makeBaseTrack makeGenericArray
  makeGenomeAxis mkAllStrings pData position readAligned sread subseq
  tables varLabels varMetadata
* checking Rd files ... OK
* checking Rd metadata ... OK
* checking Rd cross-references ... OK
* checking for missing documentation entries ... OK
* checking for code/documentation mismatches ... OK
* checking Rd \usage sections ... OK
* checking Rd contents ... OK
* checking for unstated dependencies in examples ... OK
* checking contents of ‘data’ directory ... OK
* checking data for non-ASCII characters ... OK
* checking data for ASCII and uncompressed saves ... OK
* checking sizes of PDF files under ‘inst/doc’ ... OK
* checking installed files from ‘inst/doc’ ... OK
* checking files in ‘vignettes’ ... OK
* checking examples ... [21s/21s] OK
* checking for unstated dependencies in vignettes ... OK
* checking package vignettes in ‘inst/doc’ ... OK
* checking running R code from vignettes ... SKIPPED
* checking re-building of vignette outputs ... SKIPPED
* checking PDF version of manual ... OK
* DONE

Status: 2 NOTEs
See
  ‘/Users/biocbuild/bbs-3.3-bioc/meat/Genominator.Rcheck/00check.log’
for details.


Genominator.Rcheck/00install.out:

* installing *source* package ‘Genominator’ ...
** R
** data
** inst
** preparing package for lazy loading
** help
*** installing help indices
** building package indices
** installing vignettes
** testing if installed package can be loaded
* DONE (Genominator)

Genominator.Rcheck/Genominator-Ex.timings:

nameusersystemelapsed
ExpData0.0010.0000.002
addPrimingWeights3.0420.0823.158
aggregateExpData1.4620.0071.470
applyMapped0.9250.0110.936
collapseExpData1.6630.0311.701
computeCoverage0.7210.0180.738
computePrimingWeights0.2410.0100.252
getRegion0.2020.0020.204
importFromAlignedReads000
importToExpData0.4160.0030.419
joinExpData3.6860.0203.711
makeGeneRepresentation0.1200.0060.126
mergeWithAnnotation0.4440.0080.455
plot.genominator.coverage2.2520.0302.328
plot.genominator.goodness.of.fit0.5460.0150.561
regionGoodnessOfFit-methods0.5060.0140.521
splitByAnnotation0.8390.0100.849
summarizeByAnnotation0.4130.0080.421
summarizeExpData0.4670.0030.469
validAnnotation0.0140.0060.020
yeastAnno0.1240.0200.144