Back to the "Multiple platform build/check report" A  B  C  D  E  F [G] H  I  J  K  L  M  N  O  P  Q  R  S  T  U  V  W  X  Y  Z 

BioC 3.3: BUILD BIN report for Genominator on windows2.bioconductor.org

This page was generated on 2015-10-27 12:14:35 -0400 (Tue, 27 Oct 2015).

Package 427/1104HostnameOS / ArchINSTALLBUILDCHECKBUILD BIN
Genominator 1.25.0
James Bullard
Snapshot Date: 2015-10-26 20:20:04 -0400 (Mon, 26 Oct 2015)
URL: https://hedgehog.fhcrc.org/bioconductor/trunk/madman/Rpacks/Genominator
Last Changed Rev: 109592 / Revision: 109948
Last Changed Date: 2015-10-13 15:59:53 -0400 (Tue, 13 Oct 2015)
linux2.bioconductor.org Linux (Ubuntu 14.04.2 LTS) / x86_64  OK  OK  OK UNNEEDED, same version exists in internal repository
windows2.bioconductor.org Windows Server 2012 R2 Enterprise SP1 (64-bit) / x64  OK  OK  OK [ OK ]UNNEEDED, same version exists in internal repository

Summary

Package: Genominator
Version: 1.25.0
Command: cd Genominator.buildbin-libdir/Genominator && zip -r ../../Genominator_1.25.0.zip . & cd ../..
StartedAt: 2015-10-27 07:31:44 -0400 (Tue, 27 Oct 2015)
EndedAt: 2015-10-27 07:31:58 -0400 (Tue, 27 Oct 2015)
EllapsedTime: 14.8 seconds
RetCode: 0
Status:  OK  
PackageFile: Genominator_1.25.0.zip
PackageFileSize: 4.274 MiB

Command output

##############################################################################
##############################################################################
###
### Running command:
###
###   cd Genominator.buildbin-libdir/Genominator && zip -r ../../Genominator_1.25.0.zip . & cd ../..
###
##############################################################################
##############################################################################


  adding: benchmark/ (208 bytes security) (stored 0%)
  adding: benchmark/idxTiming.R (188 bytes security) (deflated 75%)
  adding: CITATION (188 bytes security) (deflated 50%)
  adding: data/ (208 bytes security) (stored 0%)
  adding: data/chr1_yeast.rda (188 bytes security) (deflated 0%)
  adding: data/yeastAnno.rda (188 bytes security) (deflated 0%)
  adding: data/yeastAnno.sources.rda (188 bytes security) (deflated 0%)
  adding: DESCRIPTION (188 bytes security) (deflated 36%)
  adding: doc/ (208 bytes security) (stored 0%)
  adding: doc/Genominator.pdf (188 bytes security) (deflated 13%)
  adding: doc/Genominator.R (188 bytes security) (deflated 81%)
  adding: doc/Genominator.Rnw (188 bytes security) (deflated 66%)
  adding: doc/index.html (188 bytes security) (deflated 73%)
  adding: doc/plotting.pdf (188 bytes security) (deflated 9%)
  adding: doc/plotting.R (188 bytes security) (deflated 75%)
  adding: doc/plotting.Rnw (188 bytes security) (deflated 63%)
  adding: doc/withShortRead.pdf (188 bytes security) (deflated 7%)
  adding: doc/withShortRead.R (188 bytes security) (deflated 80%)
  adding: doc/withShortRead.Rnw (188 bytes security) (deflated 63%)
  adding: help/ (208 bytes security) (stored 0%)
  adding: help/aliases.rds (188 bytes security) (stored 0%)
  adding: help/AnIndex (188 bytes security) (deflated 69%)
  adding: help/Genominator.rdb (188 bytes security) (deflated 1%)
  adding: help/Genominator.rdx (188 bytes security) (stored 0%)
  adding: help/paths.rds (188 bytes security) (stored 0%)
  adding: html/ (208 bytes security) (stored 0%)
  adding: html/00Index.html (188 bytes security) (deflated 78%)
  adding: html/R.css (188 bytes security) (deflated 75%)
  adding: INDEX (188 bytes security) (deflated 61%)
  adding: MD5 (188 bytes security) (deflated 46%)
  adding: Meta/ (208 bytes security) (stored 0%)
  adding: Meta/data.rds (188 bytes security) (stored 0%)
  adding: Meta/hsearch.rds (188 bytes security) (stored 0%)
  adding: Meta/links.rds (188 bytes security) (stored 0%)
  adding: Meta/nsInfo.rds (188 bytes security) (stored 0%)
  adding: Meta/package.rds (188 bytes security) (stored 0%)
  adding: Meta/Rd.rds (188 bytes security) (stored 0%)
  adding: Meta/vignette.rds (188 bytes security) (stored 0%)
  adding: NAMESPACE (188 bytes security) (deflated 56%)
  adding: NEWS (188 bytes security) (deflated 56%)
  adding: R/ (208 bytes security) (stored 0%)
  adding: R/Genominator (188 bytes security) (deflated 41%)
  adding: R/Genominator.rdb (188 bytes security) (deflated 20%)
  adding: R/Genominator.rdx (188 bytes security) (stored 0%)
  adding: sample.db (188 bytes security) (deflated 67%)
  adding: scripts/ (208 bytes security) (stored 0%)
  adding: scripts/consistency.txt (188 bytes security) (deflated 48%)
  adding: scripts/import-marioni.sh (188 bytes security) (deflated 60%)
  adding: scripts/pipeline-marioni.R (188 bytes security) (deflated 83%)
  adding: scripts/pipeline-marioni.sh (188 bytes security) (deflated 91%)
  adding: scripts/pipeline-yeast1.sh (188 bytes security) (deflated 46%)
  adding: scripts/pipeline.sh (188 bytes security) (deflated 53%)
  adding: scripts/reshape-marioni.pl (188 bytes security) (deflated 45%)
  adding: scripts/reshape-yeast1.pl (188 bytes security) (deflated 47%)
  adding: scripts/sqlimport.sh (188 bytes security) (deflated 48%)
  adding: scripts/temp.R (188 bytes security) (deflated 63%)