Back to the "Multiple platform build/check report" A  B  C  D  E  F [G] H  I  J  K  L  M  N  O  P  Q  R  S  T  U  V  W  X  Y  Z 

BioC 3.3: CHECK report for Genominator on linux2.bioconductor.org

This page was generated on 2015-10-27 12:11:48 -0400 (Tue, 27 Oct 2015).

Package 427/1104HostnameOS / ArchINSTALLBUILDCHECKBUILD BIN
Genominator 1.25.0
James Bullard
Snapshot Date: 2015-10-26 20:20:04 -0400 (Mon, 26 Oct 2015)
URL: https://hedgehog.fhcrc.org/bioconductor/trunk/madman/Rpacks/Genominator
Last Changed Rev: 109592 / Revision: 109948
Last Changed Date: 2015-10-13 15:59:53 -0400 (Tue, 13 Oct 2015)
linux2.bioconductor.org Linux (Ubuntu 14.04.2 LTS) / x86_64  OK  OK [ OK ]UNNEEDED, same version exists in internal repository
windows2.bioconductor.org Windows Server 2012 R2 Enterprise SP1 (64-bit) / x64  OK  OK  OK  OK UNNEEDED, same version exists in internal repository

Summary

Package: Genominator
Version: 1.25.0
Command: /home/biocbuild/bbs-3.3-bioc/R/bin/R CMD check --no-vignettes --timings Genominator_1.25.0.tar.gz
StartedAt: 2015-10-27 04:15:52 -0400 (Tue, 27 Oct 2015)
EndedAt: 2015-10-27 04:17:21 -0400 (Tue, 27 Oct 2015)
EllapsedTime: 88.7 seconds
RetCode: 0
Status:  OK 
CheckDir: Genominator.Rcheck
Warnings: 0

Command output

##############################################################################
##############################################################################
###
### Running command:
###
###   /home/biocbuild/bbs-3.3-bioc/R/bin/R CMD check --no-vignettes --timings Genominator_1.25.0.tar.gz
###
##############################################################################
##############################################################################


* using log directory ‘/home/biocbuild/bbs-3.3-bioc/meat/Genominator.Rcheck’
* using R Under development (unstable) (2015-09-09 r69333)
* using platform: x86_64-pc-linux-gnu (64-bit)
* using session charset: UTF-8
* using option ‘--no-vignettes’
* checking for file ‘Genominator/DESCRIPTION’ ... OK
* this is package ‘Genominator’ version ‘1.25.0’
* checking package namespace information ... OK
* checking package dependencies ... OK
* checking if this is a source package ... OK
* checking if there is a namespace ... OK
* checking for hidden files and directories ... OK
* checking for portable file names ... OK
* checking for sufficient/correct file permissions ... OK
* checking whether package ‘Genominator’ can be installed ... [6s/6s] OK
* checking installed package size ... OK
* checking package directory ... OK
* checking ‘build’ directory ... OK
* checking DESCRIPTION meta-information ... OK
* checking top-level files ... OK
* checking for left-over files ... OK
* checking index information ... OK
* checking package subdirectories ... OK
* checking R files for non-ASCII characters ... OK
* checking R files for syntax errors ... OK
* checking whether the package can be loaded ... OK
* checking whether the package can be loaded with stated dependencies ... OK
* checking whether the package can be unloaded cleanly ... OK
* checking whether the namespace can be loaded with stated dependencies ... OK
* checking whether the namespace can be unloaded cleanly ... OK
* checking dependencies in R code ... NOTE
'library' or 'require' calls to packages already attached by Depends:
  ‘GenomeGraphs’ ‘IRanges’
  Please remove these calls from your code.
'library' or 'require' call to ‘ShortRead’ in package code.
  Please use :: or requireNamespace() instead.
  See section 'Suggested packages' in the 'Writing R Extensions' manual.
Packages in Depends field not imported from:
  ‘GenomeGraphs’ ‘RSQLite’
  These packages need to be imported from (in the NAMESPACE file)
  for when this namespace is loaded but not attached.
* checking S3 generic/method consistency ... OK
* checking replacement functions ... OK
* checking foreign function calls ... OK
* checking R code for possible problems ... NOTE
addPrimingWeights: no visible global function definition for
  ‘varLabels’
addPrimingWeights: no visible global function definition for
  ‘alignData’
addPrimingWeights: no visible global function definition for ‘subseq’
addPrimingWeights: no visible global function definition for ‘sread’
addPrimingWeights: no visible global function definition for
  ‘AlignedDataFrame’
addPrimingWeights: no visible global function definition for ‘pData’
addPrimingWeights: no visible global function definition for
  ‘varMetadata’
computePrimingWeights: no visible global function definition for
  ‘mkAllStrings’
computePrimingWeights : p.compute: no visible global function
  definition for ‘tables’
computePrimingWeights : p.compute: no visible global function
  definition for ‘subseq’
computePrimingWeights : p.compute: no visible global function
  definition for ‘sread’
importFromAlignedReads : weights.AlignedRead: no visible global
  function definition for ‘varLabels’
importFromAlignedReads : weights.AlignedRead: no visible global
  function definition for ‘alignData’
importFromAlignedReads : importObject: no visible global function
  definition for ‘position’
importFromAlignedReads : importObject: no visible global function
  definition for ‘chromosome’
importFromAlignedReads : importObject: no visible global function
  definition for ‘varLabels’
importFromAlignedReads : importObject: no visible global function
  definition for ‘alignData’
importFromAlignedReads: no visible global function definition for
  ‘readAligned’
makeAnnoFactory: no visible global function definition for
  ‘DisplayPars’
makeAnnoFactory : regionAnno.Biomart: no visible global function
  definition for ‘geneRegionBiomart’
makeAnnoFactory : regionAnno.AnnoData: no visible global function
  definition for ‘makeAnnotationTrack’
makeRegionPlotter : <anonymous>: no visible global function definition
  for ‘DisplayPars’
makeRegionPlotter : <anonymous> : <anonymous>: no visible global
  function definition for ‘makeBaseTrack’
makeRegionPlotter : <anonymous> : <anonymous>: no visible global
  function definition for ‘makeGenericArray’
makeRegionPlotter : <anonymous>: no visible global function definition
  for ‘makeGenomeAxis’
makeRegionPlotter : <anonymous>: no visible global function definition
  for ‘gdPlot’
Undefined global functions or variables:
  AlignedDataFrame DisplayPars alignData chromosome gdPlot
  geneRegionBiomart makeAnnotationTrack makeBaseTrack makeGenericArray
  makeGenomeAxis mkAllStrings pData position readAligned sread subseq
  tables varLabels varMetadata
* checking Rd files ... OK
* checking Rd metadata ... OK
* checking Rd cross-references ... OK
* checking for missing documentation entries ... OK
* checking for code/documentation mismatches ... OK
* checking Rd \usage sections ... OK
* checking Rd contents ... OK
* checking for unstated dependencies in examples ... OK
* checking contents of ‘data’ directory ... OK
* checking data for non-ASCII characters ... OK
* checking data for ASCII and uncompressed saves ... OK
* checking installed files from ‘inst/doc’ ... OK
* checking files in ‘vignettes’ ... OK
* checking examples ... [24s/24s] OK
* checking for unstated dependencies in vignettes ... OK
* checking package vignettes in ‘inst/doc’ ... OK
* checking running R code from vignettes ... SKIPPED
* checking re-building of vignette outputs ... SKIPPED
* checking PDF version of manual ... OK
* DONE

Status: 2 NOTEs
See
  ‘/home/biocbuild/bbs-3.3-bioc/meat/Genominator.Rcheck/00check.log’
for details.


Genominator.Rcheck/00install.out:

* installing *source* package ‘Genominator’ ...
** R
** data
** inst
** preparing package for lazy loading
** help
*** installing help indices
** building package indices
** installing vignettes
** testing if installed package can be loaded
* DONE (Genominator)

Genominator.Rcheck/Genominator-Ex.timings:

nameusersystemelapsed
ExpData0.0010.0000.001
addPrimingWeights3.0290.0773.107
aggregateExpData1.830.001.83
applyMapped1.1390.0001.139
collapseExpData1.9360.0321.969
computeCoverage0.9100.0040.914
computePrimingWeights0.2340.0040.239
getRegion0.2650.0000.265
importFromAlignedReads0.0010.0000.001
importToExpData0.5360.0000.536
joinExpData4.7250.0084.738
makeGeneRepresentation0.1230.0000.123
mergeWithAnnotation0.5410.0000.541
plot.genominator.coverage2.7750.0242.803
plot.genominator.goodness.of.fit0.6620.0040.667
regionGoodnessOfFit-methods0.6170.0080.625
splitByAnnotation1.0450.0001.047
summarizeByAnnotation0.5370.0000.536
summarizeExpData0.5840.0000.585
validAnnotation0.0150.0000.016
yeastAnno0.1230.0000.127