Back to the "Multiple platform build/check report" A  B  C  D  E  F [G] H  I  J  K  L  M  N  O  P  Q  R  S  T  U  V  W  X  Y  Z 

BioC 3.3: BUILD report for GenomicFeatures on windows2.bioconductor.org

This page was generated on 2015-10-27 12:14:34 -0400 (Tue, 27 Oct 2015).

Package 422/1104HostnameOS / ArchINSTALLBUILDCHECKBUILD BIN
GenomicFeatures 1.23.4
Bioconductor Package Maintainer
Snapshot Date: 2015-10-26 20:20:04 -0400 (Mon, 26 Oct 2015)
URL: https://hedgehog.fhcrc.org/bioconductor/trunk/madman/Rpacks/GenomicFeatures
Last Changed Rev: 109858 / Revision: 109948
Last Changed Date: 2015-10-23 00:47:11 -0400 (Fri, 23 Oct 2015)
linux2.bioconductor.org Linux (Ubuntu 14.04.2 LTS) / x86_64  OK  OK  WARNINGS UNNEEDED, same version exists in internal repository
windows2.bioconductor.org Windows Server 2012 R2 Enterprise SP1 (64-bit) / x64  OK [ OK ] WARNINGS  OK UNNEEDED, same version exists in internal repository

Summary

Package: GenomicFeatures
Version: 1.23.4
Command: chmod a+r GenomicFeatures -R && c:\biocbld\bbs-3.3-bioc\R\bin\R.exe CMD build --keep-empty-dirs --no-resave-data GenomicFeatures
StartedAt: 2015-10-26 21:42:01 -0400 (Mon, 26 Oct 2015)
EndedAt: 2015-10-26 21:43:03 -0400 (Mon, 26 Oct 2015)
EllapsedTime: 62.2 seconds
RetCode: 0
Status:  OK  
PackageFile: GenomicFeatures_1.23.4.tar.gz
PackageFileSize: 796.3 KiB

Command output

##############################################################################
##############################################################################
###
### Running command:
###
###   chmod a+r GenomicFeatures -R && c:\biocbld\bbs-3.3-bioc\R\bin\R.exe CMD build --keep-empty-dirs --no-resave-data GenomicFeatures
###
##############################################################################
##############################################################################


* checking for file 'GenomicFeatures/DESCRIPTION' ... OK
* preparing 'GenomicFeatures':
* checking DESCRIPTION meta-information ... OK
* installing the package to build vignettes
* creating vignettes ... OK
* checking for LF line-endings in source and make files
* checking for empty or unneeded directories
WARNING: directory 'GenomicFeatures/inst/txdb-template/inst/extdata' is empty
* building 'GenomicFeatures_1.23.4.tar.gz'