Back to the "Multiple platform build/check report" A  B  C  D  E  F [G] H  I  J  K  L  M  N  O  P  Q  R  S  T  U  V  W  X  Y  Z 

BioC 3.3: INSTALL report for GenomicFeatures on linux2.bioconductor.org

This page was generated on 2015-10-27 12:11:47 -0400 (Tue, 27 Oct 2015).

Package 422/1104HostnameOS / ArchINSTALLBUILDCHECKBUILD BIN
GenomicFeatures 1.23.4
Bioconductor Package Maintainer
Snapshot Date: 2015-10-26 20:20:04 -0400 (Mon, 26 Oct 2015)
URL: https://hedgehog.fhcrc.org/bioconductor/trunk/madman/Rpacks/GenomicFeatures
Last Changed Rev: 109858 / Revision: 109948
Last Changed Date: 2015-10-23 00:47:11 -0400 (Fri, 23 Oct 2015)
linux2.bioconductor.org Linux (Ubuntu 14.04.2 LTS) / x86_64 [ OK ] OK  WARNINGS UNNEEDED, same version exists in internal repository
windows2.bioconductor.org Windows Server 2012 R2 Enterprise SP1 (64-bit) / x64  OK  OK  WARNINGS  OK UNNEEDED, same version exists in internal repository

Summary

Package: GenomicFeatures
Version: 1.23.4
Command: /home/biocbuild/bbs-3.3-bioc/R/bin/R CMD INSTALL GenomicFeatures
StartedAt: 2015-10-26 21:10:37 -0400 (Mon, 26 Oct 2015)
EndedAt: 2015-10-26 21:10:53 -0400 (Mon, 26 Oct 2015)
EllapsedTime: 15.4 seconds
RetCode: 0
Status:  OK 

Command output

##############################################################################
##############################################################################
###
### Running command:
###
###   /home/biocbuild/bbs-3.3-bioc/R/bin/R CMD INSTALL GenomicFeatures
###
##############################################################################
##############################################################################


* installing to library ‘/home/biocbuild/bbs-3.3-bioc/R/library’
* installing *source* package ‘GenomicFeatures’ ...
** R
** inst
** preparing package for lazy loading
** help
*** installing help indices
** building package indices
** installing vignettes
** testing if installed package can be loaded
* DONE (GenomicFeatures)