Back to the "Multiple platform build/check report" A  B  C  D  E  F [G] H  I  J  K  L  M  N  O  P  Q  R  S  T  U  V  W  X  Y  Z 

BioC 3.3: INSTALL report for GenomeInfoDb on morelia

This page was generated on 2015-10-22 17:54:05 -0400 (Thu, 22 Oct 2015).

Package 418/1104HostnameOS / ArchINSTALLBUILDCHECKBUILD BIN
GenomeInfoDb 1.7.1
Bioconductor Package Maintainer
Snapshot Date: 2015-10-21 20:20:05 -0400 (Wed, 21 Oct 2015)
URL: https://hedgehog.fhcrc.org/bioconductor/trunk/madman/Rpacks/GenomeInfoDb
Last Changed Rev: 109798 / Revision: 109826
Last Changed Date: 2015-10-20 12:24:47 -0400 (Tue, 20 Oct 2015)
linux2.bioconductor.org Linux (Ubuntu 14.04.2 LTS) / x86_64  OK  OK  OK YES, new version is higher than in internal repository
windows2.bioconductor.org Windows Server 2012 R2 Enterprise SP1 (64-bit) / x64  OK  OK  OK  OK YES, new version is higher than in internal repository
morelia Mac OS X Mavericks (10.9.5) / x86_64 [ OK ] OK  OK  OK YES, new version is higher than in internal repository

Summary

Package: GenomeInfoDb
Version: 1.7.1
Command: /Library/Frameworks/R.framework/Versions/Current/Resources/bin/R CMD INSTALL GenomeInfoDb
StartedAt: 2015-10-21 21:23:32 -0400 (Wed, 21 Oct 2015)
EndedAt: 2015-10-21 21:23:45 -0400 (Wed, 21 Oct 2015)
EllapsedTime: 12.9 seconds
RetCode: 0
Status:  OK 

Command output

##############################################################################
##############################################################################
###
### Running command:
###
###   /Library/Frameworks/R.framework/Versions/Current/Resources/bin/R CMD INSTALL GenomeInfoDb
###
##############################################################################
##############################################################################


* installing to library ‘/Library/Frameworks/R.framework/Versions/3.3/Resources/library’
* installing *source* package ‘GenomeInfoDb’ ...
** R
** data
** inst
** preparing package for lazy loading
** help
*** installing help indices
** building package indices
** installing vignettes
** testing if installed package can be loaded
* DONE (GenomeInfoDb)