Back to the "Multiple platform build/check report" A  B  C  D  E  F [G] H  I  J  K  L  M  N  O  P  Q  R  S  T  U  V  W  X  Y  Z 

BioC 3.3: BUILD BIN report for GenomeInfoDb on windows2.bioconductor.org

This page was generated on 2015-10-27 12:15:30 -0400 (Tue, 27 Oct 2015).

Package 418/1104HostnameOS / ArchINSTALLBUILDCHECKBUILD BIN
GenomeInfoDb 1.7.2
Bioconductor Package Maintainer
Snapshot Date: 2015-10-26 20:20:04 -0400 (Mon, 26 Oct 2015)
URL: https://hedgehog.fhcrc.org/bioconductor/trunk/madman/Rpacks/GenomeInfoDb
Last Changed Rev: 109850 / Revision: 109948
Last Changed Date: 2015-10-22 22:23:03 -0400 (Thu, 22 Oct 2015)
linux2.bioconductor.org Linux (Ubuntu 14.04.2 LTS) / x86_64  OK  OK  OK UNNEEDED, same version exists in internal repository
windows2.bioconductor.org Windows Server 2012 R2 Enterprise SP1 (64-bit) / x64  OK  OK  OK [ OK ]UNNEEDED, same version exists in internal repository

Summary

Package: GenomeInfoDb
Version: 1.7.2
Command: cd GenomeInfoDb.buildbin-libdir/GenomeInfoDb && zip -r ../../GenomeInfoDb_1.7.2.zip . & cd ../..
StartedAt: 2015-10-27 07:31:29 -0400 (Tue, 27 Oct 2015)
EndedAt: 2015-10-27 07:31:44 -0400 (Tue, 27 Oct 2015)
EllapsedTime: 14.3 seconds
RetCode: 0
Status:  OK  
PackageFile: GenomeInfoDb_1.7.2.zip
PackageFileSize: 37.3 MiB

Command output

##############################################################################
##############################################################################
###
### Running command:
###
###   cd GenomeInfoDb.buildbin-libdir/GenomeInfoDb && zip -r ../../GenomeInfoDb_1.7.2.zip . & cd ../..
###
##############################################################################
##############################################################################


  adding: data/ (208 bytes security) (stored 0%)
  adding: data/datalist (188 bytes security) (stored 0%)
  adding: data/specData.rda (188 bytes security) (deflated 15%)
  adding: data/speciesMap.rda (188 bytes security) (deflated 0%)
  adding: data/validTaxIds.rda (188 bytes security) (deflated 0%)
  adding: DESCRIPTION (188 bytes security) (deflated 43%)
  adding: doc/ (208 bytes security) (stored 0%)
  adding: doc/Accept-organism-for-GenomeInfoDb.pdf (188 bytes security) (deflated 10%)
  adding: doc/Accept-organism-for-GenomeInfoDb.Rnw (188 bytes security) (deflated 56%)
  adding: doc/GenomeInfoDb.pdf (188 bytes security) (deflated 16%)
  adding: doc/GenomeInfoDb.Rnw (188 bytes security) (deflated 64%)
  adding: doc/index.html (188 bytes security) (deflated 68%)
  adding: extdata/ (208 bytes security) (stored 0%)
  adding: extdata/dataFiles/ (208 bytes security) (stored 0%)
  adding: extdata/dataFiles/Arabidopsis_thaliana.txt (188 bytes security) (deflated 32%)
  adding: extdata/dataFiles/Caenorhabditis_elegans.txt (188 bytes security) (deflated 39%)
  adding: extdata/dataFiles/Canis_familiaris.txt (188 bytes security) (deflated 66%)
  adding: extdata/dataFiles/Cyanidioschyzon_merolae.txt (188 bytes security) (deflated 55%)
  adding: extdata/dataFiles/Drosophila_melanogaster.txt (188 bytes security) (deflated 50%)
  adding: extdata/dataFiles/Homo_sapiens.txt (188 bytes security) (deflated 62%)
  adding: extdata/dataFiles/Mus_musculus.txt (188 bytes security) (deflated 59%)
  adding: extdata/dataFiles/Oryza_sativa.txt (188 bytes security) (deflated 42%)
  adding: extdata/dataFiles/Populus_trichocarpa.txt (188 bytes security) (deflated 58%)
  adding: extdata/dataFiles/Rattus_norvegicus.txt (188 bytes security) (deflated 72%)
  adding: extdata/dataFiles/Saccharomyces_cerevisiae.txt (188 bytes security) (deflated 59%)
  adding: extdata/dataFiles/Zea_mays.txt (188 bytes security) (deflated 35%)
  adding: help/ (208 bytes security) (stored 0%)
  adding: help/aliases.rds (188 bytes security) (stored 0%)
  adding: help/AnIndex (188 bytes security) (deflated 82%)
  adding: help/GenomeInfoDb.rdb (188 bytes security) (deflated 1%)
  adding: help/GenomeInfoDb.rdx (188 bytes security) (stored 0%)
  adding: help/paths.rds (188 bytes security) (stored 0%)
  adding: html/ (208 bytes security) (stored 0%)
  adding: html/00Index.html (188 bytes security) (deflated 89%)
  adding: html/R.css (188 bytes security) (deflated 75%)
  adding: INDEX (188 bytes security) (deflated 59%)
  adding: MD5 (188 bytes security) (deflated 46%)
  adding: Meta/ (208 bytes security) (stored 0%)
  adding: Meta/data.rds (188 bytes security) (stored 0%)
  adding: Meta/hsearch.rds (188 bytes security) (stored 0%)
  adding: Meta/links.rds (188 bytes security) (stored 0%)
  adding: Meta/nsInfo.rds (188 bytes security) (stored 0%)
  adding: Meta/package.rds (188 bytes security) (stored 0%)
  adding: Meta/Rd.rds (188 bytes security) (stored 0%)
  adding: Meta/vignette.rds (188 bytes security) (stored 0%)
  adding: NAMESPACE (188 bytes security) (deflated 72%)
  adding: NEWS (188 bytes security) (deflated 70%)
  adding: R/ (208 bytes security) (stored 0%)
  adding: R/GenomeInfoDb (188 bytes security) (deflated 41%)
  adding: R/GenomeInfoDb.rdb (188 bytes security) (deflated 34%)
  adding: R/GenomeInfoDb.rdx (188 bytes security) (deflated 1%)
  adding: unitTests/ (208 bytes security) (stored 0%)
  adding: unitTests/test_Seqinfo-class.R (188 bytes security) (deflated 75%)
  adding: unitTests/test_seqlevels-wrappers.R (188 bytes security) (deflated 77%)
  adding: unitTests/test_seqlevelsStyle.R (188 bytes security) (deflated 67%)
  adding: unitTests/test_utils.R (188 bytes security) (deflated 71%)