Back to the "Multiple platform build/check report" A  B  C  D  E  F [G] H  I  J  K  L  M  N  O  P  Q  R  S  T  U  V  W  X  Y  Z 

BioC 3.3: CHECK report for GenomeInfoDb on morelia

This page was generated on 2015-10-22 17:54:05 -0400 (Thu, 22 Oct 2015).

Package 418/1104HostnameOS / ArchINSTALLBUILDCHECKBUILD BIN
GenomeInfoDb 1.7.1
Bioconductor Package Maintainer
Snapshot Date: 2015-10-21 20:20:05 -0400 (Wed, 21 Oct 2015)
URL: https://hedgehog.fhcrc.org/bioconductor/trunk/madman/Rpacks/GenomeInfoDb
Last Changed Rev: 109798 / Revision: 109826
Last Changed Date: 2015-10-20 12:24:47 -0400 (Tue, 20 Oct 2015)
linux2.bioconductor.org Linux (Ubuntu 14.04.2 LTS) / x86_64  OK  OK  OK YES, new version is higher than in internal repository
windows2.bioconductor.org Windows Server 2012 R2 Enterprise SP1 (64-bit) / x64  OK  OK  OK  OK YES, new version is higher than in internal repository
morelia Mac OS X Mavericks (10.9.5) / x86_64  OK  OK [ OK ] OK YES, new version is higher than in internal repository

Summary

Package: GenomeInfoDb
Version: 1.7.1
Command: /Library/Frameworks/R.framework/Versions/Current/Resources/bin/R CMD check --no-vignettes --timings GenomeInfoDb_1.7.1.tar.gz
StartedAt: 2015-10-22 06:26:38 -0400 (Thu, 22 Oct 2015)
EndedAt: 2015-10-22 06:28:15 -0400 (Thu, 22 Oct 2015)
EllapsedTime: 96.8 seconds
RetCode: 0
Status:  OK 
CheckDir: GenomeInfoDb.Rcheck
Warnings: 0

Command output

##############################################################################
##############################################################################
###
### Running command:
###
###   /Library/Frameworks/R.framework/Versions/Current/Resources/bin/R CMD check --no-vignettes --timings GenomeInfoDb_1.7.1.tar.gz
###
##############################################################################
##############################################################################


* using log directory ‘/Users/biocbuild/bbs-3.3-bioc/meat/GenomeInfoDb.Rcheck’
* using R Under development (unstable) (2015-10-08 r69496)
* using platform: x86_64-apple-darwin13.4.0 (64-bit)
* using session charset: UTF-8
* using option ‘--no-vignettes’
* checking for file ‘GenomeInfoDb/DESCRIPTION’ ... OK
* this is package ‘GenomeInfoDb’ version ‘1.7.1’
* checking package namespace information ... OK
* checking package dependencies ... OK
* checking if this is a source package ... OK
* checking if there is a namespace ... OK
* checking for hidden files and directories ... OK
* checking for portable file names ... OK
* checking for sufficient/correct file permissions ... OK
* checking whether package ‘GenomeInfoDb’ can be installed ... [4s/4s] OK
* checking installed package size ... NOTE
  installed size is 20.7Mb
  sub-directories of 1Mb or more:
    data  20.0Mb
* checking package directory ... OK
* checking ‘build’ directory ... OK
* checking DESCRIPTION meta-information ... NOTE
Packages listed in more than one of Depends, Imports, Suggests, Enhances:
  ‘methods’ ‘BiocGenerics’ ‘S4Vectors’
A package should be listed in only one of these fields.
* checking top-level files ... OK
* checking for left-over files ... OK
* checking index information ... OK
* checking package subdirectories ... OK
* checking R files for non-ASCII characters ... OK
* checking R files for syntax errors ... OK
* checking whether the package can be loaded ... OK
* checking whether the package can be loaded with stated dependencies ... OK
* checking whether the package can be unloaded cleanly ... OK
* checking whether the namespace can be loaded with stated dependencies ... OK
* checking whether the namespace can be unloaded cleanly ... OK
* checking dependencies in R code ... NOTE
Unexported object imported by a ':::' call: ‘utils:::.roman2numeric’
  See the note in ?`:::` about the use of this operator.
* checking S3 generic/method consistency ... OK
* checking replacement functions ... OK
* checking foreign function calls ... OK
* checking R code for possible problems ... NOTE
.lookupSpeciesFromTaxId: no visible binding for global variable
  ‘specData’
Undefined global functions or variables:
  specData
* checking Rd files ... OK
* checking Rd metadata ... OK
* checking Rd cross-references ... OK
* checking for missing documentation entries ... OK
* checking for code/documentation mismatches ... OK
* checking Rd \usage sections ... OK
* checking Rd contents ... OK
* checking for unstated dependencies in examples ... OK
* checking contents of ‘data’ directory ... OK
* checking data for non-ASCII characters ... OK
* checking data for ASCII and uncompressed saves ... OK
* checking sizes of PDF files under ‘inst/doc’ ... OK
* checking installed files from ‘inst/doc’ ... OK
* checking files in ‘vignettes’ ... OK
* checking examples ... [23s/26s] OK
Examples with CPU or elapsed time > 5s
                  user system elapsed
availableSpecies 8.048  0.142   8.194
* checking for unstated dependencies in ‘tests’ ... OK
* checking tests ...
  Running ‘runTests.R’ [5s/5s]
 [5s/5s] OK
* checking for unstated dependencies in vignettes ... OK
* checking package vignettes in ‘inst/doc’ ... OK
* checking running R code from vignettes ... SKIPPED
* checking re-building of vignette outputs ... SKIPPED
* checking PDF version of manual ... OK
* DONE

Status: 4 NOTEs
See
  ‘/Users/biocbuild/bbs-3.3-bioc/meat/GenomeInfoDb.Rcheck/00check.log’
for details.


GenomeInfoDb.Rcheck/00install.out:

* installing *source* package ‘GenomeInfoDb’ ...
** R
** data
** inst
** preparing package for lazy loading
** help
*** installing help indices
** building package indices
** installing vignettes
** testing if installed package can be loaded
* DONE (GenomeInfoDb)

GenomeInfoDb.Rcheck/GenomeInfoDb-Ex.timings:

nameusersystemelapsed
GenomeDescription-class3.4680.0983.694
Seqinfo-class0.0460.0090.057
availableSpecies8.0480.1428.194
fetchExtendedChromInfoFromUCSC0.7630.1192.280
rankSeqlevels0.1270.0080.205
seqinfo1.5750.0841.996
seqlevels-wrappers1.6410.1502.003
seqlevelsStyle0.2350.0300.265
speciesMap4.8340.1414.976