Back to the "Multiple platform build/check report" A  B  C  D  E  F [G] H  I  J  K  L  M  N  O  P  Q  R  S  T  U  V  W  X  Y  Z 

BioC 3.3: CHECK report for GWASTools on morelia

This page was generated on 2015-10-22 17:53:09 -0400 (Thu, 22 Oct 2015).

Package 481/1104HostnameOS / ArchINSTALLBUILDCHECKBUILD BIN
GWASTools 1.17.3
Stephanie M. Gogarten , Adrienne Stilp
Snapshot Date: 2015-10-21 20:20:05 -0400 (Wed, 21 Oct 2015)
URL: https://hedgehog.fhcrc.org/bioconductor/trunk/madman/Rpacks/GWASTools
Last Changed Rev: 109692 / Revision: 109826
Last Changed Date: 2015-10-16 12:51:14 -0400 (Fri, 16 Oct 2015)
linux2.bioconductor.org Linux (Ubuntu 14.04.2 LTS) / x86_64  OK  OK  OK UNNEEDED, same version exists in internal repository
windows2.bioconductor.org Windows Server 2012 R2 Enterprise SP1 (64-bit) / x64  OK  OK  OK  OK UNNEEDED, same version exists in internal repository
morelia Mac OS X Mavericks (10.9.5) / x86_64  OK  OK [ OK ] OK UNNEEDED, same version exists in internal repository

Summary

Package: GWASTools
Version: 1.17.3
Command: /Library/Frameworks/R.framework/Versions/Current/Resources/bin/R CMD check --no-vignettes --timings GWASTools_1.17.3.tar.gz
StartedAt: 2015-10-22 07:02:34 -0400 (Thu, 22 Oct 2015)
EndedAt: 2015-10-22 07:07:19 -0400 (Thu, 22 Oct 2015)
EllapsedTime: 285.3 seconds
RetCode: 0
Status:  OK 
CheckDir: GWASTools.Rcheck
Warnings: 0

Command output

##############################################################################
##############################################################################
###
### Running command:
###
###   /Library/Frameworks/R.framework/Versions/Current/Resources/bin/R CMD check --no-vignettes --timings GWASTools_1.17.3.tar.gz
###
##############################################################################
##############################################################################


* using log directory ‘/Users/biocbuild/bbs-3.3-bioc/meat/GWASTools.Rcheck’
* using R Under development (unstable) (2015-10-08 r69496)
* using platform: x86_64-apple-darwin13.4.0 (64-bit)
* using session charset: UTF-8
* using option ‘--no-vignettes’
* checking for file ‘GWASTools/DESCRIPTION’ ... OK
* checking extension type ... Package
* this is package ‘GWASTools’ version ‘1.17.3’
* checking package namespace information ... OK
* checking package dependencies ... OK
* checking if this is a source package ... OK
* checking if there is a namespace ... OK
* checking for hidden files and directories ... OK
* checking for portable file names ... OK
* checking for sufficient/correct file permissions ... OK
* checking whether package ‘GWASTools’ can be installed ... [8s/9s] OK
* checking installed package size ... OK
* checking package directory ... OK
* checking ‘build’ directory ... OK
* checking DESCRIPTION meta-information ... OK
* checking top-level files ... OK
* checking for left-over files ... OK
* checking index information ... OK
* checking package subdirectories ... OK
* checking R files for non-ASCII characters ... OK
* checking R files for syntax errors ... OK
* checking whether the package can be loaded ... OK
* checking whether the package can be loaded with stated dependencies ... OK
* checking whether the package can be unloaded cleanly ... OK
* checking whether the namespace can be loaded with stated dependencies ... OK
* checking whether the namespace can be unloaded cleanly ... OK
* checking dependencies in R code ... OK
* checking S3 generic/method consistency ... OK
* checking replacement functions ... OK
* checking foreign function calls ... OK
* checking R code for possible problems ... OK
* checking Rd files ... OK
* checking Rd metadata ... OK
* checking Rd cross-references ... OK
* checking for missing documentation entries ... OK
* checking for code/documentation mismatches ... OK
* checking Rd \usage sections ... OK
* checking Rd contents ... OK
* checking for unstated dependencies in examples ... OK
* checking contents of ‘data’ directory ... OK
* checking data for non-ASCII characters ... OK
* checking data for ASCII and uncompressed saves ... OK
* checking sizes of PDF files under ‘inst/doc’ ... OK
* checking installed files from ‘inst/doc’ ... OK
* checking files in ‘vignettes’ ... OK
* checking examples ... [32s/33s] OK
Examples with CPU or elapsed time > 5s
          user system elapsed
vcfWrite 8.123  0.178   8.319
* checking for unstated dependencies in ‘tests’ ... OK
* checking tests ...
  Running ‘test.R’ [146s/148s]
 [146s/148s] OK
* checking for unstated dependencies in vignettes ... OK
* checking package vignettes in ‘inst/doc’ ... OK
* checking running R code from vignettes ... SKIPPED
* checking re-building of vignette outputs ... SKIPPED
* checking PDF version of manual ... OK
* DONE

Status: OK

GWASTools.Rcheck/00install.out:

* installing *source* package ‘GWASTools’ ...
** R
** data
*** moving datasets to lazyload DB
** inst
** preparing package for lazy loading
Creating a generic function for ‘open’ from package ‘base’ in package ‘GWASTools’
Creating a generic function for ‘close’ from package ‘base’ in package ‘GWASTools’
** help
*** installing help indices
** building package indices
** installing vignettes
** testing if installed package can be loaded
* DONE (GWASTools)

GWASTools.Rcheck/GWASTools-Ex.timings:

nameusersystemelapsed
BAFfromClusterMeans0.8940.0361.303
BAFfromGenotypes0.0010.0000.001
GdsGenotypeReader-class0.0270.0020.065
GdsIntensityReader-class0.0210.0010.022
GdsReader-class0.0370.0050.121
GenotypeData-class0.2430.0070.306
HLA0.0020.0000.003
IntensityData-class0.0310.0040.036
MatrixGenotypeReader-class0.0020.0010.004
NcdfGenotypeReader-class0.0120.0010.039
NcdfIntensityReader-class0.0160.0020.032
NcdfReader-class0.0050.0010.015
ScanAnnotationDataFrame-class0.0570.0040.066
ScanAnnotationSQLite-class0.0430.0050.048
SnpAnnotationDataFrame-class0.1010.0020.103
SnpAnnotationSQLite-class0.0980.0080.107
alleleFrequency0.1040.0070.112
allequal0.0000.0000.001
anomDetectBAF0.8310.0100.864
anomDetectLOH0.5800.0050.586
anomIdentifyLowQuality0.6870.0180.706
anomSegStats0.2940.0200.335
apartSnpSelection0.0650.0040.085
assocCoxPH0.4490.0100.459
assocRegression0.8230.0090.834
batchTest1.0020.0181.024
centromeres0.0020.0010.003
chromIntensityPlot0.0630.0030.067
convertNcdfGds0.2340.0300.269
convertVcfGds0.0350.0030.053
createDataFile0.7500.0220.838
duplicateDiscordance0.4330.0350.469
duplicateDiscordanceAcrossDatasets0.1680.0020.171
duplicateDiscordanceProbability0.0010.0000.002
exactHWE0.1670.0110.199
findBAFvariance0.2980.0110.309
gdsSubset0.0200.0020.023
genoClusterPlot0.7320.0320.814
genotypeToCharacter0.0020.0000.001
getobj0.0010.0000.002
hetByScanChrom0.1660.0040.170
hetBySnpSex0.0910.0050.096
ibdPlot0.0210.0000.022
imputedDosageFile1.3750.0331.488
intensityOutliersPlot0.2940.0110.306
manhattanPlot0.0120.0010.014
meanIntensityByScanChrom0.4250.0110.436
mendelErr1.1290.0381.169
mendelList0.0140.0010.014
missingGenotypeByScanChrom0.1540.0040.157
missingGenotypeBySnpSex0.1190.0010.121
ncdfSubset0.0550.0030.058
pasteSorted0.0010.0000.001
pcaSnpFilters0.0050.0010.005
pedigreeCheck0.0570.0020.058
pedigreeDeleteDuplicates0.0080.0000.008
pedigreeMaxUnrelated0.1080.0010.109
pedigreePairwiseRelatedness0.0360.0000.037
plinkToNcdf2.1160.0462.188
plinkUtils3.0900.0833.174
pseudoautoIntensityPlot0.0480.0020.052
pseudoautosomal0.0030.0000.004
qqPlot0.0800.0030.084
qualityScoreByScan0.2410.0040.255
qualityScoreBySnp0.0480.0050.053
readWriteFirst0.0040.0000.006
relationsMeanVar0.0020.0000.002
saveas0.0020.0010.002
setMissingGenotypes0.0740.0030.077
simulateGenotypeMatrix0.4460.0110.458
simulateIntensityMatrix0.0850.0110.104
snpCorrelationPlot0.0180.0010.020
snpStats0.5450.0240.569
vcfWrite8.1230.1788.319