| Back to the "Multiple platform build/check report" | A B C D E F [G] H I J K L M N O P Q R S T U V W X Y Z |
This page was generated on 2015-10-27 12:14:54 -0400 (Tue, 27 Oct 2015).
| Package 481/1104 | Hostname | OS / Arch | INSTALL | BUILD | CHECK | BUILD BIN | |||||
| GWASTools 1.17.3 Stephanie M. Gogarten
| linux2.bioconductor.org | Linux (Ubuntu 14.04.2 LTS) / x86_64 | OK | OK | OK | ||||||
| windows2.bioconductor.org | Windows Server 2012 R2 Enterprise SP1 (64-bit) / x64 | OK | OK | [ OK ] | OK |
| Package: GWASTools |
| Version: 1.17.3 |
| Command: rm -rf GWASTools.buildbin-libdir GWASTools.Rcheck && mkdir GWASTools.buildbin-libdir GWASTools.Rcheck && c:\biocbld\bbs-3.3-bioc\R\bin\R.exe CMD INSTALL --build --merge-multiarch --library=GWASTools.buildbin-libdir GWASTools_1.17.3.tar.gz >GWASTools.Rcheck\00install.out 2>&1 && cp GWASTools.Rcheck\00install.out GWASTools-install.out && c:\biocbld\bbs-3.3-bioc\R\bin\R.exe CMD check --library=GWASTools.buildbin-libdir --install="check:GWASTools-install.out" --force-multiarch --no-vignettes --timings GWASTools_1.17.3.tar.gz |
| StartedAt: 2015-10-27 03:09:14 -0400 (Tue, 27 Oct 2015) |
| EndedAt: 2015-10-27 03:16:46 -0400 (Tue, 27 Oct 2015) |
| EllapsedTime: 452.1 seconds |
| RetCode: 0 |
| Status: OK |
| CheckDir: GWASTools.Rcheck |
| Warnings: 0 |
##############################################################################
##############################################################################
###
### Running command:
###
### rm -rf GWASTools.buildbin-libdir GWASTools.Rcheck && mkdir GWASTools.buildbin-libdir GWASTools.Rcheck && c:\biocbld\bbs-3.3-bioc\R\bin\R.exe CMD INSTALL --build --merge-multiarch --library=GWASTools.buildbin-libdir GWASTools_1.17.3.tar.gz >GWASTools.Rcheck\00install.out 2>&1 && cp GWASTools.Rcheck\00install.out GWASTools-install.out && c:\biocbld\bbs-3.3-bioc\R\bin\R.exe CMD check --library=GWASTools.buildbin-libdir --install="check:GWASTools-install.out" --force-multiarch --no-vignettes --timings GWASTools_1.17.3.tar.gz
###
##############################################################################
##############################################################################
* using log directory 'c:/biocbld/bbs-3.3-bioc/meat/GWASTools.Rcheck'
* using R Under development (unstable) (2015-09-22 r69418)
* using platform: x86_64-w64-mingw32 (64-bit)
* using session charset: ISO8859-1
* using option '--no-vignettes'
* checking for file 'GWASTools/DESCRIPTION' ... OK
* checking extension type ... Package
* this is package 'GWASTools' version '1.17.3'
* checking package namespace information ... OK
* checking package dependencies ... OK
* checking if this is a source package ... OK
* checking if there is a namespace ... OK
* checking for hidden files and directories ... OK
* checking for portable file names ... OK
* checking whether package 'GWASTools' can be installed ... OK
* checking installed package size ... OK
* checking package directory ... OK
* checking 'build' directory ... OK
* checking DESCRIPTION meta-information ... OK
* checking top-level files ... OK
* checking for left-over files ... OK
* checking index information ... OK
* checking package subdirectories ... OK
* checking R files for non-ASCII characters ... OK
* checking R files for syntax errors ... OK
* loading checks for arch 'i386'
** checking whether the package can be loaded ... OK
** checking whether the package can be loaded with stated dependencies ... OK
** checking whether the package can be unloaded cleanly ... OK
** checking whether the namespace can be loaded with stated dependencies ... OK
** checking whether the namespace can be unloaded cleanly ... OK
* loading checks for arch 'x64'
** checking whether the package can be loaded ... OK
** checking whether the package can be loaded with stated dependencies ... OK
** checking whether the package can be unloaded cleanly ... OK
** checking whether the namespace can be loaded with stated dependencies ... OK
** checking whether the namespace can be unloaded cleanly ... OK
* checking dependencies in R code ... OK
* checking S3 generic/method consistency ... OK
* checking replacement functions ... OK
* checking foreign function calls ... OK
* checking R code for possible problems ... OK
* checking Rd files ... OK
* checking Rd metadata ... OK
* checking Rd cross-references ... OK
* checking for missing documentation entries ... OK
* checking for code/documentation mismatches ... OK
* checking Rd \usage sections ... OK
* checking Rd contents ... OK
* checking for unstated dependencies in examples ... OK
* checking contents of 'data' directory ... OK
* checking data for non-ASCII characters ... OK
* checking data for ASCII and uncompressed saves ... OK
* checking installed files from 'inst/doc' ... OK
* checking files in 'vignettes' ... OK
* checking examples ...
** running examples for arch 'i386' ... [34s] OK
Examples with CPU or elapsed time > 5s
user system elapsed
vcfWrite 7.3 0.14 7.44
** running examples for arch 'x64' ... [31s] OK
Examples with CPU or elapsed time > 5s
user system elapsed
vcfWrite 7.67 0.09 7.78
* checking for unstated dependencies in 'tests' ... OK
* checking tests ...
** running tests for arch 'i386' ...
Running 'test.R' [127s]
[127s] OK
** running tests for arch 'x64' ...
Running 'test.R' [142s]
[143s] OK
* checking for unstated dependencies in vignettes ... OK
* checking package vignettes in 'inst/doc' ... OK
* checking running R code from vignettes ... SKIPPED
* checking re-building of vignette outputs ... SKIPPED
* checking PDF version of manual ... OK
* DONE
Status: OK
GWASTools.Rcheck/00install.out:
install for i386 * installing *source* package 'GWASTools' ... ** R ** data *** moving datasets to lazyload DB ** inst ** preparing package for lazy loading Creating a generic function for 'open' from package 'base' in package 'GWASTools' Creating a generic function for 'close' from package 'base' in package 'GWASTools' ** help *** installing help indices ** building package indices ** installing vignettes ** testing if installed package can be loaded install for x64 * installing *source* package 'GWASTools' ... ** testing if installed package can be loaded * MD5 sums packaged installation of 'GWASTools' as GWASTools_1.17.3.zip * DONE (GWASTools)
GWASTools.Rcheck/examples_i386/GWASTools-Ex.timings:
| name | user | system | elapsed | |
| BAFfromClusterMeans | 1.14 | 0.03 | 1.50 | |
| BAFfromGenotypes | 0 | 0 | 0 | |
| GdsGenotypeReader-class | 0.00 | 0.01 | 0.07 | |
| GdsIntensityReader-class | 0.02 | 0.00 | 0.01 | |
| GdsReader-class | 0.03 | 0.00 | 0.25 | |
| GenotypeData-class | 0.16 | 0.02 | 0.17 | |
| HLA | 0 | 0 | 0 | |
| IntensityData-class | 0.03 | 0.00 | 0.04 | |
| MatrixGenotypeReader-class | 0 | 0 | 0 | |
| NcdfGenotypeReader-class | 0 | 0 | 0 | |
| NcdfIntensityReader-class | 0.00 | 0.00 | 0.17 | |
| NcdfReader-class | 0 | 0 | 0 | |
| ScanAnnotationDataFrame-class | 0.04 | 0.01 | 0.11 | |
| ScanAnnotationSQLite-class | 0.05 | 0.00 | 0.05 | |
| SnpAnnotationDataFrame-class | 0.06 | 0.00 | 0.11 | |
| SnpAnnotationSQLite-class | 0.06 | 0.00 | 0.06 | |
| alleleFrequency | 0.13 | 0.00 | 0.12 | |
| allequal | 0 | 0 | 0 | |
| anomDetectBAF | 1.87 | 0.01 | 1.95 | |
| anomDetectLOH | 1.46 | 0.00 | 1.45 | |
| anomIdentifyLowQuality | 0.95 | 0.00 | 0.96 | |
| anomSegStats | 0.23 | 0.03 | 0.26 | |
| apartSnpSelection | 0.07 | 0.00 | 0.07 | |
| assocCoxPH | 0.29 | 0.00 | 0.30 | |
| assocRegression | 0.5 | 0.0 | 0.5 | |
| batchTest | 1.49 | 0.14 | 1.62 | |
| centromeres | 0.01 | 0.00 | 0.02 | |
| chromIntensityPlot | 0.06 | 0.02 | 0.08 | |
| convertNcdfGds | 0.19 | 0.02 | 0.28 | |
| convertVcfGds | 0.05 | 0.00 | 0.05 | |
| createDataFile | 0.67 | 0.00 | 1.14 | |
| duplicateDiscordance | 0.59 | 0.00 | 0.59 | |
| duplicateDiscordanceAcrossDatasets | 0.10 | 0.00 | 0.09 | |
| duplicateDiscordanceProbability | 0 | 0 | 0 | |
| exactHWE | 0.14 | 0.01 | 0.16 | |
| findBAFvariance | 0.39 | 0.00 | 0.39 | |
| gdsSubset | 0.03 | 0.00 | 0.03 | |
| genoClusterPlot | 0.83 | 0.02 | 2.52 | |
| genotypeToCharacter | 0 | 0 | 0 | |
| getobj | 0 | 0 | 0 | |
| hetByScanChrom | 0.1 | 0.0 | 0.1 | |
| hetBySnpSex | 0.11 | 0.00 | 0.11 | |
| ibdPlot | 0.03 | 0.00 | 0.03 | |
| imputedDosageFile | 0.75 | 0.01 | 0.95 | |
| intensityOutliersPlot | 0.31 | 0.00 | 0.31 | |
| manhattanPlot | 0.03 | 0.00 | 0.03 | |
| meanIntensityByScanChrom | 0.46 | 0.00 | 0.46 | |
| mendelErr | 1.09 | 0.03 | 1.12 | |
| mendelList | 0.02 | 0.00 | 0.02 | |
| missingGenotypeByScanChrom | 0.09 | 0.00 | 0.09 | |
| missingGenotypeBySnpSex | 0.08 | 0.00 | 0.08 | |
| ncdfSubset | 0.03 | 0.00 | 0.03 | |
| pasteSorted | 0 | 0 | 0 | |
| pcaSnpFilters | 0 | 0 | 0 | |
| pedigreeCheck | 0.05 | 0.00 | 0.05 | |
| pedigreeDeleteDuplicates | 0 | 0 | 0 | |
| pedigreeMaxUnrelated | 0.06 | 0.00 | 0.06 | |
| pedigreePairwiseRelatedness | 0.03 | 0.00 | 0.03 | |
| plinkToNcdf | 1.38 | 0.00 | 1.46 | |
| plinkUtils | 2.53 | 0.03 | 2.56 | |
| pseudoautoIntensityPlot | 0.06 | 0.00 | 0.06 | |
| pseudoautosomal | 0.02 | 0.00 | 0.02 | |
| qqPlot | 0.11 | 0.00 | 0.11 | |
| qualityScoreByScan | 0.17 | 0.00 | 0.17 | |
| qualityScoreBySnp | 0.03 | 0.00 | 0.03 | |
| readWriteFirst | 0.02 | 0.00 | 0.01 | |
| relationsMeanVar | 0 | 0 | 0 | |
| saveas | 0 | 0 | 0 | |
| setMissingGenotypes | 0.08 | 0.00 | 0.08 | |
| simulateGenotypeMatrix | 0.67 | 0.02 | 0.69 | |
| simulateIntensityMatrix | 0.18 | 0.00 | 0.19 | |
| snpCorrelationPlot | 0.02 | 0.00 | 0.01 | |
| snpStats | 0.47 | 0.00 | 0.47 | |
| vcfWrite | 7.30 | 0.14 | 7.44 | |
GWASTools.Rcheck/examples_x64/GWASTools-Ex.timings:
| name | user | system | elapsed | |
| BAFfromClusterMeans | 1.04 | 0.03 | 1.08 | |
| BAFfromGenotypes | 0 | 0 | 0 | |
| GdsGenotypeReader-class | 0.04 | 0.00 | 0.03 | |
| GdsIntensityReader-class | 0.01 | 0.00 | 0.02 | |
| GdsReader-class | 0.05 | 0.00 | 0.12 | |
| GenotypeData-class | 0.23 | 0.02 | 0.25 | |
| HLA | 0 | 0 | 0 | |
| IntensityData-class | 0.06 | 0.00 | 0.06 | |
| MatrixGenotypeReader-class | 0.02 | 0.00 | 0.02 | |
| NcdfGenotypeReader-class | 0.01 | 0.00 | 0.01 | |
| NcdfIntensityReader-class | 0.02 | 0.00 | 0.02 | |
| NcdfReader-class | 0.01 | 0.00 | 0.01 | |
| ScanAnnotationDataFrame-class | 0.07 | 0.00 | 0.06 | |
| ScanAnnotationSQLite-class | 0.04 | 0.00 | 0.05 | |
| SnpAnnotationDataFrame-class | 0.08 | 0.00 | 0.08 | |
| SnpAnnotationSQLite-class | 0.11 | 0.00 | 0.11 | |
| alleleFrequency | 0.14 | 0.00 | 0.14 | |
| allequal | 0 | 0 | 0 | |
| anomDetectBAF | 1.44 | 0.00 | 1.44 | |
| anomDetectLOH | 0.94 | 0.00 | 0.94 | |
| anomIdentifyLowQuality | 0.85 | 0.00 | 0.84 | |
| anomSegStats | 0.24 | 0.01 | 0.25 | |
| apartSnpSelection | 0.04 | 0.00 | 0.05 | |
| assocCoxPH | 0.36 | 0.00 | 0.36 | |
| assocRegression | 0.61 | 0.00 | 0.61 | |
| batchTest | 1.63 | 0.06 | 1.68 | |
| centromeres | 0.00 | 0.02 | 0.02 | |
| chromIntensityPlot | 0.09 | 0.00 | 0.09 | |
| convertNcdfGds | 0.17 | 0.03 | 0.22 | |
| convertVcfGds | 0.06 | 0.00 | 0.06 | |
| createDataFile | 0.44 | 0.02 | 0.45 | |
| duplicateDiscordance | 0.36 | 0.01 | 0.38 | |
| duplicateDiscordanceAcrossDatasets | 0.12 | 0.00 | 0.12 | |
| duplicateDiscordanceProbability | 0 | 0 | 0 | |
| exactHWE | 0.14 | 0.00 | 0.14 | |
| findBAFvariance | 0.31 | 0.00 | 0.32 | |
| gdsSubset | 0.04 | 0.00 | 0.03 | |
| genoClusterPlot | 0.57 | 0.03 | 0.61 | |
| genotypeToCharacter | 0 | 0 | 0 | |
| getobj | 0 | 0 | 0 | |
| hetByScanChrom | 0.13 | 0.00 | 0.12 | |
| hetBySnpSex | 0.11 | 0.00 | 0.11 | |
| ibdPlot | 0.03 | 0.00 | 0.03 | |
| imputedDosageFile | 0.97 | 0.07 | 1.03 | |
| intensityOutliersPlot | 0.34 | 0.01 | 0.36 | |
| manhattanPlot | 0.02 | 0.00 | 0.02 | |
| meanIntensityByScanChrom | 0.39 | 0.00 | 0.39 | |
| mendelErr | 1.08 | 0.00 | 1.08 | |
| mendelList | 0.01 | 0.00 | 0.01 | |
| missingGenotypeByScanChrom | 0.11 | 0.00 | 0.11 | |
| missingGenotypeBySnpSex | 0.1 | 0.0 | 0.1 | |
| ncdfSubset | 0.03 | 0.02 | 0.04 | |
| pasteSorted | 0 | 0 | 0 | |
| pcaSnpFilters | 0 | 0 | 0 | |
| pedigreeCheck | 0.03 | 0.00 | 0.03 | |
| pedigreeDeleteDuplicates | 0 | 0 | 0 | |
| pedigreeMaxUnrelated | 0.08 | 0.00 | 0.08 | |
| pedigreePairwiseRelatedness | 0.03 | 0.00 | 0.03 | |
| plinkToNcdf | 1.63 | 0.01 | 1.64 | |
| plinkUtils | 3.11 | 0.02 | 3.12 | |
| pseudoautoIntensityPlot | 0.07 | 0.00 | 0.06 | |
| pseudoautosomal | 0.01 | 0.00 | 0.02 | |
| qqPlot | 0.09 | 0.00 | 0.09 | |
| qualityScoreByScan | 0.19 | 0.00 | 0.19 | |
| qualityScoreBySnp | 0.03 | 0.01 | 0.05 | |
| readWriteFirst | 0 | 0 | 0 | |
| relationsMeanVar | 0 | 0 | 0 | |
| saveas | 0 | 0 | 0 | |
| setMissingGenotypes | 0.06 | 0.00 | 0.06 | |
| simulateGenotypeMatrix | 0.55 | 0.00 | 0.55 | |
| simulateIntensityMatrix | 0.09 | 0.00 | 0.09 | |
| snpCorrelationPlot | 0.02 | 0.00 | 0.02 | |
| snpStats | 0.53 | 0.04 | 0.56 | |
| vcfWrite | 7.67 | 0.09 | 7.78 | |