Back to the "Multiple platform build/check report" A  B  C  D  E  F [G] H  I  J  K  L  M  N  O  P  Q  R  S  T  U  V  W  X  Y  Z 

BioC 3.3: CHECK report for GWASTools on linux2.bioconductor.org

This page was generated on 2015-10-27 12:12:02 -0400 (Tue, 27 Oct 2015).

Package 481/1104HostnameOS / ArchINSTALLBUILDCHECKBUILD BIN
GWASTools 1.17.3
Stephanie M. Gogarten , Adrienne Stilp
Snapshot Date: 2015-10-26 20:20:04 -0400 (Mon, 26 Oct 2015)
URL: https://hedgehog.fhcrc.org/bioconductor/trunk/madman/Rpacks/GWASTools
Last Changed Rev: 109692 / Revision: 109948
Last Changed Date: 2015-10-16 12:51:14 -0400 (Fri, 16 Oct 2015)
linux2.bioconductor.org Linux (Ubuntu 14.04.2 LTS) / x86_64  OK  OK [ OK ]UNNEEDED, same version exists in internal repository
windows2.bioconductor.org Windows Server 2012 R2 Enterprise SP1 (64-bit) / x64  OK  OK  OK  OK UNNEEDED, same version exists in internal repository

Summary

Package: GWASTools
Version: 1.17.3
Command: /home/biocbuild/bbs-3.3-bioc/R/bin/R CMD check --no-vignettes --timings GWASTools_1.17.3.tar.gz
StartedAt: 2015-10-27 04:45:26 -0400 (Tue, 27 Oct 2015)
EndedAt: 2015-10-27 04:49:52 -0400 (Tue, 27 Oct 2015)
EllapsedTime: 266.0 seconds
RetCode: 0
Status:  OK 
CheckDir: GWASTools.Rcheck
Warnings: 0

Command output

##############################################################################
##############################################################################
###
### Running command:
###
###   /home/biocbuild/bbs-3.3-bioc/R/bin/R CMD check --no-vignettes --timings GWASTools_1.17.3.tar.gz
###
##############################################################################
##############################################################################


* using log directory ‘/home/biocbuild/bbs-3.3-bioc/meat/GWASTools.Rcheck’
* using R Under development (unstable) (2015-09-09 r69333)
* using platform: x86_64-pc-linux-gnu (64-bit)
* using session charset: UTF-8
* using option ‘--no-vignettes’
* checking for file ‘GWASTools/DESCRIPTION’ ... OK
* checking extension type ... Package
* this is package ‘GWASTools’ version ‘1.17.3’
* checking package namespace information ... OK
* checking package dependencies ... OK
* checking if this is a source package ... OK
* checking if there is a namespace ... OK
* checking for hidden files and directories ... OK
* checking for portable file names ... OK
* checking for sufficient/correct file permissions ... OK
* checking whether package ‘GWASTools’ can be installed ... [7s/7s] OK
* checking installed package size ... OK
* checking package directory ... OK
* checking ‘build’ directory ... OK
* checking DESCRIPTION meta-information ... OK
* checking top-level files ... OK
* checking for left-over files ... OK
* checking index information ... OK
* checking package subdirectories ... OK
* checking R files for non-ASCII characters ... OK
* checking R files for syntax errors ... OK
* checking whether the package can be loaded ... OK
* checking whether the package can be loaded with stated dependencies ... OK
* checking whether the package can be unloaded cleanly ... OK
* checking whether the namespace can be loaded with stated dependencies ... OK
* checking whether the namespace can be unloaded cleanly ... OK
* checking dependencies in R code ... OK
* checking S3 generic/method consistency ... OK
* checking replacement functions ... OK
* checking foreign function calls ... OK
* checking R code for possible problems ... OK
* checking Rd files ... OK
* checking Rd metadata ... OK
* checking Rd cross-references ... OK
* checking for missing documentation entries ... OK
* checking for code/documentation mismatches ... OK
* checking Rd \usage sections ... OK
* checking Rd contents ... OK
* checking for unstated dependencies in examples ... OK
* checking contents of ‘data’ directory ... OK
* checking data for non-ASCII characters ... OK
* checking data for ASCII and uncompressed saves ... OK
* checking installed files from ‘inst/doc’ ... OK
* checking files in ‘vignettes’ ... OK
* checking examples ... [34s/34s] OK
Examples with CPU or elapsed time > 5s
          user system elapsed
vcfWrite 8.574  0.208   8.794
* checking for unstated dependencies in ‘tests’ ... OK
* checking tests ...
  Running ‘test.R’ [138s/138s]
 [138s/139s] OK
* checking for unstated dependencies in vignettes ... OK
* checking package vignettes in ‘inst/doc’ ... OK
* checking running R code from vignettes ... SKIPPED
* checking re-building of vignette outputs ... SKIPPED
* checking PDF version of manual ... OK
* DONE

Status: OK

GWASTools.Rcheck/00install.out:

* installing *source* package ‘GWASTools’ ...
** R
** data
*** moving datasets to lazyload DB
** inst
** preparing package for lazy loading
Creating a generic function for ‘open’ from package ‘base’ in package ‘GWASTools’
Creating a generic function for ‘close’ from package ‘base’ in package ‘GWASTools’
** help
*** installing help indices
** building package indices
** installing vignettes
** testing if installed package can be loaded
* DONE (GWASTools)

GWASTools.Rcheck/GWASTools-Ex.timings:

nameusersystemelapsed
BAFfromClusterMeans1.0490.0151.068
BAFfromGenotypes0.0010.0000.001
GdsGenotypeReader-class0.0250.0000.024
GdsIntensityReader-class0.0130.0000.014
GdsReader-class0.0320.0090.049
GenotypeData-class0.1300.0000.138
HLA0.0020.0000.002
IntensityData-class0.0270.0000.027
MatrixGenotypeReader-class0.0040.0000.003
NcdfGenotypeReader-class0.0070.0000.009
NcdfIntensityReader-class0.0140.0000.014
NcdfReader-class0.0010.0040.006
ScanAnnotationDataFrame-class0.0580.0000.058
ScanAnnotationSQLite-class0.0370.0000.037
SnpAnnotationDataFrame-class0.0670.0040.071
SnpAnnotationSQLite-class0.0480.0080.056
alleleFrequency0.1020.0120.114
allequal0.0010.0000.001
anomDetectBAF1.2040.0001.204
anomDetectLOH1.0950.0001.100
anomIdentifyLowQuality0.9360.0000.938
anomSegStats0.2130.0040.217
apartSnpSelection0.0480.0040.053
assocCoxPH0.2930.0000.294
assocRegression0.6390.0000.639
batchTest1.4960.0961.592
centromeres0.0040.0000.003
chromIntensityPlot0.1110.0000.110
convertNcdfGds0.2820.0080.300
convertVcfGds0.0470.0080.056
createDataFile0.5280.0080.540
duplicateDiscordance0.5290.0000.529
duplicateDiscordanceAcrossDatasets0.1510.0040.155
duplicateDiscordanceProbability0.0010.0000.001
exactHWE0.1420.0040.146
findBAFvariance0.4140.0000.414
gdsSubset0.0300.0000.033
genoClusterPlot0.6820.0240.757
genotypeToCharacter0.0010.0000.002
getobj0.0010.0000.002
hetByScanChrom0.1710.0000.171
hetBySnpSex0.1640.0000.164
ibdPlot0.0450.0000.045
imputedDosageFile1.3100.0241.343
intensityOutliersPlot0.4750.0000.476
manhattanPlot0.0220.0000.023
meanIntensityByScanChrom0.4330.0000.432
mendelErr1.2420.0041.246
mendelList0.0130.0000.013
missingGenotypeByScanChrom0.1630.0000.163
missingGenotypeBySnpSex0.1290.0000.130
ncdfSubset0.0540.0000.061
pasteSorted0.0000.0000.001
pcaSnpFilters0.0030.0000.004
pedigreeCheck0.0550.0000.055
pedigreeDeleteDuplicates0.0090.0000.008
pedigreeMaxUnrelated0.1070.0000.106
pedigreePairwiseRelatedness0.0410.0040.045
plinkToNcdf1.9800.0082.009
plinkUtils4.1650.0164.183
pseudoautoIntensityPlot0.0290.0040.033
pseudoautosomal0.0020.0000.002
qqPlot0.0850.0000.086
qualityScoreByScan0.2030.0040.207
qualityScoreBySnp0.0330.0000.033
readWriteFirst0.0020.0000.002
relationsMeanVar0.0010.0000.001
saveas0.0010.0000.001
setMissingGenotypes0.0490.0040.054
simulateGenotypeMatrix0.5870.0000.594
simulateIntensityMatrix0.0690.0040.077
snpCorrelationPlot0.0100.0000.012
snpStats0.3520.0040.356
vcfWrite8.5740.2088.794