DOSE 2.9.1 Guangchuang Yu
Snapshot Date: 2015-10-21 20:20:05 -0400 (Wed, 21 Oct 2015) | URL: https://hedgehog.fhcrc.org/bioconductor/trunk/madman/Rpacks/DOSE | Last Changed Rev: 109782 / Revision: 109826 | Last Changed Date: 2015-10-20 02:08:17 -0400 (Tue, 20 Oct 2015) |
| linux2.bioconductor.org | Linux (Ubuntu 14.04.2 LTS) / x86_64 | OK | OK | OK | | ![YES, new version is higher than in internal repository YES, new version is higher than in internal repository](../120px-Green_Light_Icon.svg.png) |
windows2.bioconductor.org | Windows Server 2012 R2 Enterprise SP1 (64-bit) / x64 | OK | OK | OK | OK | ![YES, new version is higher than in internal repository YES, new version is higher than in internal repository](../120px-Green_Light_Icon.svg.png) |
morelia | Mac OS X Mavericks (10.9.5) / x86_64 | [ OK ] | OK | OK | OK | ![YES, new version is higher than in internal repository YES, new version is higher than in internal repository](../120px-Green_Light_Icon.svg.png) |
##############################################################################
##############################################################################
###
### Running command:
###
### /Library/Frameworks/R.framework/Versions/Current/Resources/bin/R CMD INSTALL DOSE
###
##############################################################################
##############################################################################
* installing to library ‘/Library/Frameworks/R.framework/Versions/3.3/Resources/library’
* installing *source* package ‘DOSE’ ...
** R
** data
** inst
** preparing package for lazy loading
** help
*** installing help indices
** building package indices
[1]
[2]
[3]
[4]
[5]
[6]
[7]
[8]
[9]
[10]
[11]
[12]
[13]
[14]
[15]
[16]
[17]
[18]
[19]
[20]
[21]
[22]
[23]
[24]
[25]
[26]
[27]
[28]
[29]
** installing vignettes
** testing if installed package can be loaded
* DONE (DOSE)