Back to the "Multiple platform build/check report" A  B  C [D] E  F  G  H  I  J  K  L  M  N  O  P  Q  R  S  T  U  V  W  X  Y  Z 

BioC 3.3: INSTALL report for DOSE on linux2.bioconductor.org

This page was generated on 2015-10-27 12:11:58 -0400 (Tue, 27 Oct 2015).

Package 288/1104HostnameOS / ArchINSTALLBUILDCHECKBUILD BIN
DOSE 2.9.1
Guangchuang Yu
Snapshot Date: 2015-10-26 20:20:04 -0400 (Mon, 26 Oct 2015)
URL: https://hedgehog.fhcrc.org/bioconductor/trunk/madman/Rpacks/DOSE
Last Changed Rev: 109782 / Revision: 109948
Last Changed Date: 2015-10-20 02:08:17 -0400 (Tue, 20 Oct 2015)
linux2.bioconductor.org Linux (Ubuntu 14.04.2 LTS) / x86_64 [ OK ] OK  OK UNNEEDED, same version exists in internal repository
windows2.bioconductor.org Windows Server 2012 R2 Enterprise SP1 (64-bit) / x64  OK  OK  OK  OK UNNEEDED, same version exists in internal repository

Summary

Package: DOSE
Version: 2.9.1
Command: /home/biocbuild/bbs-3.3-bioc/R/bin/R CMD INSTALL DOSE
StartedAt: 2015-10-26 21:19:40 -0400 (Mon, 26 Oct 2015)
EndedAt: 2015-10-26 21:19:51 -0400 (Mon, 26 Oct 2015)
EllapsedTime: 11.5 seconds
RetCode: 0
Status:  OK 

Command output

##############################################################################
##############################################################################
###
### Running command:
###
###   /home/biocbuild/bbs-3.3-bioc/R/bin/R CMD INSTALL DOSE
###
##############################################################################
##############################################################################


* installing to library ‘/home/biocbuild/bbs-3.3-bioc/R/library’
* installing *source* package ‘DOSE’ ...
** R
** data
** inst
** preparing package for lazy loading
** help
*** installing help indices
** building package indices
[1]
[2]
[3]
[4]
[5]
[6]
[7]
[8]
[9]
[10]
[11]
[12]
[13]
[14]
[15]
[16]
[17]
[18]
[19]
[20]
[21]
[22]
[23]
[24]
[25]
[26]
[27]
[28]
[29]
** installing vignettes
** testing if installed package can be loaded
* DONE (DOSE)