DOSE 2.9.1 Guangchuang Yu
Snapshot Date: 2015-10-21 20:20:05 -0400 (Wed, 21 Oct 2015) | URL: https://hedgehog.fhcrc.org/bioconductor/trunk/madman/Rpacks/DOSE | Last Changed Rev: 109782 / Revision: 109826 | Last Changed Date: 2015-10-20 02:08:17 -0400 (Tue, 20 Oct 2015) |
| linux2.bioconductor.org | Linux (Ubuntu 14.04.2 LTS) / x86_64 | OK | OK | OK | | ![YES, new version is higher than in internal repository YES, new version is higher than in internal repository](../120px-Green_Light_Icon.svg.png) |
windows2.bioconductor.org | Windows Server 2012 R2 Enterprise SP1 (64-bit) / x64 | OK | OK | OK | OK | ![YES, new version is higher than in internal repository YES, new version is higher than in internal repository](../120px-Green_Light_Icon.svg.png) |
morelia | Mac OS X Mavericks (10.9.5) / x86_64 | OK | [ OK ] | OK | OK | ![YES, new version is higher than in internal repository YES, new version is higher than in internal repository](../120px-Green_Light_Icon.svg.png) |
##############################################################################
##############################################################################
###
### Running command:
###
### /Library/Frameworks/R.framework/Versions/Current/Resources/bin/R CMD build --keep-empty-dirs --no-resave-data DOSE
###
##############################################################################
##############################################################################
* checking for file ‘DOSE/DESCRIPTION’ ... OK
* preparing ‘DOSE’:
* checking DESCRIPTION meta-information ... OK
* installing the package to build vignettes
* creating vignettes ... OK
* checking for LF line-endings in source and make files
* checking for empty or unneeded directories
* looking to see if a ‘data/datalist’ file should be added
[1]
[2]
[3]
[4]
[5]
[6]
[7]
[8]
[9]
[10]
[11]
[12]
[13]
[14]
[15]
[16]
[17]
[18]
[19]
[20]
[21]
[22]
[23]
[24]
[25]
[26]
[27]
[28]
[29]
* building ‘DOSE_2.9.1.tar.gz’