| Back to Multiple platform build/check report for BioC 3.23: simplified long |
|
This page was generated on 2025-11-26 11:38 -0500 (Wed, 26 Nov 2025).
| Hostname | OS | Arch (*) | R version | Installed pkgs |
|---|---|---|---|---|
| nebbiolo1 | Linux (Ubuntu 24.04.3 LTS) | x86_64 | R Under development (unstable) (2025-10-20 r88955) -- "Unsuffered Consequences" | 4830 |
| lconway | macOS 12.7.6 Monterey | x86_64 | R Under development (unstable) (2025-10-21 r88958) -- "Unsuffered Consequences" | 4609 |
| kjohnson3 | macOS 13.7.7 Ventura | arm64 | R Under development (unstable) (2025-11-04 r88984) -- "Unsuffered Consequences" | 4569 |
| Click on any hostname to see more info about the system (e.g. compilers) (*) as reported by 'uname -p', except on Windows and Mac OS X | ||||
| Package 120/2328 | Hostname | OS / Arch | INSTALL | BUILD | CHECK | BUILD BIN | ||||||||
| autonomics 1.19.0 (landing page) Aditya Bhagwat
| nebbiolo1 | Linux (Ubuntu 24.04.3 LTS) / x86_64 | OK | OK | OK | |||||||||
| lconway | macOS 12.7.6 Monterey / x86_64 | OK | OK | OK | OK | |||||||||
| kjohnson3 | macOS 13.7.7 Ventura / arm64 | OK | OK | OK | OK | |||||||||
|
To the developers/maintainers of the autonomics package: - Allow up to 24 hours (and sometimes 48 hours) for your latest push to git@git.bioconductor.org:packages/autonomics.git to reflect on this report. See Troubleshooting Build Report for more information. - Use the following Renviron settings to reproduce errors and warnings. - If 'R CMD check' started to fail recently on the Linux builder(s) over a missing dependency, add the missing dependency to 'Suggests:' in your DESCRIPTION file. See Renviron.bioc for more information. |
| Package: autonomics |
| Version: 1.19.0 |
| Command: /Library/Frameworks/R.framework/Resources/bin/R CMD check --install=check:autonomics.install-out.txt --library=/Library/Frameworks/R.framework/Resources/library --no-vignettes --timings autonomics_1.19.0.tar.gz |
| StartedAt: 2025-11-25 19:40:00 -0500 (Tue, 25 Nov 2025) |
| EndedAt: 2025-11-25 20:04:19 -0500 (Tue, 25 Nov 2025) |
| EllapsedTime: 1458.8 seconds |
| RetCode: 0 |
| Status: OK |
| CheckDir: autonomics.Rcheck |
| Warnings: 0 |
##############################################################################
##############################################################################
###
### Running command:
###
### /Library/Frameworks/R.framework/Resources/bin/R CMD check --install=check:autonomics.install-out.txt --library=/Library/Frameworks/R.framework/Resources/library --no-vignettes --timings autonomics_1.19.0.tar.gz
###
##############################################################################
##############################################################################
* using log directory ‘/Users/biocbuild/bbs-3.23-bioc/meat/autonomics.Rcheck’
* using R Under development (unstable) (2025-10-21 r88958)
* using platform: x86_64-apple-darwin20
* R was compiled by
Apple clang version 14.0.0 (clang-1400.0.29.202)
GNU Fortran (GCC) 14.2.0
* running under: macOS Ventura 13.7.8
* using session charset: UTF-8
* using option ‘--no-vignettes’
* checking for file ‘autonomics/DESCRIPTION’ ... OK
* checking extension type ... Package
* this is package ‘autonomics’ version ‘1.19.0’
* package encoding: UTF-8
* checking package namespace information ... OK
* checking package dependencies ... INFO
Imports includes 32 non-default packages.
Importing from so many packages makes the package vulnerable to any of
them becoming unavailable. Move as many as possible to Suggests and
use conditionally.
* checking if this is a source package ... OK
* checking if there is a namespace ... OK
* checking for hidden files and directories ... NOTE
Found the following hidden files and directories:
.BBSoptions
These were most likely included in error. See section ‘Package
structure’ in the ‘Writing R Extensions’ manual.
* checking for portable file names ... OK
* checking for sufficient/correct file permissions ... OK
* checking whether package ‘autonomics’ can be installed ... OK
* checking installed package size ... OK
* checking package directory ... OK
* checking ‘build’ directory ... OK
* checking DESCRIPTION meta-information ... OK
* checking top-level files ... OK
* checking for left-over files ... OK
* checking index information ... OK
* checking package subdirectories ... OK
* checking code files for non-ASCII characters ... OK
* checking R files for syntax errors ... OK
* checking whether the package can be loaded ... OK
* checking whether the package can be loaded with stated dependencies ... OK
* checking whether the package can be unloaded cleanly ... OK
* checking whether the namespace can be loaded with stated dependencies ... OK
* checking whether the namespace can be unloaded cleanly ... OK
* checking dependencies in R code ... OK
* checking S3 generic/method consistency ... OK
* checking replacement functions ... OK
* checking foreign function calls ... OK
* checking R code for possible problems ... OK
* checking Rd files ... OK
* checking Rd metadata ... OK
* checking Rd cross-references ... NOTE
Non-topic package-anchored link(s) in Rd file 'reexports.Rd':
‘[magrittr:compound]{%<>%}’ ‘[magrittr:pipe]{%>%}’
‘[magrittr:aliases]{extract}’
See section 'Cross-references' in the 'Writing R Extensions' manual.
* checking for missing documentation entries ... OK
* checking for code/documentation mismatches ... OK
* checking Rd \usage sections ... OK
* checking Rd contents ... OK
* checking for unstated dependencies in examples ... OK
* checking files in ‘vignettes’ ... OK
* checking examples ... OK
Examples with CPU (user + system) or elapsed time > 5s
user system elapsed
write_xl 182.515 7.813 223.107
read_diann_proteingroups 116.675 2.086 120.226
awblinmod 44.863 0.312 45.450
read_rnaseq_counts 31.703 2.967 35.287
rm_diann_contaminants 25.958 0.542 26.850
LINMOD 26.075 0.342 26.573
plot_exprs 24.706 0.216 25.119
plot_exprs_per_coef 22.594 0.223 22.983
default_formula 20.690 0.468 21.393
read_somascan 16.096 0.152 16.456
plot_volcano 15.721 0.142 15.945
read_metabolon 15.064 0.250 15.787
analyze 14.950 0.227 15.276
plot_summary 14.821 0.138 15.045
fit_survival 13.686 0.156 13.926
plot_densities 13.200 0.295 13.649
explore-transforms 12.366 0.146 12.632
fcluster 11.054 0.091 11.211
ftype 9.336 0.336 9.782
plot_detections 9.325 0.071 9.467
read_fragpipe 7.974 0.198 8.277
biplot_covariates 7.775 0.084 7.894
plot_xy_density 7.173 0.044 7.243
subtract_baseline 6.503 0.168 6.775
plot_subgroup_points 6.466 0.074 6.564
log2transform 5.533 0.055 5.629
reset_fit 5.445 0.124 5.639
extract_contrast_features 5.392 0.095 5.538
plot_violins 5.376 0.091 5.490
code 5.219 0.072 5.324
sbind 5.167 0.080 5.364
annotate_uniprot_rest 0.079 0.013 8.493
* checking for unstated dependencies in ‘tests’ ... OK
* checking tests ...
Running ‘testthat.R’
OK
* checking for unstated dependencies in vignettes ... OK
* checking package vignettes ... OK
* checking running R code from vignettes ... SKIPPED
* checking re-building of vignette outputs ... SKIPPED
* checking PDF version of manual ... OK
* DONE
Status: 2 NOTEs
See
‘/Users/biocbuild/bbs-3.23-bioc/meat/autonomics.Rcheck/00check.log’
for details.
autonomics.Rcheck/00install.out
############################################################################## ############################################################################## ### ### Running command: ### ### /Library/Frameworks/R.framework/Resources/bin/R CMD INSTALL autonomics ### ############################################################################## ############################################################################## * installing to library ‘/Library/Frameworks/R.framework/Versions/4.6-x86_64/Resources/library’ * installing *source* package ‘autonomics’ ... ** this is package ‘autonomics’ version ‘1.19.0’ ** using staged installation ** R ** inst ** byte-compile and prepare package for lazy loading Note: wrong number of arguments to 'seq_along' Note: wrong number of arguments to 'sqrt' ** help *** installing help indices ** building package indices ** installing vignettes ** testing if installed package can be loaded from temporary location ** testing if installed package can be loaded from final location ** testing if installed package keeps a record of temporary installation path * DONE (autonomics)
autonomics.Rcheck/tests/testthat.Rout
R Under development (unstable) (2025-10-21 r88958) -- "Unsuffered Consequences"
Copyright (C) 2025 The R Foundation for Statistical Computing
Platform: x86_64-apple-darwin20
R is free software and comes with ABSOLUTELY NO WARRANTY.
You are welcome to redistribute it under certain conditions.
Type 'license()' or 'licence()' for distribution details.
R is a collaborative project with many contributors.
Type 'contributors()' for more information and
'citation()' on how to cite R or R packages in publications.
Type 'demo()' for some demos, 'help()' for on-line help, or
'help.start()' for an HTML browser interface to help.
Type 'q()' to quit R.
> library(testthat)
> library(autonomics)
Attaching package: 'autonomics'
The following objects are masked from 'package:stats':
biplot, loadings
The following object is masked from 'package:base':
beta
>
> test_check("autonomics")
[ FAIL 0 | WARN 3 | SKIP 0 | PASS 158 ]
[ FAIL 0 | WARN 3 | SKIP 0 | PASS 158 ]
>
> proc.time()
user system elapsed
163.316 18.247 264.641
autonomics.Rcheck/autonomics-Ex.timings
| name | user | system | elapsed | |
| AUTONOMICS_DATASETS | 0.000 | 0.000 | 0.001 | |
| COMPOUNDDISCOVERER_PATTERNS | 0.001 | 0.001 | 0.000 | |
| LINMOD | 26.075 | 0.342 | 26.573 | |
| LINMODENGINES | 0 | 0 | 0 | |
| MAXQUANT_PATTERNS | 0.001 | 0.001 | 0.000 | |
| TAXON_TO_ORGNAME | 0.001 | 0.000 | 0.001 | |
| TESTS | 0 | 0 | 0 | |
| X | 1.386 | 0.082 | 1.491 | |
| abstract_fit | 1.116 | 0.056 | 1.180 | |
| add_adjusted_pvalues | 0.596 | 0.014 | 0.619 | |
| add_assay_means | 0.444 | 0.009 | 0.460 | |
| add_facetvars | 1.656 | 0.075 | 1.751 | |
| add_opentargets_by_uniprot | 0.451 | 0.014 | 0.469 | |
| add_psp | 0.534 | 0.013 | 0.552 | |
| add_smiles | 0.506 | 0.047 | 0.561 | |
| all_non_numeric | 0.677 | 0.005 | 0.686 | |
| analysis | 0.452 | 0.008 | 0.462 | |
| analyze | 14.950 | 0.227 | 15.276 | |
| annotate_maxquant | 1.036 | 0.108 | 1.161 | |
| annotate_uniprot_rest | 0.079 | 0.013 | 8.493 | |
| assert_is_valid_sumexp | 1.544 | 0.051 | 1.602 | |
| awblinmod | 44.863 | 0.312 | 45.450 | |
| biplot | 4.234 | 0.076 | 4.335 | |
| biplot_corrections | 4.055 | 0.069 | 4.158 | |
| biplot_covariates | 7.775 | 0.084 | 7.894 | |
| block2limma | 0.002 | 0.001 | 0.002 | |
| block2lm | 0.004 | 0.001 | 0.004 | |
| block2lme | 0.003 | 0.001 | 0.003 | |
| block2lmer | 0.003 | 0.001 | 0.004 | |
| block_has_two_levels | 0.700 | 0.045 | 0.750 | |
| center | 2.006 | 0.022 | 2.046 | |
| code | 5.219 | 0.072 | 5.324 | |
| collapsed_entrezg_to_symbol | 1.122 | 0.089 | 1.230 | |
| contrast_subgroup_cols | 0.734 | 0.054 | 0.797 | |
| contrastdt | 0.671 | 0.008 | 0.684 | |
| count_in | 0.001 | 0.001 | 0.002 | |
| counts | 0.371 | 0.005 | 0.380 | |
| counts2cpm | 0.386 | 0.005 | 0.391 | |
| counts2tpm | 0.300 | 0.003 | 0.305 | |
| cpm | 0.363 | 0.004 | 0.368 | |
| create_design | 0.780 | 0.047 | 0.830 | |
| default_formula | 20.690 | 0.468 | 21.393 | |
| default_geom | 0.578 | 0.053 | 0.639 | |
| default_sfile | 0.002 | 0.000 | 0.003 | |
| demultiplex | 0.018 | 0.001 | 0.019 | |
| densities | 0.236 | 0.005 | 0.242 | |
| dequantify | 0.003 | 0.000 | 0.002 | |
| dequantify_compounddiscoverer | 0.001 | 0.000 | 0.001 | |
| dot-coxph | 0.448 | 0.049 | 0.503 | |
| dot-merge | 0.024 | 0.001 | 0.026 | |
| dot-read_maxquant_proteingroups | 0.128 | 0.006 | 0.135 | |
| download_data | 0.001 | 0.000 | 0.001 | |
| download_gtf | 0 | 0 | 0 | |
| download_mcclain21 | 0.000 | 0.001 | 0.002 | |
| dt2mat | 0.003 | 0.001 | 0.005 | |
| enrichment | 1.370 | 0.015 | 1.416 | |
| entrezg_to_symbol | 0.195 | 0.005 | 0.200 | |
| explore-transforms | 12.366 | 0.146 | 12.632 | |
| extract_contrast_features | 5.392 | 0.095 | 5.538 | |
| extract_rectangle | 0.160 | 0.054 | 0.216 | |
| factor.vars | 0.209 | 0.002 | 0.212 | |
| factorize | 0.914 | 0.014 | 0.934 | |
| fcluster | 11.054 | 0.091 | 11.211 | |
| fcor | 1.801 | 0.035 | 1.850 | |
| fdata | 0.663 | 0.017 | 0.684 | |
| fdr2p | 1.021 | 0.049 | 1.075 | |
| filter_exprs_replicated_in_some_subgroup | 1.095 | 0.049 | 1.152 | |
| filter_features | 0.597 | 0.049 | 0.649 | |
| filter_medoid | 0.720 | 0.006 | 0.731 | |
| filter_samples | 0.601 | 0.049 | 0.653 | |
| fit_survival | 13.686 | 0.156 | 13.926 | |
| fits | 0.351 | 0.003 | 0.355 | |
| fix_xlgenes | 0.002 | 0.000 | 0.001 | |
| flevels | 0.436 | 0.007 | 0.446 | |
| fnames | 0.509 | 0.007 | 0.519 | |
| formula2str | 0.001 | 0.000 | 0.000 | |
| ftype | 9.336 | 0.336 | 9.782 | |
| fvalues | 0.498 | 0.012 | 0.516 | |
| fvars | 0.476 | 0.011 | 0.492 | |
| genome_to_orgdb | 0.000 | 0.001 | 0.000 | |
| group_by_level | 0.001 | 0.001 | 0.002 | |
| guess_compounddiscoverer_quantity | 0.001 | 0.001 | 0.002 | |
| guess_fitsep | 0.550 | 0.009 | 0.565 | |
| guess_maxquant_quantity | 0.005 | 0.002 | 0.006 | |
| guess_sep | 0.604 | 0.059 | 0.667 | |
| has_multiple_levels | 0.066 | 0.003 | 0.072 | |
| hdlproteins | 0.051 | 0.035 | 0.090 | |
| impute | 3.641 | 0.038 | 3.701 | |
| invert_subgroups | 0.727 | 0.011 | 0.745 | |
| is_character_matrix | 0.197 | 0.002 | 0.199 | |
| is_collapsed_subset | 0.001 | 0.001 | 0.001 | |
| is_compounddiscoverer_output | 0.048 | 0.026 | 0.152 | |
| is_correlation_matrix | 0.001 | 0.000 | 0.001 | |
| is_diann_report | 0.092 | 0.013 | 0.106 | |
| is_fastadt | 0.061 | 0.001 | 0.063 | |
| is_file | 0 | 0 | 0 | |
| is_fraction | 0.001 | 0.000 | 0.003 | |
| is_fragpipe_tsv | 0.057 | 0.007 | 0.065 | |
| is_imputed | 0.769 | 0.009 | 0.782 | |
| is_maxquant_phosphosites | 0.053 | 0.007 | 0.061 | |
| is_maxquant_proteingroups | 0.053 | 0.007 | 0.062 | |
| is_positive_number | 0.002 | 0.001 | 0.003 | |
| is_scalar_subset | 0.353 | 0.007 | 0.362 | |
| is_sig | 1.532 | 0.014 | 1.559 | |
| is_valid_formula | 0.048 | 0.001 | 0.049 | |
| keep_estimable_features | 0.984 | 0.050 | 1.044 | |
| label2index | 0.000 | 0.001 | 0.001 | |
| list2mat | 0.001 | 0.000 | 0.001 | |
| log2counts | 0.399 | 0.003 | 0.407 | |
| log2cpm | 0.391 | 0.003 | 0.396 | |
| log2diffs | 0.427 | 0.007 | 0.437 | |
| log2proteins | 0.350 | 0.006 | 0.361 | |
| log2sites | 0.349 | 0.006 | 0.357 | |
| log2tpm | 0.394 | 0.003 | 0.400 | |
| log2transform | 5.533 | 0.055 | 5.629 | |
| logical2factor | 0.002 | 0.000 | 0.002 | |
| make_alpha_palette | 0.599 | 0.044 | 0.650 | |
| make_colors | 0.012 | 0.001 | 0.013 | |
| make_volcano_dt | 1.078 | 0.014 | 1.100 | |
| map_fvalues | 0.506 | 0.010 | 0.520 | |
| matrix2sumexp | 1.394 | 0.067 | 1.479 | |
| mclust_breaks | 0.593 | 0.099 | 0.704 | |
| merge_sample_file | 0.554 | 0.009 | 0.590 | |
| merge_sdata | 0.850 | 0.068 | 0.935 | |
| message_df | 0.003 | 0.001 | 0.004 | |
| model_coefs | 0.908 | 0.066 | 0.986 | |
| modelvar | 3.677 | 0.071 | 3.848 | |
| object1 | 0.569 | 0.004 | 0.577 | |
| order_on_p | 1.642 | 0.068 | 1.743 | |
| overall_parameters | 0.032 | 0.001 | 0.035 | |
| pca | 4.010 | 0.100 | 4.162 | |
| pg_to_canonical | 0.008 | 0.001 | 0.009 | |
| plot_coef_densities | 1.666 | 0.058 | 1.750 | |
| plot_contrast_venn | 2.851 | 0.063 | 2.940 | |
| plot_contrastogram | 3.637 | 0.138 | 3.833 | |
| plot_data | 2.261 | 0.081 | 2.390 | |
| plot_densities | 13.200 | 0.295 | 13.649 | |
| plot_design | 0.883 | 0.011 | 0.900 | |
| plot_detections | 9.325 | 0.071 | 9.467 | |
| plot_exprs | 24.706 | 0.216 | 25.119 | |
| plot_exprs_per_coef | 22.594 | 0.223 | 22.983 | |
| plot_fit_summary | 2.627 | 0.062 | 2.704 | |
| plot_heatmap | 2.277 | 0.025 | 2.312 | |
| plot_matrix | 0.512 | 0.043 | 0.557 | |
| plot_subgroup_points | 6.466 | 0.074 | 6.564 | |
| plot_summary | 14.821 | 0.138 | 15.045 | |
| plot_venn | 0.017 | 0.001 | 0.018 | |
| plot_venn_heatmap | 0.025 | 0.001 | 0.026 | |
| plot_violins | 5.376 | 0.091 | 5.490 | |
| plot_volcano | 15.721 | 0.142 | 15.945 | |
| plot_xy_density | 7.173 | 0.044 | 7.243 | |
| preprocess_rnaseq_counts | 0.359 | 0.003 | 0.362 | |
| pull_columns | 0.003 | 0.000 | 0.004 | |
| pvalues_estimable | 0.038 | 0.003 | 0.041 | |
| read_affymetrix | 0 | 0 | 0 | |
| read_diann_proteingroups | 116.675 | 2.086 | 120.226 | |
| read_fragpipe | 7.974 | 0.198 | 8.277 | |
| read_maxquant_phosphosites | 1.969 | 0.050 | 2.044 | |
| read_maxquant_proteingroups | 1.417 | 0.027 | 1.458 | |
| read_metabolon | 15.064 | 0.250 | 15.787 | |
| read_msigdt | 0.001 | 0.000 | 0.002 | |
| read_olink | 1.677 | 0.071 | 1.775 | |
| read_rectangles | 0.225 | 0.028 | 0.256 | |
| read_rnaseq_counts | 31.703 | 2.967 | 35.287 | |
| read_salmon | 0.000 | 0.001 | 0.000 | |
| read_somascan | 16.096 | 0.152 | 16.456 | |
| read_uniprotdt | 0.376 | 0.026 | 0.407 | |
| reset_fit | 5.445 | 0.124 | 5.639 | |
| rm_diann_contaminants | 25.958 | 0.542 | 26.850 | |
| rm_missing_in_some_samples | 0.713 | 0.071 | 0.807 | |
| rm_unmatched_samples | 0.873 | 0.026 | 0.929 | |
| sbind | 5.167 | 0.080 | 5.364 | |
| scaledlibsizes | 0.414 | 0.006 | 0.424 | |
| scoremat | 1.105 | 0.075 | 1.223 | |
| slevels | 0.519 | 0.011 | 0.564 | |
| snames | 0.462 | 0.011 | 0.481 | |
| split_extract_fixed | 0.662 | 0.058 | 0.730 | |
| split_samples | 1.516 | 0.073 | 1.613 | |
| stepauc | 0.408 | 0.006 | 0.422 | |
| stri_any_regex | 0.001 | 0.000 | 0.000 | |
| stri_detect_fixed_in_collapsed | 0.428 | 0.010 | 0.444 | |
| subgroup_matrix | 0.717 | 0.065 | 0.792 | |
| subtract_baseline | 6.503 | 0.168 | 6.775 | |
| sumexp_to_longdt | 2.567 | 0.120 | 2.740 | |
| sumexp_to_tsv | 0.733 | 0.016 | 0.759 | |
| sumexplist_to_longdt | 2.024 | 0.030 | 2.089 | |
| summarize_fit | 2.171 | 0.085 | 2.288 | |
| survobj | 0.191 | 0.003 | 0.195 | |
| svalues | 0.658 | 0.010 | 0.681 | |
| svars | 0.521 | 0.011 | 0.540 | |
| systematic_nas | 0.707 | 0.010 | 0.723 | |
| tag_features | 1.428 | 0.047 | 1.495 | |
| tag_hdlproteins | 0.644 | 0.043 | 0.697 | |
| taxon2org | 0.002 | 0.000 | 0.002 | |
| tpm | 0.543 | 0.014 | 0.562 | |
| uncollapse | 0.036 | 0.001 | 0.038 | |
| values | 0.518 | 0.020 | 0.545 | |
| varlevels_dont_clash | 0.027 | 0.001 | 0.029 | |
| venn_detects | 0.809 | 0.016 | 0.838 | |
| weights | 0.436 | 0.007 | 0.447 | |
| write_xl | 182.515 | 7.813 | 223.107 | |
| zero_to_na | 0.002 | 0.005 | 0.081 | |