| Back to Multiple platform build/check report for BioC 3.23: simplified long |
|
This page was generated on 2025-11-26 11:39 -0500 (Wed, 26 Nov 2025).
| Hostname | OS | Arch (*) | R version | Installed pkgs |
|---|---|---|---|---|
| nebbiolo1 | Linux (Ubuntu 24.04.3 LTS) | x86_64 | R Under development (unstable) (2025-10-20 r88955) -- "Unsuffered Consequences" | 4830 |
| lconway | macOS 12.7.6 Monterey | x86_64 | R Under development (unstable) (2025-10-21 r88958) -- "Unsuffered Consequences" | 4609 |
| kjohnson3 | macOS 13.7.7 Ventura | arm64 | R Under development (unstable) (2025-11-04 r88984) -- "Unsuffered Consequences" | 4569 |
| Click on any hostname to see more info about the system (e.g. compilers) (*) as reported by 'uname -p', except on Windows and Mac OS X | ||||
| Package 120/2328 | Hostname | OS / Arch | INSTALL | BUILD | CHECK | BUILD BIN | ||||||||
| autonomics 1.19.0 (landing page) Aditya Bhagwat
| nebbiolo1 | Linux (Ubuntu 24.04.3 LTS) / x86_64 | OK | OK | OK | |||||||||
| lconway | macOS 12.7.6 Monterey / x86_64 | OK | OK | OK | OK | |||||||||
| kjohnson3 | macOS 13.7.7 Ventura / arm64 | OK | OK | OK | OK | |||||||||
|
To the developers/maintainers of the autonomics package: - Allow up to 24 hours (and sometimes 48 hours) for your latest push to git@git.bioconductor.org:packages/autonomics.git to reflect on this report. See Troubleshooting Build Report for more information. - Use the following Renviron settings to reproduce errors and warnings. - If 'R CMD check' started to fail recently on the Linux builder(s) over a missing dependency, add the missing dependency to 'Suggests:' in your DESCRIPTION file. See Renviron.bioc for more information. |
| Package: autonomics |
| Version: 1.19.0 |
| Command: /Library/Frameworks/R.framework/Resources/bin/R CMD check --install=check:autonomics.install-out.txt --library=/Library/Frameworks/R.framework/Resources/library --no-vignettes --timings autonomics_1.19.0.tar.gz |
| StartedAt: 2025-11-25 18:32:13 -0500 (Tue, 25 Nov 2025) |
| EndedAt: 2025-11-25 18:39:45 -0500 (Tue, 25 Nov 2025) |
| EllapsedTime: 452.6 seconds |
| RetCode: 0 |
| Status: OK |
| CheckDir: autonomics.Rcheck |
| Warnings: 0 |
##############################################################################
##############################################################################
###
### Running command:
###
### /Library/Frameworks/R.framework/Resources/bin/R CMD check --install=check:autonomics.install-out.txt --library=/Library/Frameworks/R.framework/Resources/library --no-vignettes --timings autonomics_1.19.0.tar.gz
###
##############################################################################
##############################################################################
* using log directory ‘/Users/biocbuild/bbs-3.23-bioc/meat/autonomics.Rcheck’
* using R Under development (unstable) (2025-11-04 r88984)
* using platform: aarch64-apple-darwin20
* R was compiled by
Apple clang version 16.0.0 (clang-1600.0.26.6)
GNU Fortran (GCC) 14.2.0
* running under: macOS Ventura 13.7.8
* using session charset: UTF-8
* using option ‘--no-vignettes’
* checking for file ‘autonomics/DESCRIPTION’ ... OK
* checking extension type ... Package
* this is package ‘autonomics’ version ‘1.19.0’
* package encoding: UTF-8
* checking package namespace information ... OK
* checking package dependencies ... INFO
Imports includes 32 non-default packages.
Importing from so many packages makes the package vulnerable to any of
them becoming unavailable. Move as many as possible to Suggests and
use conditionally.
* checking if this is a source package ... OK
* checking if there is a namespace ... OK
* checking for hidden files and directories ... NOTE
Found the following hidden files and directories:
.BBSoptions
These were most likely included in error. See section ‘Package
structure’ in the ‘Writing R Extensions’ manual.
* checking for portable file names ... OK
* checking for sufficient/correct file permissions ... OK
* checking whether package ‘autonomics’ can be installed ... OK
* checking installed package size ... OK
* checking package directory ... OK
* checking ‘build’ directory ... OK
* checking DESCRIPTION meta-information ... OK
* checking top-level files ... OK
* checking for left-over files ... OK
* checking index information ... OK
* checking package subdirectories ... OK
* checking code files for non-ASCII characters ... OK
* checking R files for syntax errors ... OK
* checking whether the package can be loaded ... OK
* checking whether the package can be loaded with stated dependencies ... OK
* checking whether the package can be unloaded cleanly ... OK
* checking whether the namespace can be loaded with stated dependencies ... OK
* checking whether the namespace can be unloaded cleanly ... OK
* checking dependencies in R code ... OK
* checking S3 generic/method consistency ... OK
* checking replacement functions ... OK
* checking foreign function calls ... OK
* checking R code for possible problems ... OK
* checking Rd files ... OK
* checking Rd metadata ... OK
* checking Rd cross-references ... NOTE
Non-topic package-anchored link(s) in Rd file 'reexports.Rd':
‘[magrittr:compound]{%<>%}’ ‘[magrittr:pipe]{%>%}’
‘[magrittr:aliases]{extract}’
See section 'Cross-references' in the 'Writing R Extensions' manual.
* checking for missing documentation entries ... OK
* checking for code/documentation mismatches ... OK
* checking Rd \usage sections ... OK
* checking Rd contents ... OK
* checking for unstated dependencies in examples ... OK
* checking files in ‘vignettes’ ... OK
* checking examples ... OK
Examples with CPU (user + system) or elapsed time > 5s
user system elapsed
write_xl 59.404 2.888 67.591
read_diann_proteingroups 36.367 0.930 39.766
awblinmod 13.549 0.081 15.387
read_rnaseq_counts 10.462 1.019 12.572
LINMOD 7.634 0.103 8.370
rm_diann_contaminants 7.513 0.207 8.154
default_formula 6.734 0.279 7.666
plot_exprs 6.926 0.036 7.684
plot_exprs_per_coef 5.618 0.027 6.107
read_somascan 4.513 0.033 5.125
plot_volcano 4.213 0.043 5.043
* checking for unstated dependencies in ‘tests’ ... OK
* checking tests ...
Running ‘testthat.R’
OK
* checking for unstated dependencies in vignettes ... OK
* checking package vignettes ... OK
* checking running R code from vignettes ... SKIPPED
* checking re-building of vignette outputs ... SKIPPED
* checking PDF version of manual ... OK
* DONE
Status: 2 NOTEs
See
‘/Users/biocbuild/bbs-3.23-bioc/meat/autonomics.Rcheck/00check.log’
for details.
autonomics.Rcheck/00install.out
############################################################################## ############################################################################## ### ### Running command: ### ### /Library/Frameworks/R.framework/Resources/bin/R CMD INSTALL autonomics ### ############################################################################## ############################################################################## * installing to library ‘/Library/Frameworks/R.framework/Versions/4.6-arm64/Resources/library’ * installing *source* package ‘autonomics’ ... ** this is package ‘autonomics’ version ‘1.19.0’ ** using staged installation ** R ** inst ** byte-compile and prepare package for lazy loading Note: wrong number of arguments to 'seq_along' Note: wrong number of arguments to 'sqrt' ** help *** installing help indices ** building package indices ** installing vignettes ** testing if installed package can be loaded from temporary location ** testing if installed package can be loaded from final location ** testing if installed package keeps a record of temporary installation path * DONE (autonomics)
autonomics.Rcheck/tests/testthat.Rout
R Under development (unstable) (2025-11-04 r88984) -- "Unsuffered Consequences"
Copyright (C) 2025 The R Foundation for Statistical Computing
Platform: aarch64-apple-darwin20
R is free software and comes with ABSOLUTELY NO WARRANTY.
You are welcome to redistribute it under certain conditions.
Type 'license()' or 'licence()' for distribution details.
R is a collaborative project with many contributors.
Type 'contributors()' for more information and
'citation()' on how to cite R or R packages in publications.
Type 'demo()' for some demos, 'help()' for on-line help, or
'help.start()' for an HTML browser interface to help.
Type 'q()' to quit R.
> library(testthat)
> library(autonomics)
Attaching package: 'autonomics'
The following objects are masked from 'package:stats':
biplot, loadings
The following object is masked from 'package:base':
beta
>
> test_check("autonomics")
[ FAIL 0 | WARN 3 | SKIP 0 | PASS 158 ]
[ FAIL 0 | WARN 3 | SKIP 0 | PASS 158 ]
>
> proc.time()
user system elapsed
55.991 3.277 63.799
autonomics.Rcheck/autonomics-Ex.timings
| name | user | system | elapsed | |
| AUTONOMICS_DATASETS | 0 | 0 | 0 | |
| COMPOUNDDISCOVERER_PATTERNS | 0 | 0 | 0 | |
| LINMOD | 7.634 | 0.103 | 8.370 | |
| LINMODENGINES | 0 | 0 | 0 | |
| MAXQUANT_PATTERNS | 0.000 | 0.001 | 0.000 | |
| TAXON_TO_ORGNAME | 0.001 | 0.000 | 0.001 | |
| TESTS | 0 | 0 | 0 | |
| X | 0.384 | 0.018 | 0.455 | |
| abstract_fit | 0.321 | 0.017 | 0.353 | |
| add_adjusted_pvalues | 0.163 | 0.003 | 0.186 | |
| add_assay_means | 0.117 | 0.002 | 0.131 | |
| add_facetvars | 0.432 | 0.019 | 0.502 | |
| add_opentargets_by_uniprot | 0.135 | 0.003 | 0.151 | |
| add_psp | 0.172 | 0.004 | 0.190 | |
| add_smiles | 0.155 | 0.016 | 0.210 | |
| all_non_numeric | 0.176 | 0.001 | 0.188 | |
| analysis | 0.131 | 0.002 | 0.143 | |
| analyze | 4.305 | 0.055 | 4.730 | |
| annotate_maxquant | 0.337 | 0.022 | 0.387 | |
| annotate_uniprot_rest | 0.106 | 0.007 | 2.003 | |
| assert_is_valid_sumexp | 0.182 | 0.016 | 0.235 | |
| awblinmod | 13.549 | 0.081 | 15.387 | |
| biplot | 1.184 | 0.020 | 1.303 | |
| biplot_corrections | 1.136 | 0.019 | 1.271 | |
| biplot_covariates | 2.221 | 0.019 | 2.429 | |
| block2limma | 0.000 | 0.001 | 0.001 | |
| block2lm | 0.001 | 0.000 | 0.001 | |
| block2lme | 0.000 | 0.000 | 0.001 | |
| block2lmer | 0.001 | 0.000 | 0.001 | |
| block_has_two_levels | 0.228 | 0.018 | 0.275 | |
| center | 0.597 | 0.005 | 0.660 | |
| code | 1.495 | 0.020 | 1.660 | |
| collapsed_entrezg_to_symbol | 0.363 | 0.021 | 0.425 | |
| contrast_subgroup_cols | 0.214 | 0.017 | 0.247 | |
| contrastdt | 0.195 | 0.001 | 0.220 | |
| count_in | 0.000 | 0.000 | 0.001 | |
| counts | 0.101 | 0.001 | 0.116 | |
| counts2cpm | 0.118 | 0.001 | 0.134 | |
| counts2tpm | 0.088 | 0.001 | 0.093 | |
| cpm | 0.118 | 0.001 | 0.134 | |
| create_design | 0.235 | 0.017 | 0.298 | |
| default_formula | 6.734 | 0.279 | 7.666 | |
| default_geom | 0.157 | 0.015 | 0.197 | |
| default_sfile | 0.001 | 0.001 | 0.001 | |
| demultiplex | 0.004 | 0.000 | 0.004 | |
| densities | 0.071 | 0.003 | 0.074 | |
| dequantify | 0.001 | 0.000 | 0.001 | |
| dequantify_compounddiscoverer | 0.000 | 0.000 | 0.001 | |
| dot-coxph | 0.139 | 0.016 | 0.163 | |
| dot-merge | 0.008 | 0.001 | 0.011 | |
| dot-read_maxquant_proteingroups | 0.048 | 0.004 | 0.052 | |
| download_data | 0 | 0 | 0 | |
| download_gtf | 0 | 0 | 0 | |
| download_mcclain21 | 0.001 | 0.000 | 0.001 | |
| dt2mat | 0.001 | 0.000 | 0.002 | |
| enrichment | 0.354 | 0.007 | 0.385 | |
| entrezg_to_symbol | 0.054 | 0.002 | 0.057 | |
| explore-transforms | 3.099 | 0.024 | 3.268 | |
| extract_contrast_features | 1.414 | 0.020 | 1.531 | |
| extract_rectangle | 0.047 | 0.019 | 0.069 | |
| factor.vars | 0.052 | 0.000 | 0.052 | |
| factorize | 0.234 | 0.004 | 0.252 | |
| fcluster | 2.897 | 0.017 | 3.161 | |
| fcor | 0.490 | 0.013 | 0.561 | |
| fdata | 0.184 | 0.004 | 0.197 | |
| fdr2p | 0.281 | 0.016 | 0.307 | |
| filter_exprs_replicated_in_some_subgroup | 0.316 | 0.018 | 0.402 | |
| filter_features | 0.159 | 0.015 | 0.238 | |
| filter_medoid | 0.189 | 0.002 | 0.203 | |
| filter_samples | 0.157 | 0.015 | 0.234 | |
| fit_survival | 3.374 | 0.056 | 3.655 | |
| fits | 0.090 | 0.000 | 0.091 | |
| fix_xlgenes | 0.000 | 0.000 | 0.001 | |
| flevels | 0.131 | 0.001 | 0.142 | |
| fnames | 0.167 | 0.002 | 0.206 | |
| formula2str | 0 | 0 | 0 | |
| ftype | 2.648 | 0.125 | 3.499 | |
| fvalues | 0.122 | 0.002 | 0.143 | |
| fvars | 0.119 | 0.001 | 0.131 | |
| genome_to_orgdb | 0 | 0 | 0 | |
| group_by_level | 0.000 | 0.000 | 0.001 | |
| guess_compounddiscoverer_quantity | 0 | 0 | 0 | |
| guess_fitsep | 0.168 | 0.002 | 0.190 | |
| guess_maxquant_quantity | 0.002 | 0.001 | 0.002 | |
| guess_sep | 0.152 | 0.017 | 0.212 | |
| has_multiple_levels | 0.016 | 0.001 | 0.018 | |
| hdlproteins | 0.021 | 0.010 | 0.039 | |
| impute | 1.095 | 0.010 | 1.223 | |
| invert_subgroups | 0.220 | 0.003 | 0.242 | |
| is_character_matrix | 0.043 | 0.000 | 0.046 | |
| is_collapsed_subset | 0 | 0 | 0 | |
| is_compounddiscoverer_output | 0.033 | 0.009 | 0.093 | |
| is_correlation_matrix | 0.000 | 0.000 | 0.001 | |
| is_diann_report | 0.060 | 0.006 | 0.065 | |
| is_fastadt | 0.02 | 0.00 | 0.02 | |
| is_file | 0 | 0 | 0 | |
| is_fraction | 0.001 | 0.000 | 0.000 | |
| is_fragpipe_tsv | 0.051 | 0.005 | 0.045 | |
| is_imputed | 0.249 | 0.002 | 0.264 | |
| is_maxquant_phosphosites | 0.035 | 0.004 | 0.040 | |
| is_maxquant_proteingroups | 0.027 | 0.003 | 0.029 | |
| is_positive_number | 0.000 | 0.000 | 0.001 | |
| is_scalar_subset | 0.100 | 0.001 | 0.106 | |
| is_sig | 0.433 | 0.003 | 0.478 | |
| is_valid_formula | 0.013 | 0.000 | 0.013 | |
| keep_estimable_features | 0.236 | 0.016 | 0.323 | |
| label2index | 0.001 | 0.000 | 0.001 | |
| list2mat | 0 | 0 | 0 | |
| log2counts | 0.131 | 0.001 | 0.153 | |
| log2cpm | 0.097 | 0.001 | 0.110 | |
| log2diffs | 0.094 | 0.001 | 0.099 | |
| log2proteins | 0.093 | 0.001 | 0.104 | |
| log2sites | 0.093 | 0.002 | 0.105 | |
| log2tpm | 0.115 | 0.000 | 0.123 | |
| log2transform | 1.585 | 0.015 | 1.725 | |
| logical2factor | 0.001 | 0.000 | 0.000 | |
| make_alpha_palette | 0.188 | 0.016 | 0.222 | |
| make_colors | 0.005 | 0.001 | 0.009 | |
| make_volcano_dt | 0.257 | 0.002 | 0.264 | |
| map_fvalues | 0.179 | 0.005 | 0.209 | |
| matrix2sumexp | 0.332 | 0.022 | 0.397 | |
| mclust_breaks | 0.260 | 0.025 | 0.307 | |
| merge_sample_file | 0.174 | 0.004 | 0.193 | |
| merge_sdata | 0.181 | 0.018 | 0.219 | |
| message_df | 0.000 | 0.000 | 0.001 | |
| model_coefs | 0.277 | 0.017 | 0.365 | |
| modelvar | 1.061 | 0.022 | 1.250 | |
| object1 | 0.216 | 0.001 | 0.247 | |
| order_on_p | 0.470 | 0.018 | 0.570 | |
| overall_parameters | 0.01 | 0.00 | 0.01 | |
| pca | 1.076 | 0.020 | 1.218 | |
| pg_to_canonical | 0.002 | 0.000 | 0.002 | |
| plot_coef_densities | 0.455 | 0.018 | 0.519 | |
| plot_contrast_venn | 0.760 | 0.020 | 0.843 | |
| plot_contrastogram | 1.036 | 0.043 | 1.203 | |
| plot_data | 0.594 | 0.022 | 0.660 | |
| plot_densities | 3.616 | 0.109 | 4.046 | |
| plot_design | 0.248 | 0.002 | 0.266 | |
| plot_detections | 2.468 | 0.011 | 2.654 | |
| plot_exprs | 6.926 | 0.036 | 7.684 | |
| plot_exprs_per_coef | 5.618 | 0.027 | 6.107 | |
| plot_fit_summary | 0.723 | 0.039 | 0.860 | |
| plot_heatmap | 0.574 | 0.003 | 0.628 | |
| plot_matrix | 0.155 | 0.016 | 0.209 | |
| plot_subgroup_points | 1.765 | 0.023 | 1.966 | |
| plot_summary | 3.832 | 0.025 | 4.224 | |
| plot_venn | 0.008 | 0.001 | 0.010 | |
| plot_venn_heatmap | 0.008 | 0.001 | 0.011 | |
| plot_violins | 1.593 | 0.046 | 1.828 | |
| plot_volcano | 4.213 | 0.043 | 5.043 | |
| plot_xy_density | 2.115 | 0.015 | 2.276 | |
| preprocess_rnaseq_counts | 0.097 | 0.002 | 0.109 | |
| pull_columns | 0.000 | 0.000 | 0.001 | |
| pvalues_estimable | 0.011 | 0.002 | 0.014 | |
| read_affymetrix | 0 | 0 | 0 | |
| read_diann_proteingroups | 36.367 | 0.930 | 39.766 | |
| read_fragpipe | 2.739 | 0.097 | 3.043 | |
| read_maxquant_phosphosites | 0.508 | 0.010 | 0.575 | |
| read_maxquant_proteingroups | 0.394 | 0.007 | 0.429 | |
| read_metabolon | 3.880 | 0.031 | 4.310 | |
| read_msigdt | 0.001 | 0.000 | 0.000 | |
| read_olink | 0.568 | 0.033 | 0.712 | |
| read_rectangles | 0.068 | 0.010 | 0.098 | |
| read_rnaseq_counts | 10.462 | 1.019 | 12.572 | |
| read_salmon | 0 | 0 | 0 | |
| read_somascan | 4.513 | 0.033 | 5.125 | |
| read_uniprotdt | 0.101 | 0.008 | 0.137 | |
| reset_fit | 1.407 | 0.038 | 1.627 | |
| rm_diann_contaminants | 7.513 | 0.207 | 8.154 | |
| rm_missing_in_some_samples | 0.156 | 0.019 | 0.205 | |
| rm_unmatched_samples | 0.227 | 0.007 | 0.249 | |
| sbind | 1.338 | 0.011 | 1.475 | |
| scaledlibsizes | 0.129 | 0.001 | 0.134 | |
| scoremat | 0.261 | 0.018 | 0.316 | |
| slevels | 0.160 | 0.003 | 0.169 | |
| snames | 0.135 | 0.001 | 0.141 | |
| split_extract_fixed | 0.163 | 0.025 | 0.244 | |
| split_samples | 0.394 | 0.016 | 0.447 | |
| stepauc | 0.131 | 0.001 | 0.144 | |
| stri_any_regex | 0.000 | 0.000 | 0.001 | |
| stri_detect_fixed_in_collapsed | 0.107 | 0.001 | 0.114 | |
| subgroup_matrix | 0.163 | 0.018 | 0.196 | |
| subtract_baseline | 1.657 | 0.043 | 1.871 | |
| sumexp_to_longdt | 0.605 | 0.029 | 0.691 | |
| sumexp_to_tsv | 0.151 | 0.002 | 0.165 | |
| sumexplist_to_longdt | 0.541 | 0.005 | 0.591 | |
| summarize_fit | 0.579 | 0.020 | 0.633 | |
| survobj | 0.04 | 0.00 | 0.04 | |
| svalues | 0.139 | 0.002 | 0.156 | |
| svars | 0.180 | 0.002 | 0.194 | |
| systematic_nas | 0.182 | 0.002 | 0.189 | |
| tag_features | 0.413 | 0.015 | 0.454 | |
| tag_hdlproteins | 0.206 | 0.011 | 0.230 | |
| taxon2org | 0 | 0 | 0 | |
| tpm | 0.113 | 0.001 | 0.117 | |
| uncollapse | 0.008 | 0.001 | 0.008 | |
| values | 0.216 | 0.003 | 0.229 | |
| varlevels_dont_clash | 0.009 | 0.001 | 0.010 | |
| venn_detects | 0.168 | 0.003 | 0.177 | |
| weights | 0.117 | 0.001 | 0.132 | |
| write_xl | 59.404 | 2.888 | 67.591 | |
| zero_to_na | 0.001 | 0.001 | 0.003 | |