Back to Build/check report for BioC 3.23:   simplified   long
ABCDEFGHIJKL[M]NOPQRSTUVWXYZ

This page was generated on 2025-11-08 11:32 -0500 (Sat, 08 Nov 2025).

HostnameOSArch (*)R versionInstalled pkgs
nebbiolo1Linux (Ubuntu 24.04.3 LTS)x86_64R Under development (unstable) (2025-10-20 r88955) -- "Unsuffered Consequences" 4821
Click on any hostname to see more info about the system (e.g. compilers)      (*) as reported by 'uname -p', except on Windows and Mac OS X

All results for package MAST


To the developers/maintainers of the MAST package:
- Allow up to 24 hours (and sometimes 48 hours) for your latest push to git@git.bioconductor.org:packages/MAST.git to reflect on this report. See Troubleshooting Build Report for more information.
- Use the following Renviron settings to reproduce errors and warnings.
- If 'R CMD check' started to fail recently on the Linux builder(s) over a missing dependency, add the missing dependency to 'Suggests:' in your DESCRIPTION file. See Renviron.bioc for more information.

raw results

Package 1179/2323HostnameOS / ArchINSTALLBUILDCHECKBUILD BIN
MAST 1.37.0  (landing page)
Andrew McDavid
Snapshot Date: 2025-11-07 13:40 -0500 (Fri, 07 Nov 2025)
git_url: https://git.bioconductor.org/packages/MAST
git_branch: devel
git_last_commit: 29ffa2b
git_last_commit_date: 2025-10-29 10:34:54 -0500 (Wed, 29 Oct 2025)
nebbiolo1Linux (Ubuntu 24.04.3 LTS) / x86_64  OK    OK    OK  UNNEEDED, same version is already published



Results for Bioconductor software packages that depend directly on package MAST

QUICK STATSOS / ArchINSTALLBUILDCHECKBUILD BIN
nebbiolo1Linux (Ubuntu 24.04.3 LTS) / x86_64
004
004
0004
Package 1/4HostnameOS / ArchINSTALLBUILDCHECKBUILD BIN
benchdamic 1.17.0  (landing page)
Matteo Calgaro
git_last_commit: 316209e
git_last_commit_date: 2025-10-29 11:13:17 -0500
nebbiolo1Linux (Ubuntu 24.04.3 LTS) / x86_64  OK    OK    OK  NO, package depends on 'Maaslin2' which is not available
Package 2/4HostnameOS / ArchINSTALLBUILDCHECKBUILD BIN
celaref 1.29.0  (landing page)
Sarah Williams
git_last_commit: 20dbb3d
git_last_commit_date: 2025-10-29 10:46:48 -0500
nebbiolo1Linux (Ubuntu 24.04.3 LTS) / x86_64  OK    OK    OK  UNNEEDED, same version is already published
Package 3/4HostnameOS / ArchINSTALLBUILDCHECKBUILD BIN
POWSC 1.19.0  (landing page)
Kenong Su
git_last_commit: b092ca1
git_last_commit_date: 2025-10-29 11:09:11 -0500
nebbiolo1Linux (Ubuntu 24.04.3 LTS) / x86_64  OK    OK    OK  UNNEEDED, same version is already published
Package 4/4HostnameOS / ArchINSTALLBUILDCHECKBUILD BIN
singleCellTK 2.21.0  (landing page)
Joshua David Campbell
git_last_commit: 4895b66
git_last_commit_date: 2025-10-29 11:29:49 -0500
nebbiolo1Linux (Ubuntu 24.04.3 LTS) / x86_64  OK    OK    OK  UNNEEDED, same version is already published