| Back to Multiple platform build/check report for BioC 3.23: simplified long |
|
This page was generated on 2025-11-18 11:38 -0500 (Tue, 18 Nov 2025).
| Hostname | OS | Arch (*) | R version | Installed pkgs |
|---|---|---|---|---|
| nebbiolo1 | Linux (Ubuntu 24.04.3 LTS) | x86_64 | R Under development (unstable) (2025-10-20 r88955) -- "Unsuffered Consequences" | 4826 |
| lconway | macOS 12.7.6 Monterey | x86_64 | R Under development (unstable) (2025-10-21 r88958) -- "Unsuffered Consequences" | 4561 |
| kjohnson3 | macOS 13.7.7 Ventura | arm64 | R Under development (unstable) (2025-11-04 r88984) -- "Unsuffered Consequences" | 4562 |
| Click on any hostname to see more info about the system (e.g. compilers) (*) as reported by 'uname -p', except on Windows and Mac OS X | ||||
| Package 265/2325 | Hostname | OS / Arch | INSTALL | BUILD | CHECK | BUILD BIN | ||||||||
| CAGEfightR 1.31.0 (landing page) Malte Thodberg
| nebbiolo1 | Linux (Ubuntu 24.04.3 LTS) / x86_64 | OK | OK | OK | |||||||||
| lconway | macOS 12.7.6 Monterey / x86_64 | OK | OK | OK | OK | |||||||||
| kjohnson3 | macOS 13.7.7 Ventura / arm64 | OK | OK | OK | OK | |||||||||
|
To the developers/maintainers of the CAGEfightR package: - Allow up to 24 hours (and sometimes 48 hours) for your latest push to git@git.bioconductor.org:packages/CAGEfightR.git to reflect on this report. See Troubleshooting Build Report for more information. - Use the following Renviron settings to reproduce errors and warnings. - If 'R CMD check' started to fail recently on the Linux builder(s) over a missing dependency, add the missing dependency to 'Suggests:' in your DESCRIPTION file. See Renviron.bioc for more information. |
| Package: CAGEfightR |
| Version: 1.31.0 |
| Command: /Library/Frameworks/R.framework/Resources/bin/R CMD check --install=check:CAGEfightR.install-out.txt --library=/Library/Frameworks/R.framework/Resources/library --no-vignettes --timings CAGEfightR_1.31.0.tar.gz |
| StartedAt: 2025-11-17 20:53:12 -0500 (Mon, 17 Nov 2025) |
| EndedAt: 2025-11-17 21:00:23 -0500 (Mon, 17 Nov 2025) |
| EllapsedTime: 431.0 seconds |
| RetCode: 0 |
| Status: OK |
| CheckDir: CAGEfightR.Rcheck |
| Warnings: 0 |
##############################################################################
##############################################################################
###
### Running command:
###
### /Library/Frameworks/R.framework/Resources/bin/R CMD check --install=check:CAGEfightR.install-out.txt --library=/Library/Frameworks/R.framework/Resources/library --no-vignettes --timings CAGEfightR_1.31.0.tar.gz
###
##############################################################################
##############################################################################
* using log directory ‘/Users/biocbuild/bbs-3.23-bioc/meat/CAGEfightR.Rcheck’
* using R Under development (unstable) (2025-10-21 r88958)
* using platform: x86_64-apple-darwin20
* R was compiled by
Apple clang version 14.0.0 (clang-1400.0.29.202)
GNU Fortran (GCC) 14.2.0
* running under: macOS Ventura 13.7.8
* using session charset: UTF-8
* using option ‘--no-vignettes’
* checking for file ‘CAGEfightR/DESCRIPTION’ ... OK
* checking extension type ... Package
* this is package ‘CAGEfightR’ version ‘1.31.0’
* package encoding: UTF-8
* checking package namespace information ... OK
* checking package dependencies ... OK
* checking if this is a source package ... OK
* checking if there is a namespace ... OK
* checking for hidden files and directories ... OK
* checking for portable file names ... OK
* checking for sufficient/correct file permissions ... OK
* checking whether package ‘CAGEfightR’ can be installed ... OK
* checking installed package size ... OK
* checking package directory ... OK
* checking ‘build’ directory ... OK
* checking DESCRIPTION meta-information ... OK
* checking top-level files ... OK
* checking for left-over files ... OK
* checking index information ... OK
* checking package subdirectories ... OK
* checking code files for non-ASCII characters ... OK
* checking R files for syntax errors ... OK
* checking whether the package can be loaded ... OK
* checking whether the package can be loaded with stated dependencies ... OK
* checking whether the package can be unloaded cleanly ... OK
* checking whether the namespace can be loaded with stated dependencies ... OK
* checking whether the namespace can be unloaded cleanly ... OK
* checking whether startup messages can be suppressed ... OK
* checking dependencies in R code ... OK
* checking S3 generic/method consistency ... OK
* checking replacement functions ... OK
* checking foreign function calls ... OK
* checking R code for possible problems ... OK
* checking Rd files ... OK
* checking Rd metadata ... OK
* checking Rd cross-references ... OK
* checking for missing documentation entries ... OK
* checking for code/documentation mismatches ... OK
* checking Rd \usage sections ... OK
* checking Rd contents ... OK
* checking for unstated dependencies in examples ... OK
* checking contents of ‘data’ directory ... OK
* checking data for non-ASCII characters ... OK
* checking LazyData ... OK
* checking data for ASCII and uncompressed saves ... OK
* checking files in ‘vignettes’ ... OK
* checking examples ... OK
Examples with CPU (user + system) or elapsed time > 5s
user system elapsed
findLinks 6.356 0.728 6.598
* checking for unstated dependencies in vignettes ... OK
* checking package vignettes ... OK
* checking running R code from vignettes ... SKIPPED
* checking re-building of vignette outputs ... SKIPPED
* checking PDF version of manual ... OK
* DONE
Status: OK
CAGEfightR.Rcheck/00install.out
############################################################################## ############################################################################## ### ### Running command: ### ### /Library/Frameworks/R.framework/Resources/bin/R CMD INSTALL CAGEfightR ### ############################################################################## ############################################################################## * installing to library ‘/Library/Frameworks/R.framework/Versions/4.6-x86_64/Resources/library’ * installing *source* package ‘CAGEfightR’ ... ** this is package ‘CAGEfightR’ version ‘1.31.0’ ** using staged installation ** R ** data *** moving datasets to lazyload DB ** inst ** byte-compile and prepare package for lazy loading ** help *** installing help indices ** building package indices ** installing vignettes ** testing if installed package can be loaded from temporary location ** testing if installed package can be loaded from final location ** testing if installed package keeps a record of temporary installation path * DONE (CAGEfightR)
CAGEfightR.Rcheck/CAGEfightR-Ex.timings
| name | user | system | elapsed | |
| assignGeneID | 3.924 | 0.114 | 4.096 | |
| assignMissingID | 1.094 | 0.037 | 1.140 | |
| assignTxID | 0.994 | 0.036 | 1.041 | |
| assignTxType | 0.000 | 0.000 | 0.001 | |
| balanceBC | 0.000 | 0.000 | 0.001 | |
| balanceD | 0.001 | 0.000 | 0.001 | |
| bwCommonGenome | 0.037 | 0.007 | 0.045 | |
| bwGenomeCompatibility | 0.020 | 0.005 | 0.025 | |
| bwValid | 0.008 | 0.004 | 0.013 | |
| calcBidirectionality | 0.449 | 0.018 | 0.470 | |
| calcComposition | 1.477 | 0.049 | 1.536 | |
| calcPooled | 0.113 | 0.006 | 0.119 | |
| calcShape | 2.457 | 0.079 | 2.550 | |
| calcSupport | 0.141 | 0.009 | 0.151 | |
| calcTPM | 0.124 | 0.005 | 0.130 | |
| calcTotalTags | 0.062 | 0.005 | 0.067 | |
| checkCTSSs | 0.269 | 0.008 | 0.279 | |
| checkPeaked | 0.070 | 0.005 | 0.074 | |
| checkPooled | 0.066 | 0.005 | 0.073 | |
| clusterBidirectionally | 0 | 0 | 0 | |
| clusterUnidirectionally | 1.682 | 0.031 | 1.722 | |
| combineClusters | 0.875 | 0.018 | 0.898 | |
| convertBAM2BigWig | 0 | 0 | 0 | |
| convertBED2BigWig | 0.000 | 0.000 | 0.001 | |
| convertGRanges2GPos | 0.081 | 0.001 | 0.083 | |
| exampleDesign | 0.005 | 0.014 | 0.019 | |
| findLinks | 6.356 | 0.728 | 6.598 | |
| findStretches | 0.442 | 0.060 | 0.505 | |
| quantifyCTSSs | 0 | 0 | 0 | |
| quantifyCTSSs2 | 0.000 | 0.001 | 0.001 | |
| quantifyClusters | 0.415 | 0.059 | 0.478 | |
| quantifyGenes | 1.344 | 0.122 | 1.474 | |
| quickEnhancers | 0 | 0 | 0 | |
| quickGenes | 0.000 | 0.001 | 0.000 | |
| quickTSSs | 0.001 | 0.000 | 0.001 | |
| shapeEntropy | 0.000 | 0.001 | 0.001 | |
| shapeIQR | 0 | 0 | 0 | |
| shapeMean | 0.001 | 0.001 | 0.001 | |
| shapeMultimodality | 0 | 0 | 0 | |
| subsetByBidirectionality | 0.455 | 0.042 | 0.498 | |
| subsetByComposition | 1.314 | 0.049 | 1.373 | |
| subsetBySupport | 0.069 | 0.004 | 0.075 | |
| swapRanges | 0.176 | 0.008 | 0.186 | |
| swapScores | 0.104 | 0.005 | 0.111 | |
| trackBalance | 0 | 0 | 0 | |
| trackCTSS | 3.661 | 0.312 | 3.998 | |
| trackClusters | 2.256 | 0.046 | 2.320 | |
| trackLinks | 1.121 | 0.366 | 1.280 | |
| trimToPeak | 1.046 | 0.115 | 1.174 | |
| trimToPercentiles | 2.285 | 0.092 | 2.394 | |
| tuneTagClustering | 0.000 | 0.000 | 0.001 | |
| utilsAggregateRows | 0.371 | 0.369 | 0.776 | |
| utilsDeStrand | 0.106 | 0.003 | 0.109 | |
| utilsScoreOverlaps | 0.060 | 0.001 | 0.062 | |
| utilsSimplifyTxDb | 0.000 | 0.000 | 0.001 | |