| Back to Multiple platform build/check report for BioC 3.23: simplified long |
|
This page was generated on 2025-11-18 11:39 -0500 (Tue, 18 Nov 2025).
| Hostname | OS | Arch (*) | R version | Installed pkgs |
|---|---|---|---|---|
| nebbiolo1 | Linux (Ubuntu 24.04.3 LTS) | x86_64 | R Under development (unstable) (2025-10-20 r88955) -- "Unsuffered Consequences" | 4826 |
| lconway | macOS 12.7.6 Monterey | x86_64 | R Under development (unstable) (2025-10-21 r88958) -- "Unsuffered Consequences" | 4561 |
| kjohnson3 | macOS 13.7.7 Ventura | arm64 | R Under development (unstable) (2025-11-04 r88984) -- "Unsuffered Consequences" | 4562 |
| Click on any hostname to see more info about the system (e.g. compilers) (*) as reported by 'uname -p', except on Windows and Mac OS X | ||||
| Package 265/2325 | Hostname | OS / Arch | INSTALL | BUILD | CHECK | BUILD BIN | ||||||||
| CAGEfightR 1.31.0 (landing page) Malte Thodberg
| nebbiolo1 | Linux (Ubuntu 24.04.3 LTS) / x86_64 | OK | OK | OK | |||||||||
| lconway | macOS 12.7.6 Monterey / x86_64 | OK | OK | OK | OK | |||||||||
| kjohnson3 | macOS 13.7.7 Ventura / arm64 | OK | OK | OK | OK | |||||||||
|
To the developers/maintainers of the CAGEfightR package: - Allow up to 24 hours (and sometimes 48 hours) for your latest push to git@git.bioconductor.org:packages/CAGEfightR.git to reflect on this report. See Troubleshooting Build Report for more information. - Use the following Renviron settings to reproduce errors and warnings. - If 'R CMD check' started to fail recently on the Linux builder(s) over a missing dependency, add the missing dependency to 'Suggests:' in your DESCRIPTION file. See Renviron.bioc for more information. |
| Package: CAGEfightR |
| Version: 1.31.0 |
| Command: /Library/Frameworks/R.framework/Resources/bin/R CMD check --install=check:CAGEfightR.install-out.txt --library=/Library/Frameworks/R.framework/Resources/library --no-vignettes --timings CAGEfightR_1.31.0.tar.gz |
| StartedAt: 2025-11-17 19:46:45 -0500 (Mon, 17 Nov 2025) |
| EndedAt: 2025-11-17 19:49:41 -0500 (Mon, 17 Nov 2025) |
| EllapsedTime: 176.0 seconds |
| RetCode: 0 |
| Status: OK |
| CheckDir: CAGEfightR.Rcheck |
| Warnings: 0 |
##############################################################################
##############################################################################
###
### Running command:
###
### /Library/Frameworks/R.framework/Resources/bin/R CMD check --install=check:CAGEfightR.install-out.txt --library=/Library/Frameworks/R.framework/Resources/library --no-vignettes --timings CAGEfightR_1.31.0.tar.gz
###
##############################################################################
##############################################################################
* using log directory ‘/Users/biocbuild/bbs-3.23-bioc/meat/CAGEfightR.Rcheck’
* using R Under development (unstable) (2025-11-04 r88984)
* using platform: aarch64-apple-darwin20
* R was compiled by
Apple clang version 16.0.0 (clang-1600.0.26.6)
GNU Fortran (GCC) 14.2.0
* running under: macOS Ventura 13.7.8
* using session charset: UTF-8
* using option ‘--no-vignettes’
* checking for file ‘CAGEfightR/DESCRIPTION’ ... OK
* checking extension type ... Package
* this is package ‘CAGEfightR’ version ‘1.31.0’
* package encoding: UTF-8
* checking package namespace information ... OK
* checking package dependencies ... OK
* checking if this is a source package ... OK
* checking if there is a namespace ... OK
* checking for hidden files and directories ... OK
* checking for portable file names ... OK
* checking for sufficient/correct file permissions ... OK
* checking whether package ‘CAGEfightR’ can be installed ... OK
* checking installed package size ... OK
* checking package directory ... OK
* checking ‘build’ directory ... OK
* checking DESCRIPTION meta-information ... OK
* checking top-level files ... OK
* checking for left-over files ... OK
* checking index information ... OK
* checking package subdirectories ... OK
* checking code files for non-ASCII characters ... OK
* checking R files for syntax errors ... OK
* checking whether the package can be loaded ... OK
* checking whether the package can be loaded with stated dependencies ... OK
* checking whether the package can be unloaded cleanly ... OK
* checking whether the namespace can be loaded with stated dependencies ... OK
* checking whether the namespace can be unloaded cleanly ... OK
* checking whether startup messages can be suppressed ... OK
* checking dependencies in R code ... OK
* checking S3 generic/method consistency ... OK
* checking replacement functions ... OK
* checking foreign function calls ... OK
* checking R code for possible problems ... OK
* checking Rd files ... OK
* checking Rd metadata ... OK
* checking Rd cross-references ... OK
* checking for missing documentation entries ... OK
* checking for code/documentation mismatches ... OK
* checking Rd \usage sections ... OK
* checking Rd contents ... OK
* checking for unstated dependencies in examples ... OK
* checking contents of ‘data’ directory ... OK
* checking data for non-ASCII characters ... OK
* checking LazyData ... OK
* checking data for ASCII and uncompressed saves ... OK
* checking files in ‘vignettes’ ... OK
* checking examples ... OK
* checking for unstated dependencies in vignettes ... OK
* checking package vignettes ... OK
* checking running R code from vignettes ... SKIPPED
* checking re-building of vignette outputs ... SKIPPED
* checking PDF version of manual ... OK
* DONE
Status: OK
CAGEfightR.Rcheck/00install.out
############################################################################## ############################################################################## ### ### Running command: ### ### /Library/Frameworks/R.framework/Resources/bin/R CMD INSTALL CAGEfightR ### ############################################################################## ############################################################################## * installing to library ‘/Library/Frameworks/R.framework/Versions/4.6-arm64/Resources/library’ * installing *source* package ‘CAGEfightR’ ... ** this is package ‘CAGEfightR’ version ‘1.31.0’ ** using staged installation ** R ** data *** moving datasets to lazyload DB ** inst ** byte-compile and prepare package for lazy loading ** help *** installing help indices ** building package indices ** installing vignettes ** testing if installed package can be loaded from temporary location ** testing if installed package can be loaded from final location ** testing if installed package keeps a record of temporary installation path * DONE (CAGEfightR)
CAGEfightR.Rcheck/CAGEfightR-Ex.timings
| name | user | system | elapsed | |
| assignGeneID | 1.509 | 0.041 | 1.632 | |
| assignMissingID | 0.360 | 0.014 | 0.393 | |
| assignTxID | 0.328 | 0.011 | 0.353 | |
| assignTxType | 0.000 | 0.001 | 0.001 | |
| balanceBC | 0.000 | 0.001 | 0.000 | |
| balanceD | 0.000 | 0.000 | 0.001 | |
| bwCommonGenome | 0.011 | 0.003 | 0.015 | |
| bwGenomeCompatibility | 0.006 | 0.002 | 0.008 | |
| bwValid | 0.003 | 0.002 | 0.004 | |
| calcBidirectionality | 0.149 | 0.012 | 0.164 | |
| calcComposition | 0.487 | 0.018 | 0.522 | |
| calcPooled | 0.030 | 0.002 | 0.034 | |
| calcShape | 0.795 | 0.022 | 0.831 | |
| calcSupport | 0.047 | 0.003 | 0.050 | |
| calcTPM | 0.039 | 0.002 | 0.042 | |
| calcTotalTags | 0.024 | 0.002 | 0.027 | |
| checkCTSSs | 0.081 | 0.004 | 0.091 | |
| checkPeaked | 0.025 | 0.002 | 0.027 | |
| checkPooled | 0.018 | 0.004 | 0.021 | |
| clusterBidirectionally | 0 | 0 | 0 | |
| clusterUnidirectionally | 0.498 | 0.010 | 0.512 | |
| combineClusters | 0.284 | 0.007 | 0.294 | |
| convertBAM2BigWig | 0 | 0 | 0 | |
| convertBED2BigWig | 0.000 | 0.000 | 0.001 | |
| convertGRanges2GPos | 0.025 | 0.000 | 0.025 | |
| exampleDesign | 0.002 | 0.004 | 0.005 | |
| findLinks | 2.843 | 0.294 | 3.078 | |
| findStretches | 0.128 | 0.045 | 0.180 | |
| quantifyCTSSs | 0.001 | 0.000 | 0.000 | |
| quantifyCTSSs2 | 0 | 0 | 0 | |
| quantifyClusters | 0.136 | 0.030 | 0.172 | |
| quantifyGenes | 0.460 | 0.075 | 0.549 | |
| quickEnhancers | 0 | 0 | 0 | |
| quickGenes | 0 | 0 | 0 | |
| quickTSSs | 0 | 0 | 0 | |
| shapeEntropy | 0.000 | 0.001 | 0.001 | |
| shapeIQR | 0 | 0 | 0 | |
| shapeMean | 0.000 | 0.000 | 0.001 | |
| shapeMultimodality | 0 | 0 | 0 | |
| subsetByBidirectionality | 0.139 | 0.017 | 0.160 | |
| subsetByComposition | 0.425 | 0.027 | 0.463 | |
| subsetBySupport | 0.021 | 0.002 | 0.022 | |
| swapRanges | 0.064 | 0.004 | 0.069 | |
| swapScores | 0.030 | 0.003 | 0.032 | |
| trackBalance | 0.000 | 0.000 | 0.001 | |
| trackCTSS | 1.295 | 0.131 | 1.506 | |
| trackClusters | 0.901 | 0.020 | 0.969 | |
| trackLinks | 0.335 | 0.192 | 0.453 | |
| trimToPeak | 0.249 | 0.055 | 0.312 | |
| trimToPercentiles | 0.638 | 0.042 | 0.714 | |
| tuneTagClustering | 0 | 0 | 0 | |
| utilsAggregateRows | 0.136 | 0.176 | 0.318 | |
| utilsDeStrand | 0.045 | 0.002 | 0.047 | |
| utilsScoreOverlaps | 0.018 | 0.000 | 0.018 | |
| utilsSimplifyTxDb | 0 | 0 | 0 | |