Back to Multiple platform build/check report for BioC 3.22:   simplified   long
ABCDEFGHIJKLMN[O]PQRSTUVWXYZ

This page was generated on 2025-10-25 12:05 -0400 (Sat, 25 Oct 2025).

HostnameOSArch (*)R versionInstalled pkgs
nebbiolo2Linux (Ubuntu 24.04.3 LTS)x86_644.5.1 Patched (2025-08-23 r88802) -- "Great Square Root" 4901
lconwaymacOS 12.7.6 Montereyx86_644.5.1 Patched (2025-09-10 r88807) -- "Great Square Root" 4691
kjohnson3macOS 13.7.7 Venturaarm644.5.1 Patched (2025-09-10 r88807) -- "Great Square Root" 4637
taishanLinux (openEuler 24.03 LTS)aarch644.5.0 (2025-04-11) -- "How About a Twenty-Six" 4658
Click on any hostname to see more info about the system (e.g. compilers)      (*) as reported by 'uname -p', except on Windows and Mac OS X

Package 1513/2361HostnameOS / ArchINSTALLBUILDCHECKBUILD BIN
ontoProc 2.3.11  (landing page)
Vincent Carey
Snapshot Date: 2025-10-24 13:45 -0400 (Fri, 24 Oct 2025)
git_url: https://git.bioconductor.org/packages/ontoProc
git_branch: devel
git_last_commit: 8aa7338
git_last_commit_date: 2025-10-08 11:44:19 -0400 (Wed, 08 Oct 2025)
nebbiolo2Linux (Ubuntu 24.04.3 LTS) / x86_64  OK    OK    OK  UNNEEDED, same version is already published
lconwaymacOS 12.7.6 Monterey / x86_64  OK    OK    OK    OK  UNNEEDED, same version is already published
kjohnson3macOS 13.7.7 Ventura / arm64  OK    OK    OK    OK  UNNEEDED, same version is already published
taishanLinux (openEuler 24.03 LTS) / aarch64  OK    NA    NA  


CHECK results for ontoProc on lconway

To the developers/maintainers of the ontoProc package:
- Allow up to 24 hours (and sometimes 48 hours) for your latest push to git@git.bioconductor.org:packages/ontoProc.git to reflect on this report. See Troubleshooting Build Report for more information.
- Use the following Renviron settings to reproduce errors and warnings.
- If 'R CMD check' started to fail recently on the Linux builder(s) over a missing dependency, add the missing dependency to 'Suggests:' in your DESCRIPTION file. See Renviron.bioc for more information.

raw results


Summary

Package: ontoProc
Version: 2.3.11
Command: /Library/Frameworks/R.framework/Resources/bin/R CMD check --install=check:ontoProc.install-out.txt --library=/Library/Frameworks/R.framework/Resources/library --no-vignettes --timings ontoProc_2.3.11.tar.gz
StartedAt: 2025-10-24 23:03:58 -0400 (Fri, 24 Oct 2025)
EndedAt: 2025-10-24 23:37:29 -0400 (Fri, 24 Oct 2025)
EllapsedTime: 2011.2 seconds
RetCode: 0
Status:   OK  
CheckDir: ontoProc.Rcheck
Warnings: 0

Command output

##############################################################################
##############################################################################
###
### Running command:
###
###   /Library/Frameworks/R.framework/Resources/bin/R CMD check --install=check:ontoProc.install-out.txt --library=/Library/Frameworks/R.framework/Resources/library --no-vignettes --timings ontoProc_2.3.11.tar.gz
###
##############################################################################
##############################################################################


* using log directory ‘/Users/biocbuild/bbs-3.22-bioc/meat/ontoProc.Rcheck’
* using R version 4.5.1 Patched (2025-09-10 r88807)
* using platform: x86_64-apple-darwin20
* R was compiled by
    Apple clang version 14.0.0 (clang-1400.0.29.202)
    GNU Fortran (GCC) 14.2.0
* running under: macOS Monterey 12.7.6
* using session charset: UTF-8
* using option ‘--no-vignettes’
* checking for file ‘ontoProc/DESCRIPTION’ ... OK
* this is package ‘ontoProc’ version ‘2.3.11’
* package encoding: UTF-8
* checking package namespace information ... OK
* checking package dependencies ... OK
* checking if this is a source package ... OK
* checking if there is a namespace ... OK
* checking for hidden files and directories ... OK
* checking for portable file names ... OK
* checking for sufficient/correct file permissions ... OK
* checking whether package ‘ontoProc’ can be installed ... OK
* checking installed package size ... INFO
  installed size is 11.5Mb
  sub-directories of 1Mb or more:
    app       1.9Mb
    data      1.8Mb
    ontoRda   2.8Mb
    owl       3.8Mb
* checking package directory ... OK
* checking ‘build’ directory ... OK
* checking DESCRIPTION meta-information ... OK
* checking top-level files ... OK
* checking for left-over files ... OK
* checking index information ... OK
* checking package subdirectories ... OK
* checking code files for non-ASCII characters ... OK
* checking R files for syntax errors ... OK
* checking whether the package can be loaded ... OK
* checking whether the package can be loaded with stated dependencies ... OK
* checking whether the package can be unloaded cleanly ... OK
* checking whether the namespace can be loaded with stated dependencies ... OK
* checking whether the namespace can be unloaded cleanly ... OK
* checking dependencies in R code ... NOTE
':::' call which should be '::': ‘ontologyPlot:::remove_uninformative_terms’
  See the note in ?`:::` about the use of this operator.
* checking S3 generic/method consistency ... OK
* checking replacement functions ... OK
* checking foreign function calls ... OK
* checking R code for possible problems ... NOTE
CLfeat : prupdate: no visible binding for global variable ‘PROSYM’
CLfeat : prupdate: no visible binding for global variable ‘PRID’
CLfeat : prupdate: no visible binding for global variable ‘SYMBOL’
ctmarks : server: no visible binding for global variable ‘text’
ctmarks : server: no visible binding for global variable ‘packDesc2022’
ctmarks : server: no visible binding for global variable ‘packDesc2021’
ctmarks: no visible binding for global variable ‘cumu’
dropStop: no visible binding for global variable ‘stopWords’
getOnto: no visible binding for global variable ‘rdatadateadded’
getOnto: no visible binding for global variable ‘title’
getOnto: no visible binding for global variable ‘description’
ldfToTerm: no visible binding for global variable ‘PROSYM’
sym2CellOnto: no visible binding for global variable ‘PROSYM’
sym2CellOnto: no visible binding for global variable ‘SYMBOL’
Undefined global functions or variables:
  PRID PROSYM SYMBOL cumu description packDesc2021 packDesc2022
  rdatadateadded stopWords text title
Consider adding
  importFrom("graphics", "text", "title")
to your NAMESPACE file.
* checking Rd files ... OK
* checking Rd metadata ... OK
* checking Rd cross-references ... NOTE
Found the following Rd file(s) with Rd \link{} targets missing package
anchors:
  findCommonAncestors.Rd: graph, DataFrame-class, List-class
Please provide package anchors for all Rd \link{} targets not in the
package itself and the base packages.
* checking for missing documentation entries ... OK
* checking for code/documentation mismatches ... OK
* checking Rd \usage sections ... NOTE
S3 methods shown with full name in Rd file 'plot.owlents.Rd':
  ‘plot.owlents’

The \usage entries for S3 methods should use the \method markup and not
their full name.
See chapter ‘Writing R documentation files’ in the ‘Writing R
Extensions’ manual.
* checking Rd contents ... OK
* checking for unstated dependencies in examples ... OK
* checking contents of ‘data’ directory ... OK
* checking data for non-ASCII characters ... OK
* checking data for ASCII and uncompressed saves ... OK
* checking files in ‘vignettes’ ... OK
* checking examples ... OK
Examples with CPU (user + system) or elapsed time > 5s
                                    user system elapsed
sym2CellOnto                     209.503  2.190 219.663
siblings_TAG                     121.941  1.794 125.106
cleanCLOnames                    107.006  1.606 140.121
nomenCheckup                      94.369  0.868  96.024
CLfeats                           81.557  7.425 114.481
getLeavesFromTerm                 59.677  1.017  61.647
fastGrep                          58.899  1.159  61.342
common_classes                    48.481  1.419  51.007
liberalMap                        45.819  0.518  46.706
onto_plot2                        44.559  0.673  45.581
findCommonAncestors               44.184  0.771  45.457
selectFromMap                     44.233  0.699  45.431
TermSet-class                     43.458  0.875  61.915
getOnto                           43.413  0.709  44.751
make_graphNEL_from_ontology_plot  43.306  0.648  44.496
secLevGen                         41.682  0.549  48.829
mapOneNaive                       41.223  0.533  42.198
ontoDiff                          12.248  0.602  13.521
graph2paths                        9.164  0.061   9.277
plot.owlents                       5.823  0.668  92.919
search_labels                      0.410  0.020  17.478
bioregistry_ols_resources          0.047  0.019  30.956
* checking for unstated dependencies in ‘tests’ ... OK
* checking tests ...
  Running ‘test.R’
 OK
* checking for unstated dependencies in vignettes ... OK
* checking package vignettes ... OK
* checking running R code from vignettes ... SKIPPED
* checking re-building of vignette outputs ... SKIPPED
* checking PDF version of manual ... OK
* DONE

Status: 4 NOTEs
See
  ‘/Users/biocbuild/bbs-3.22-bioc/meat/ontoProc.Rcheck/00check.log’
for details.


Installation output

ontoProc.Rcheck/00install.out

##############################################################################
##############################################################################
###
### Running command:
###
###   /Library/Frameworks/R.framework/Resources/bin/R CMD INSTALL ontoProc
###
##############################################################################
##############################################################################


* installing to library ‘/Library/Frameworks/R.framework/Versions/4.5-x86_64/Resources/library’
* installing *source* package ‘ontoProc’ ...
** this is package ‘ontoProc’ version ‘2.3.11’
** using staged installation
** R
** data
** inst
** byte-compile and prepare package for lazy loading
** help
*** installing help indices
** building package indices
** installing vignettes
** testing if installed package can be loaded from temporary location
** testing if installed package can be loaded from final location
** testing if installed package keeps a record of temporary installation path
* DONE (ontoProc)

Tests output

ontoProc.Rcheck/tests/test.Rout


R version 4.5.1 Patched (2025-09-10 r88807) -- "Great Square Root"
Copyright (C) 2025 The R Foundation for Statistical Computing
Platform: x86_64-apple-darwin20

R is free software and comes with ABSOLUTELY NO WARRANTY.
You are welcome to redistribute it under certain conditions.
Type 'license()' or 'licence()' for distribution details.

R is a collaborative project with many contributors.
Type 'contributors()' for more information and
'citation()' on how to cite R or R packages in publications.

Type 'demo()' for some demos, 'help()' for on-line help, or
'help.start()' for an HTML browser interface to help.
Type 'q()' to quit R.

> 
> library(ontoProc)
Loading required package: ontologyIndex
> library(testthat)
> 
> test_check("ontoProc")
[ FAIL 0 | WARN 0 | SKIP 0 | PASS 12 ]
> 
> 
> proc.time()
   user  system elapsed 
284.308   4.834 297.235 

Example timings

ontoProc.Rcheck/ontoProc-Ex.timings

nameusersystemelapsed
CLfeats 81.557 7.425114.481
PROSYM0.2800.0050.285
TermSet-class43.458 0.87561.915
allGOterms0.0880.0030.091
ancestors0.9010.5302.713
ancestors_names0.0070.0180.051
bioregistry_ols_resources 0.047 0.01930.956
cellTypeToGO2.1890.2663.430
children_names0.0050.0010.007
cleanCLOnames107.006 1.606140.121
common_classes48.481 1.41951.007
ctmarks000
cyclicSigset0.0050.0000.005
demoApp000
dropStop0.0490.0040.055
fastGrep58.899 1.15961.342
findCommonAncestors44.184 0.77145.457
formalize0.0010.0010.001
getLeavesFromTerm59.677 1.01761.647
getOnto43.413 0.70944.751
graph2paths9.1640.0619.277
humrna0.0070.0020.009
jowl2classgraph0.3470.0040.351
jowl2classgraph_nio0.7650.0080.778
labels.owlents0.0000.0010.000
ldfToTerms2.6490.0412.706
liberalMap45.819 0.51846.706
makeSelectInput0.0000.0000.001
make_graphNEL_from_ontology_plot43.306 0.64844.496
mapOneNaive41.223 0.53342.198
minicorpus0.0010.0020.003
nomenCheckup94.369 0.86896.024
ontoDiff12.248 0.60213.521
onto_plot244.559 0.67345.581
onto_roots0.0000.0000.001
owl2cache0.0210.0010.022
packDesc20190.0030.0020.005
packDesc20210.0030.0020.005
packDesc20220.0020.0020.004
packDesc20230.0020.0020.005
parents0.0050.0010.006
plot.owlents 5.823 0.66892.919
quickOnto0.3910.0280.422
recognizedPredicates000
search_labels 0.410 0.02017.478
secLevGen41.682 0.54948.829
selectFromMap44.233 0.69945.431
setup_entities0.0050.0010.007
setup_entities20.4080.0120.425
seur3kTab0.0030.0030.005
siblings_TAG121.941 1.794125.106
stopWords0.0010.0020.004
subclasses0.0050.0010.006
sym2CellOnto209.503 2.190219.663
valid_ontonames000