Back to Multiple platform build/check report for BioC 3.22:   simplified   long
ABCDEFGHIJKLMN[O]PQRSTUVWXYZ

This page was generated on 2025-10-25 12:03 -0400 (Sat, 25 Oct 2025).

HostnameOSArch (*)R versionInstalled pkgs
nebbiolo2Linux (Ubuntu 24.04.3 LTS)x86_644.5.1 Patched (2025-08-23 r88802) -- "Great Square Root" 4901
lconwaymacOS 12.7.6 Montereyx86_644.5.1 Patched (2025-09-10 r88807) -- "Great Square Root" 4691
kjohnson3macOS 13.7.7 Venturaarm644.5.1 Patched (2025-09-10 r88807) -- "Great Square Root" 4637
taishanLinux (openEuler 24.03 LTS)aarch644.5.0 (2025-04-11) -- "How About a Twenty-Six" 4658
Click on any hostname to see more info about the system (e.g. compilers)      (*) as reported by 'uname -p', except on Windows and Mac OS X

Package 1513/2361HostnameOS / ArchINSTALLBUILDCHECKBUILD BIN
ontoProc 2.3.11  (landing page)
Vincent Carey
Snapshot Date: 2025-10-24 13:45 -0400 (Fri, 24 Oct 2025)
git_url: https://git.bioconductor.org/packages/ontoProc
git_branch: devel
git_last_commit: 8aa7338
git_last_commit_date: 2025-10-08 11:44:19 -0400 (Wed, 08 Oct 2025)
nebbiolo2Linux (Ubuntu 24.04.3 LTS) / x86_64  OK    OK    OK  UNNEEDED, same version is already published
lconwaymacOS 12.7.6 Monterey / x86_64  OK    OK    OK    OK  UNNEEDED, same version is already published
kjohnson3macOS 13.7.7 Ventura / arm64  OK    OK    OK    OK  UNNEEDED, same version is already published
taishanLinux (openEuler 24.03 LTS) / aarch64  OK    NA    NA  


CHECK results for ontoProc on nebbiolo2

To the developers/maintainers of the ontoProc package:
- Allow up to 24 hours (and sometimes 48 hours) for your latest push to git@git.bioconductor.org:packages/ontoProc.git to reflect on this report. See Troubleshooting Build Report for more information.
- Use the following Renviron settings to reproduce errors and warnings.
- If 'R CMD check' started to fail recently on the Linux builder(s) over a missing dependency, add the missing dependency to 'Suggests:' in your DESCRIPTION file. See Renviron.bioc for more information.

raw results


Summary

Package: ontoProc
Version: 2.3.11
Command: /home/biocbuild/bbs-3.22-bioc/R/bin/R CMD check --install=check:ontoProc.install-out.txt --library=/home/biocbuild/bbs-3.22-bioc/R/site-library --timings ontoProc_2.3.11.tar.gz
StartedAt: 2025-10-25 02:23:00 -0400 (Sat, 25 Oct 2025)
EndedAt: 2025-10-25 03:01:17 -0400 (Sat, 25 Oct 2025)
EllapsedTime: 2296.5 seconds
RetCode: 0
Status:   OK  
CheckDir: ontoProc.Rcheck
Warnings: 0

Command output

##############################################################################
##############################################################################
###
### Running command:
###
###   /home/biocbuild/bbs-3.22-bioc/R/bin/R CMD check --install=check:ontoProc.install-out.txt --library=/home/biocbuild/bbs-3.22-bioc/R/site-library --timings ontoProc_2.3.11.tar.gz
###
##############################################################################
##############################################################################


* using log directory ‘/home/biocbuild/bbs-3.22-bioc/meat/ontoProc.Rcheck’
* using R version 4.5.1 Patched (2025-08-23 r88802)
* using platform: x86_64-pc-linux-gnu
* R was compiled by
    gcc (Ubuntu 13.3.0-6ubuntu2~24.04) 13.3.0
    GNU Fortran (Ubuntu 13.3.0-6ubuntu2~24.04) 13.3.0
* running under: Ubuntu 24.04.3 LTS
* using session charset: UTF-8
* checking for file ‘ontoProc/DESCRIPTION’ ... OK
* this is package ‘ontoProc’ version ‘2.3.11’
* package encoding: UTF-8
* checking package namespace information ... OK
* checking package dependencies ... OK
* checking if this is a source package ... OK
* checking if there is a namespace ... OK
* checking for hidden files and directories ... OK
* checking for portable file names ... OK
* checking for sufficient/correct file permissions ... OK
* checking whether package ‘ontoProc’ can be installed ... OK
* checking installed package size ... INFO
  installed size is 11.5Mb
  sub-directories of 1Mb or more:
    app       1.9Mb
    data      1.8Mb
    ontoRda   2.8Mb
    owl       3.8Mb
* checking package directory ... OK
* checking ‘build’ directory ... OK
* checking DESCRIPTION meta-information ... OK
* checking top-level files ... OK
* checking for left-over files ... OK
* checking index information ... OK
* checking package subdirectories ... OK
* checking code files for non-ASCII characters ... OK
* checking R files for syntax errors ... OK
* checking whether the package can be loaded ... OK
* checking whether the package can be loaded with stated dependencies ... OK
* checking whether the package can be unloaded cleanly ... OK
* checking whether the namespace can be loaded with stated dependencies ... OK
* checking whether the namespace can be unloaded cleanly ... OK
* checking loading without being on the library search path ... OK
* checking dependencies in R code ... NOTE
':::' call which should be '::': ‘ontologyPlot:::remove_uninformative_terms’
  See the note in ?`:::` about the use of this operator.
* checking S3 generic/method consistency ... OK
* checking replacement functions ... OK
* checking foreign function calls ... OK
* checking R code for possible problems ... NOTE
CLfeat : prupdate: no visible binding for global variable ‘PROSYM’
CLfeat : prupdate: no visible binding for global variable ‘PRID’
CLfeat : prupdate: no visible binding for global variable ‘SYMBOL’
ctmarks : server: no visible binding for global variable ‘text’
ctmarks : server: no visible binding for global variable ‘packDesc2022’
ctmarks : server: no visible binding for global variable ‘packDesc2021’
ctmarks: no visible binding for global variable ‘cumu’
dropStop: no visible binding for global variable ‘stopWords’
getOnto: no visible binding for global variable ‘rdatadateadded’
getOnto: no visible binding for global variable ‘title’
getOnto: no visible binding for global variable ‘description’
ldfToTerm: no visible binding for global variable ‘PROSYM’
sym2CellOnto: no visible binding for global variable ‘PROSYM’
sym2CellOnto: no visible binding for global variable ‘SYMBOL’
Undefined global functions or variables:
  PRID PROSYM SYMBOL cumu description packDesc2021 packDesc2022
  rdatadateadded stopWords text title
Consider adding
  importFrom("graphics", "text", "title")
to your NAMESPACE file.
* checking Rd files ... OK
* checking Rd metadata ... OK
* checking Rd cross-references ... NOTE
Found the following Rd file(s) with Rd \link{} targets missing package
anchors:
  findCommonAncestors.Rd: graph, DataFrame-class, List-class
Please provide package anchors for all Rd \link{} targets not in the
package itself and the base packages.
* checking for missing documentation entries ... OK
* checking for code/documentation mismatches ... OK
* checking Rd \usage sections ... NOTE
S3 methods shown with full name in Rd file 'plot.owlents.Rd':
  ‘plot.owlents’

The \usage entries for S3 methods should use the \method markup and not
their full name.
See chapter ‘Writing R documentation files’ in the ‘Writing R
Extensions’ manual.
* checking Rd contents ... OK
* checking for unstated dependencies in examples ... OK
* checking contents of ‘data’ directory ... OK
* checking data for non-ASCII characters ... OK
* checking data for ASCII and uncompressed saves ... OK
* checking files in ‘vignettes’ ... OK
* checking examples ... OK
Examples with CPU (user + system) or elapsed time > 5s
                                    user system elapsed
sym2CellOnto                     206.795  6.852 214.241
cleanCLOnames                    124.624  3.506 145.473
siblings_TAG                     119.765  6.473 127.300
fastGrep                          87.261  7.854 112.374
nomenCheckup                      84.919  0.700  85.888
common_classes                    74.918  8.986 106.178
CLfeats                           63.715  1.916  66.700
findCommonAncestors               56.654  1.904  65.657
liberalMap                        55.812  2.363  64.271
getLeavesFromTerm                 54.463  1.669  56.400
getOnto                           50.076  2.107  53.734
make_graphNEL_from_ontology_plot  41.890  1.772  44.029
selectFromMap                     41.738  1.674  43.697
secLevGen                         41.291  1.698  43.333
mapOneNaive                       41.627  0.797  42.740
onto_plot2                        39.539  2.458  42.267
TermSet-class                     39.482  0.751  40.558
ontoDiff                          13.590  2.588  16.825
graph2paths                        9.974  0.230  10.203
plot.owlents                       4.755  0.290  75.910
search_labels                      0.439  0.027  14.387
bioregistry_ols_resources          0.075  0.019  11.890
* checking for unstated dependencies in ‘tests’ ... OK
* checking tests ...
  Running ‘test.R’
 OK
* checking for unstated dependencies in vignettes ... OK
* checking package vignettes ... OK
* checking re-building of vignette outputs ... OK
* checking PDF version of manual ... OK
* DONE

Status: 4 NOTEs
See
  ‘/home/biocbuild/bbs-3.22-bioc/meat/ontoProc.Rcheck/00check.log’
for details.


Installation output

ontoProc.Rcheck/00install.out

##############################################################################
##############################################################################
###
### Running command:
###
###   /home/biocbuild/bbs-3.22-bioc/R/bin/R CMD INSTALL ontoProc
###
##############################################################################
##############################################################################


* installing to library ‘/home/biocbuild/bbs-3.22-bioc/R/site-library’
* installing *source* package ‘ontoProc’ ...
** this is package ‘ontoProc’ version ‘2.3.11’
** using staged installation
** R
** data
** inst
** byte-compile and prepare package for lazy loading
** help
*** installing help indices
** building package indices
** installing vignettes
** testing if installed package can be loaded from temporary location
** testing if installed package can be loaded from final location
** testing if installed package keeps a record of temporary installation path
* DONE (ontoProc)

Tests output

ontoProc.Rcheck/tests/test.Rout


R version 4.5.1 Patched (2025-08-23 r88802) -- "Great Square Root"
Copyright (C) 2025 The R Foundation for Statistical Computing
Platform: x86_64-pc-linux-gnu

R is free software and comes with ABSOLUTELY NO WARRANTY.
You are welcome to redistribute it under certain conditions.
Type 'license()' or 'licence()' for distribution details.

R is a collaborative project with many contributors.
Type 'contributors()' for more information and
'citation()' on how to cite R or R packages in publications.

Type 'demo()' for some demos, 'help()' for on-line help, or
'help.start()' for an HTML browser interface to help.
Type 'q()' to quit R.

> 
> library(ontoProc)
Loading required package: ontologyIndex
> library(testthat)
> 
> test_check("ontoProc")
[ FAIL 0 | WARN 0 | SKIP 0 | PASS 12 ]
> 
> 
> proc.time()
   user  system elapsed 
259.061   7.985 269.106 

Example timings

ontoProc.Rcheck/ontoProc-Ex.timings

nameusersystemelapsed
CLfeats63.715 1.91666.700
PROSYM0.2340.0020.236
TermSet-class39.482 0.75140.558
allGOterms0.0970.0020.099
ancestors0.6250.1120.661
ancestors_names0.0120.0020.007
bioregistry_ols_resources 0.075 0.01911.890
cellTypeToGO1.7950.1861.982
children_names0.0050.0000.006
cleanCLOnames124.624 3.506145.473
common_classes 74.918 8.986106.178
ctmarks0.0000.0010.001
cyclicSigset0.0250.0040.028
demoApp000
dropStop0.0100.0070.018
fastGrep 87.261 7.854112.374
findCommonAncestors56.654 1.90465.657
formalize000
getLeavesFromTerm54.463 1.66956.400
getOnto50.076 2.10753.734
graph2paths 9.974 0.23010.203
humrna0.0060.0010.007
jowl2classgraph0.3360.0000.336
jowl2classgraph_nio0.7270.0010.727
labels.owlents000
ldfToTerms3.1370.0323.173
liberalMap55.812 2.36364.271
makeSelectInput0.0000.0000.001
make_graphNEL_from_ontology_plot41.890 1.77244.029
mapOneNaive41.627 0.79742.740
minicorpus0.0000.0010.001
nomenCheckup84.919 0.70085.888
ontoDiff13.590 2.58816.825
onto_plot239.539 2.45842.267
onto_roots0.0000.0000.001
owl2cache0.0250.0030.029
packDesc20190.0030.0010.003
packDesc20210.0010.0010.003
packDesc20220.0020.0000.003
packDesc20230.0020.0000.003
parents0.0040.0010.005
plot.owlents 4.755 0.29075.910
quickOnto0.3910.0250.416
recognizedPredicates000
search_labels 0.439 0.02714.387
secLevGen41.291 1.69843.333
selectFromMap41.738 1.67443.697
setup_entities0.0050.0020.007
setup_entities20.3910.0080.399
seur3kTab0.0020.0000.005
siblings_TAG119.765 6.473127.300
stopWords0.0000.0010.002
subclasses0.0040.0020.006
sym2CellOnto206.795 6.852214.241
valid_ontonames000